BEGIN:VCALENDAR
VERSION:2.0
PRODID:PHP
METHOD:REQUEST
X-ORIGINAL-URL:https://stage.kickern-hamburg.de/verband/spielorte?task=spielort_begegnungen_ical&id=96
X-WR-CALNAME;VALUE=TEXT:Silpion IT Solution GmbH
BEGIN:VEVENT
CLASS:PUBLIC
DTSTART:20250516T180000Z
DURATION:PT2H30M
STATUS:CONFIRMED
SUMMARY:3. Herren Silpion (NR) vs. HSV BAMbole (NR)
DESCRIPTION:2.Liga, Gruppe B (14. Spieltag)\nErgebnis: 15:17 (74:76)
LOCATION:Silpion IT Solution GmbH, Brandshofer Deich 48, 20539 Hamburg-Rothenburgsort
UID:SM-B16758@stage.kickern-hamburg.de
PRIORITY:5
SEQUENCE:1
CATEGORIES:SPORT
DTSTAMP:20260423T114706
END:VEVENT
BEGIN:VEVENT
CLASS:PUBLIC
DTSTART:20250613T180000Z
DURATION:PT2H30M
STATUS:CONFIRMED
SUMMARY:3. Herren Silpion (NR) vs. Fightclub FC St. Pauli II
DESCRIPTION:2.Liga, Gruppe B (16. Spieltag)\nErgebnis: 8:24 (61:86)
LOCATION:Silpion IT Solution GmbH, Brandshofer Deich 48, 20539 Hamburg-Rothenburgsort
UID:SM-B16778@stage.kickern-hamburg.de
PRIORITY:5
SEQUENCE:1
CATEGORIES:SPORT
DTSTAMP:20260423T114706
END:VEVENT
BEGIN:VEVENT
CLASS:PUBLIC
DTSTART:20250718T180000Z
DURATION:PT2H30M
STATUS:CONFIRMED
SUMMARY:3. Herren Silpion (NR) vs. WunderBars (NR)
DESCRIPTION:2.Liga, Gruppe B (18. Spieltag)\nErgebnis: 15:17 (73:76)
LOCATION:Silpion IT Solution GmbH, Brandshofer Deich 48, 20539 Hamburg-Rothenburgsort
UID:SM-B16796@stage.kickern-hamburg.de
PRIORITY:5
SEQUENCE:1
CATEGORIES:SPORT
DTSTAMP:20260423T114706
END:VEVENT
BEGIN:VEVENT
CLASS:PUBLIC
DTSTART:20250926T180000Z
DURATION:PT2H30M
STATUS:CONFIRMED
SUMMARY:3. Herren Silpion II (NR) vs. FC Joy
DESCRIPTION:3. Liga, Gruppe A (2. Spieltag)\nErgebnis: 21:11 (82:66)
LOCATION:Silpion IT Solution GmbH, Brandshofer Deich 48, 20539 Hamburg-Rothenburgsort
UID:SM-B17834@stage.kickern-hamburg.de
PRIORITY:5
SEQUENCE:1
CATEGORIES:SPORT
DTSTAMP:20260423T114706
END:VEVENT
BEGIN:VEVENT
CLASS:PUBLIC
DTSTART:20251107T190000Z
DURATION:PT2H30M
STATUS:CONFIRMED
SUMMARY:3. Herren Silpion II (NR) vs. Team St. Pauli 05
DESCRIPTION:3. Liga, Gruppe A (4. Spieltag)
LOCATION:Silpion IT Solution GmbH, Brandshofer Deich 48, 20539 Hamburg-Rothenburgsort
UID:SM-B17852@stage.kickern-hamburg.de
PRIORITY:5
SEQUENCE:0
CATEGORIES:SPORT
DTSTAMP:20260423T114706
END:VEVENT
BEGIN:VEVENT
CLASS:PUBLIC
DTSTART:20251205T190000Z
DURATION:PT2H30M
STATUS:CONFIRMED
SUMMARY:3. Herren Silpion II (NR) vs. FC St. Pauli Kicker der Kokosnuss (NR)
DESCRIPTION:3. Liga, Gruppe A (6. Spieltag)
LOCATION:Silpion IT Solution GmbH, Brandshofer Deich 48, 20539 Hamburg-Rothenburgsort
UID:SM-B17872@stage.kickern-hamburg.de
PRIORITY:5
SEQUENCE:0
CATEGORIES:SPORT
DTSTAMP:20260423T114706
END:VEVENT
BEGIN:VEVENT
CLASS:PUBLIC
DTSTART:20260123T190000Z
DURATION:PT2H30M
STATUS:CONFIRMED
SUMMARY:3. Herren Silpion II (NR) vs. HSV Torschmuggler (NR)
DESCRIPTION:3. Liga, Gruppe A (8. Spieltag)
LOCATION:Silpion IT Solution GmbH, Brandshofer Deich 48, 20539 Hamburg-Rothenburgsort
UID:SM-B17892@stage.kickern-hamburg.de
PRIORITY:5
SEQUENCE:0
CATEGORIES:SPORT
DTSTAMP:20260423T114706
END:VEVENT
BEGIN:VEVENT
CLASS:PUBLIC
DTSTART:20260220T190000Z
DURATION:PT2H30M
STATUS:CONFIRMED
SUMMARY:3. Herren Silpion II (NR) vs. Kickeronis (NR)
DESCRIPTION:3. Liga, Gruppe A (10. Spieltag)
LOCATION:Silpion IT Solution GmbH, Brandshofer Deich 48, 20539 Hamburg-Rothenburgsort
UID:SM-B17825@stage.kickern-hamburg.de
PRIORITY:5
SEQUENCE:0
CATEGORIES:SPORT
DTSTAMP:20260423T114706
END:VEVENT
BEGIN:VEVENT
CLASS:PUBLIC
DTSTART:20260403T180000Z
DURATION:PT2H30M
STATUS:CONFIRMED
SUMMARY:3. Herren Silpion II (NR) vs. FC St. Pauli Kneipenstyle
DESCRIPTION:3. Liga, Gruppe A (12. Spieltag)
LOCATION:Silpion IT Solution GmbH, Brandshofer Deich 48, 20539 Hamburg-Rothenburgsort
UID:SM-B17843@stage.kickern-hamburg.de
PRIORITY:5
SEQUENCE:0
CATEGORIES:SPORT
DTSTAMP:20260423T114706
END:VEVENT
BEGIN:VEVENT
CLASS:PUBLIC
DTSTART:20260501T180000Z
DURATION:PT2H30M
STATUS:CONFIRMED
SUMMARY:3. Herren Silpion II (NR) vs. Fuchs AG (NR)
DESCRIPTION:3. Liga, Gruppe A (14. Spieltag)
LOCATION:Silpion IT Solution GmbH, Brandshofer Deich 48, 20539 Hamburg-Rothenburgsort
UID:SM-B17863@stage.kickern-hamburg.de
PRIORITY:5
SEQUENCE:0
CATEGORIES:SPORT
DTSTAMP:20260423T114706
END:VEVENT
BEGIN:VEVENT
CLASS:PUBLIC
DTSTART:20260605T180000Z
DURATION:PT2H30M
STATUS:CONFIRMED
SUMMARY:3. Herren Silpion II (NR) vs. Schorsch
DESCRIPTION:3. Liga, Gruppe A (16. Spieltag)
LOCATION:Silpion IT Solution GmbH, Brandshofer Deich 48, 20539 Hamburg-Rothenburgsort
UID:SM-B17883@stage.kickern-hamburg.de
PRIORITY:5
SEQUENCE:0
CATEGORIES:SPORT
DTSTAMP:20260423T114706
END:VEVENT
BEGIN:VEVENT
CLASS:PUBLIC
DTSTART:20260703T180000Z
DURATION:PT2H30M
STATUS:CONFIRMED
SUMMARY:3. Herren Silpion II (NR) vs. Torfabrik Silpion (NR)
DESCRIPTION:3. Liga, Gruppe A (18. Spieltag)
LOCATION:Silpion IT Solution GmbH, Brandshofer Deich 48, 20539 Hamburg-Rothenburgsort
UID:SM-B17905@stage.kickern-hamburg.de
PRIORITY:5
SEQUENCE:0
CATEGORIES:SPORT
DTSTAMP:20260423T114706
END:VEVENT
END:VCALENDAR
