BEGIN:VCALENDAR
VERSION:2.0
PRODID:PHP
METHOD:REQUEST
X-ORIGINAL-URL:https://stage.kickern-hamburg.de/verband/spielorte?task=spielort_begegnungen_ical&id=70
X-WR-CALNAME;VALUE=TEXT:HSV Tischfußball Sportzentrum
BEGIN:VEVENT
CLASS:PUBLIC
DTSTART:20250422T173000Z
DURATION:PT2H30M
STATUS:CONFIRMED
SUMMARY:HSV Norderstedt (NR) vs. Von der Stange
DESCRIPTION:3.Liga, Gruppe C (13. Spieltag)\nErgebnis: 8:24 (56:84)
LOCATION:HSV Tischfußball Sportzentrum, Ulzburger Strasse 94, 22850 Norderstedt
UID:SM-B15997@stage.kickern-hamburg.de
PRIORITY:5
SEQUENCE:1
CATEGORIES:SPORT
DTSTAMP:20260423T114715
END:VEVENT
BEGIN:VEVENT
CLASS:PUBLIC
DTSTART:20250429T180000Z
DURATION:PT2H30M
STATUS:CONFIRMED
SUMMARY:HSV Torschmuggler (NR) vs. Die Ilohhminauten FC St. Pauli
DESCRIPTION:3.Liga, Gruppe D (13. Spieltag)\nErgebnis: 14:18 (71:74)
LOCATION:HSV Tischfußball Sportzentrum, Ulzburger Strasse 94, 22850 Norderstedt
UID:SM-B16085@stage.kickern-hamburg.de
PRIORITY:5
SEQUENCE:1
CATEGORIES:SPORT
DTSTAMP:20260423T114715
END:VEVENT
BEGIN:VEVENT
CLASS:PUBLIC
DTSTART:20250513T180000Z
DURATION:PT2H30M
STATUS:CONFIRMED
SUMMARY:HSV Torschmuggler (NR) vs. Partisan Pinshot (NR)
DESCRIPTION:3.Liga, Gruppe D (14. Spieltag)\nErgebnis: 13:19 (67:74)
LOCATION:HSV Tischfußball Sportzentrum, Ulzburger Strasse 94, 22850 Norderstedt
UID:SM-B16103@stage.kickern-hamburg.de
PRIORITY:5
SEQUENCE:1
CATEGORIES:SPORT
DTSTAMP:20260423T114715
END:VEVENT
BEGIN:VEVENT
CLASS:PUBLIC
DTSTART:20250527T173000Z
DURATION:PT2H30M
STATUS:CONFIRMED
SUMMARY:HSV Norderstedt (NR) vs. FC St. Pauli Shooting Stars
DESCRIPTION:3.Liga, Gruppe C (15. Spieltag)\nErgebnis: 11:21 (67:78)
LOCATION:HSV Tischfußball Sportzentrum, Ulzburger Strasse 94, 22850 Norderstedt
UID:SM-B16021@stage.kickern-hamburg.de
PRIORITY:5
SEQUENCE:1
CATEGORIES:SPORT
DTSTAMP:20260423T114715
END:VEVENT
BEGIN:VEVENT
CLASS:PUBLIC
DTSTART:20250701T173000Z
DURATION:PT2H30M
STATUS:CONFIRMED
SUMMARY:HSV Norderstedt (NR) vs. Torfabrik Silpion (NR)
DESCRIPTION:3.Liga, Gruppe C (17. Spieltag)\nErgebnis: 17:15 (74:71)
LOCATION:HSV Tischfußball Sportzentrum, Ulzburger Strasse 94, 22850 Norderstedt
UID:SM-B16035@stage.kickern-hamburg.de
PRIORITY:5
SEQUENCE:1
CATEGORIES:SPORT
DTSTAMP:20260423T114715
END:VEVENT
BEGIN:VEVENT
CLASS:PUBLIC
DTSTART:20250701T180000Z
DURATION:PT2H30M
STATUS:CONFIRMED
SUMMARY:HSV Torschmuggler (NR) vs. Deine Mudda (NR)
DESCRIPTION:3.Liga, Gruppe D (17. Spieltag)\nErgebnis: 25:7 (89:57)
LOCATION:HSV Tischfußball Sportzentrum, Ulzburger Strasse 94, 22850 Norderstedt
UID:SM-B16127@stage.kickern-hamburg.de
PRIORITY:5
SEQUENCE:1
CATEGORIES:SPORT
DTSTAMP:20260423T114715
END:VEVENT
BEGIN:VEVENT
CLASS:PUBLIC
DTSTART:20250909T180000Z
DURATION:PT2H30M
STATUS:CONFIRMED
SUMMARY:HSV Torschmuggler (NR) vs. Schorsch
DESCRIPTION:3. Liga, Gruppe A (1. Spieltag)\nErgebnis: 23:9 (84:53)
LOCATION:HSV Tischfußball Sportzentrum, Ulzburger Strasse 94, 22850 Norderstedt
UID:SM-B17818@stage.kickern-hamburg.de
PRIORITY:5
SEQUENCE:1
CATEGORIES:SPORT
DTSTAMP:20260423T114715
END:VEVENT
BEGIN:VEVENT
CLASS:PUBLIC
DTSTART:20250910T173000Z
DURATION:PT2H30M
STATUS:CONFIRMED
SUMMARY:HSV Legenden vs. Bordsteinkraken
DESCRIPTION:4. Liga, Gruppe A (1. Spieltag)\nErgebnis: 21:11 (84:66)
LOCATION:HSV Tischfußball Sportzentrum, Ulzburger Strasse 94, 22850 Norderstedt
UID:SM-B18086@stage.kickern-hamburg.de
PRIORITY:5
SEQUENCE:1
CATEGORIES:SPORT
DTSTAMP:20260423T114715
END:VEVENT
BEGIN:VEVENT
CLASS:PUBLIC
DTSTART:20250916T180000Z
DURATION:PT2H30M
STATUS:CONFIRMED
SUMMARY:HSV Schießbude (NR) vs. Von der Stange
DESCRIPTION:3. Liga, Gruppe C (1. Spieltag)\nErgebnis: 7:25 (59:88)
LOCATION:HSV Tischfußball Sportzentrum, Ulzburger Strasse 94, 22850 Norderstedt
UID:SM-B17996@stage.kickern-hamburg.de
PRIORITY:5
SEQUENCE:1
CATEGORIES:SPORT
DTSTAMP:20260423T114715
END:VEVENT
BEGIN:VEVENT
CLASS:PUBLIC
DTSTART:20251007T180000Z
DURATION:PT2H30M
STATUS:CONFIRMED
SUMMARY:HSV Schießbude (NR) vs. Boltens
DESCRIPTION:3. Liga, Gruppe C (3. Spieltag)\nErgebnis: 15:17 (70:73)
LOCATION:HSV Tischfußball Sportzentrum, Ulzburger Strasse 94, 22850 Norderstedt
UID:SM-B18016@stage.kickern-hamburg.de
PRIORITY:5
SEQUENCE:1
CATEGORIES:SPORT
DTSTAMP:20260423T114715
END:VEVENT
BEGIN:VEVENT
CLASS:PUBLIC
DTSTART:20251007T180000Z
DURATION:PT2H30M
STATUS:CONFIRMED
SUMMARY:HSV Torschmuggler (NR) vs. Von der Stange
DESCRIPTION:Landespokal (1. Runde)\nErgebnis: 18:20 (90:87)
LOCATION:HSV Tischfußball Sportzentrum, Ulzburger Strasse 94, 22850 Norderstedt
UID:SM-B18309@stage.kickern-hamburg.de
PRIORITY:5
SEQUENCE:1
CATEGORIES:SPORT
DTSTAMP:20260423T114715
END:VEVENT
BEGIN:VEVENT
CLASS:PUBLIC
DTSTART:20251008T173000Z
DURATION:PT2H30M
STATUS:CONFIRMED
SUMMARY:HSV Legenden vs. Phoenix (NR)
DESCRIPTION:Landespokal (1. Runde)\nErgebnis: 7:25 (55:88)
LOCATION:HSV Tischfußball Sportzentrum, Ulzburger Strasse 94, 22850 Norderstedt
UID:SM-B18319@stage.kickern-hamburg.de
PRIORITY:5
SEQUENCE:1
CATEGORIES:SPORT
DTSTAMP:20260423T114715
END:VEVENT
BEGIN:VEVENT
CLASS:PUBLIC
DTSTART:20251015T173000Z
DURATION:PT2H30M
STATUS:CONFIRMED
SUMMARY:HSV Legenden vs. Likedeeler FC St. Pauli
DESCRIPTION:4. Liga, Gruppe A (3. Spieltag)\nErgebnis: 19:13 (80:69)
LOCATION:HSV Tischfußball Sportzentrum, Ulzburger Strasse 94, 22850 Norderstedt
UID:SM-B18098@stage.kickern-hamburg.de
PRIORITY:5
SEQUENCE:1
CATEGORIES:SPORT
DTSTAMP:20260423T114715
END:VEVENT
BEGIN:VEVENT
CLASS:PUBLIC
DTSTART:20251104T190000Z
DURATION:PT2H30M
STATUS:CONFIRMED
SUMMARY:HSV Torschmuggler (NR) vs. Torfabrik Silpion (NR)
DESCRIPTION:3. Liga, Gruppe A (4. Spieltag)
LOCATION:HSV Tischfußball Sportzentrum, Ulzburger Strasse 94, 22850 Norderstedt
UID:SM-B17846@stage.kickern-hamburg.de
PRIORITY:5
SEQUENCE:0
CATEGORIES:SPORT
DTSTAMP:20260423T114715
END:VEVENT
BEGIN:VEVENT
CLASS:PUBLIC
DTSTART:20251118T190000Z
DURATION:PT2H30M
STATUS:CONFIRMED
SUMMARY:HSV Schießbude (NR) vs. Exorbitanter Schabernack
DESCRIPTION:3. Liga, Gruppe C (5. Spieltag)
LOCATION:HSV Tischfußball Sportzentrum, Ulzburger Strasse 94, 22850 Norderstedt
UID:SM-B18036@stage.kickern-hamburg.de
PRIORITY:5
SEQUENCE:0
CATEGORIES:SPORT
DTSTAMP:20260423T114715
END:VEVENT
BEGIN:VEVENT
CLASS:PUBLIC
DTSTART:20251118T190000Z
DURATION:PT2H30M
STATUS:CONFIRMED
SUMMARY:HSV Torschmuggler (NR) vs. Kickeronis (NR)
DESCRIPTION:3. Liga, Gruppe A (5. Spieltag)
LOCATION:HSV Tischfußball Sportzentrum, Ulzburger Strasse 94, 22850 Norderstedt
UID:SM-B17860@stage.kickern-hamburg.de
PRIORITY:5
SEQUENCE:0
CATEGORIES:SPORT
DTSTAMP:20260423T114715
END:VEVENT
BEGIN:VEVENT
CLASS:PUBLIC
DTSTART:20260106T190000Z
DURATION:PT2H30M
STATUS:CONFIRMED
SUMMARY:HSV Schießbude (NR) vs. VFT Reflektorschirm Hamburg
DESCRIPTION:3. Liga, Gruppe C (7. Spieltag)
LOCATION:HSV Tischfußball Sportzentrum, Ulzburger Strasse 94, 22850 Norderstedt
UID:SM-B18056@stage.kickern-hamburg.de
PRIORITY:5
SEQUENCE:0
CATEGORIES:SPORT
DTSTAMP:20260423T114715
END:VEVENT
BEGIN:VEVENT
CLASS:PUBLIC
DTSTART:20260106T190000Z
DURATION:PT2H30M
STATUS:CONFIRMED
SUMMARY:HSV Torschmuggler (NR) vs. Fuchs AG (NR)
DESCRIPTION:3. Liga, Gruppe A (7. Spieltag)
LOCATION:HSV Tischfußball Sportzentrum, Ulzburger Strasse 94, 22850 Norderstedt
UID:SM-B17884@stage.kickern-hamburg.de
PRIORITY:5
SEQUENCE:0
CATEGORIES:SPORT
DTSTAMP:20260423T114715
END:VEVENT
BEGIN:VEVENT
CLASS:PUBLIC
DTSTART:20260107T183000Z
DURATION:PT2H30M
STATUS:CONFIRMED
SUMMARY:HSV Legenden vs. WPS
DESCRIPTION:4. Liga, Gruppe A (7. Spieltag)
LOCATION:HSV Tischfußball Sportzentrum, Ulzburger Strasse 94, 22850 Norderstedt
UID:SM-B18122@stage.kickern-hamburg.de
PRIORITY:5
SEQUENCE:0
CATEGORIES:SPORT
DTSTAMP:20260423T114715
END:VEVENT
BEGIN:VEVENT
CLASS:PUBLIC
DTSTART:20260203T190000Z
DURATION:PT2H30M
STATUS:CONFIRMED
SUMMARY:HSV Schießbude (NR) vs. FC St. Pauli Shooting Stars
DESCRIPTION:3. Liga, Gruppe C (9. Spieltag)
LOCATION:HSV Tischfußball Sportzentrum, Ulzburger Strasse 94, 22850 Norderstedt
UID:SM-B18078@stage.kickern-hamburg.de
PRIORITY:5
SEQUENCE:0
CATEGORIES:SPORT
DTSTAMP:20260423T114715
END:VEVENT
BEGIN:VEVENT
CLASS:PUBLIC
DTSTART:20260203T190000Z
DURATION:PT2H30M
STATUS:CONFIRMED
SUMMARY:HSV Torschmuggler (NR) vs. Team St. Pauli 05
DESCRIPTION:3. Liga, Gruppe A (9. Spieltag)
LOCATION:HSV Tischfußball Sportzentrum, Ulzburger Strasse 94, 22850 Norderstedt
UID:SM-B17900@stage.kickern-hamburg.de
PRIORITY:5
SEQUENCE:0
CATEGORIES:SPORT
DTSTAMP:20260423T114715
END:VEVENT
BEGIN:VEVENT
CLASS:PUBLIC
DTSTART:20260317T190000Z
DURATION:PT2H30M
STATUS:CONFIRMED
SUMMARY:HSV Schießbude (NR) vs. Kellerkicker Bergedorf
DESCRIPTION:3. Liga, Gruppe C (11. Spieltag)
LOCATION:HSV Tischfußball Sportzentrum, Ulzburger Strasse 94, 22850 Norderstedt
UID:SM-B18007@stage.kickern-hamburg.de
PRIORITY:5
SEQUENCE:0
CATEGORIES:SPORT
DTSTAMP:20260423T114715
END:VEVENT
BEGIN:VEVENT
CLASS:PUBLIC
DTSTART:20260317T190000Z
DURATION:PT2H30M
STATUS:CONFIRMED
SUMMARY:HSV Torschmuggler (NR) vs. FC St. Pauli Kicker der Kokosnuss (NR)
DESCRIPTION:3. Liga, Gruppe A (11. Spieltag)
LOCATION:HSV Tischfußball Sportzentrum, Ulzburger Strasse 94, 22850 Norderstedt
UID:SM-B17827@stage.kickern-hamburg.de
PRIORITY:5
SEQUENCE:0
CATEGORIES:SPORT
DTSTAMP:20260423T114715
END:VEVENT
BEGIN:VEVENT
CLASS:PUBLIC
DTSTART:20260318T183000Z
DURATION:PT2H30M
STATUS:CONFIRMED
SUMMARY:HSV Legenden vs. Southside Kickers (NR)
DESCRIPTION:4. Liga, Gruppe A (11. Spieltag)
LOCATION:HSV Tischfußball Sportzentrum, Ulzburger Strasse 94, 22850 Norderstedt
UID:SM-B18105@stage.kickern-hamburg.de
PRIORITY:5
SEQUENCE:0
CATEGORIES:SPORT
DTSTAMP:20260423T114715
END:VEVENT
BEGIN:VEVENT
CLASS:PUBLIC
DTSTART:20260331T180000Z
DURATION:PT2H30M
STATUS:CONFIRMED
SUMMARY:HSV Torschmuggler (NR) vs. FC Joy
DESCRIPTION:3. Liga, Gruppe A (12. Spieltag)
LOCATION:HSV Tischfußball Sportzentrum, Ulzburger Strasse 94, 22850 Norderstedt
UID:SM-B17837@stage.kickern-hamburg.de
PRIORITY:5
SEQUENCE:0
CATEGORIES:SPORT
DTSTAMP:20260423T114715
END:VEVENT
BEGIN:VEVENT
CLASS:PUBLIC
DTSTART:20260414T180000Z
DURATION:PT2H30M
STATUS:CONFIRMED
SUMMARY:HSV Schießbude (NR) vs. Fellow Unicorns
DESCRIPTION:3. Liga, Gruppe C (13. Spieltag)
LOCATION:HSV Tischfußball Sportzentrum, Ulzburger Strasse 94, 22850 Norderstedt
UID:SM-B18035@stage.kickern-hamburg.de
PRIORITY:5
SEQUENCE:0
CATEGORIES:SPORT
DTSTAMP:20260423T114715
END:VEVENT
BEGIN:VEVENT
CLASS:PUBLIC
DTSTART:20260415T173000Z
DURATION:PT2H30M
STATUS:CONFIRMED
SUMMARY:HSV Legenden vs. Substanz P
DESCRIPTION:4. Liga, Gruppe A (13. Spieltag)
LOCATION:HSV Tischfußball Sportzentrum, Ulzburger Strasse 94, 22850 Norderstedt
UID:SM-B18119@stage.kickern-hamburg.de
PRIORITY:5
SEQUENCE:0
CATEGORIES:SPORT
DTSTAMP:20260423T114715
END:VEVENT
BEGIN:VEVENT
CLASS:PUBLIC
DTSTART:20260519T180000Z
DURATION:PT2H30M
STATUS:CONFIRMED
SUMMARY:HSV Schießbude (NR) vs. Partisan Pinshot (NR)
DESCRIPTION:3. Liga, Gruppe C (15. Spieltag)
LOCATION:HSV Tischfußball Sportzentrum, Ulzburger Strasse 94, 22850 Norderstedt
UID:SM-B18053@stage.kickern-hamburg.de
PRIORITY:5
SEQUENCE:0
CATEGORIES:SPORT
DTSTAMP:20260423T114715
END:VEVENT
BEGIN:VEVENT
CLASS:PUBLIC
DTSTART:20260519T180000Z
DURATION:PT2H30M
STATUS:CONFIRMED
SUMMARY:HSV Torschmuggler (NR) vs. FC St. Pauli Kneipenstyle
DESCRIPTION:3. Liga, Gruppe A (15. Spieltag)
LOCATION:HSV Tischfußball Sportzentrum, Ulzburger Strasse 94, 22850 Norderstedt
UID:SM-B17869@stage.kickern-hamburg.de
PRIORITY:5
SEQUENCE:0
CATEGORIES:SPORT
DTSTAMP:20260423T114715
END:VEVENT
BEGIN:VEVENT
CLASS:PUBLIC
DTSTART:20260616T180000Z
DURATION:PT2H30M
STATUS:CONFIRMED
SUMMARY:HSV Schießbude (NR) vs. Roter Stern Kickers 1 (NR)
DESCRIPTION:3. Liga, Gruppe C (17. Spieltag)
LOCATION:HSV Tischfußball Sportzentrum, Ulzburger Strasse 94, 22850 Norderstedt
UID:SM-B18067@stage.kickern-hamburg.de
PRIORITY:5
SEQUENCE:0
CATEGORIES:SPORT
DTSTAMP:20260423T114715
END:VEVENT
BEGIN:VEVENT
CLASS:PUBLIC
DTSTART:20260616T180000Z
DURATION:PT2H30M
STATUS:CONFIRMED
SUMMARY:HSV Torschmuggler (NR) vs. 3. Herren Silpion II (NR)
DESCRIPTION:3. Liga, Gruppe A (17. Spieltag)
LOCATION:HSV Tischfußball Sportzentrum, Ulzburger Strasse 94, 22850 Norderstedt
UID:SM-B17893@stage.kickern-hamburg.de
PRIORITY:5
SEQUENCE:0
CATEGORIES:SPORT
DTSTAMP:20260423T114715
END:VEVENT
END:VCALENDAR
