BEGIN:VCALENDAR
VERSION:2.0
PRODID:PHP
METHOD:REQUEST
X-ORIGINAL-URL:https://stage.kickern-hamburg.de/verband/spielorte?task=spielort_begegnungen_ical&id=115
X-WR-CALNAME;VALUE=TEXT:Bambi Bar
BEGIN:VEVENT
CLASS:PUBLIC
DTSTART:20250422T180000Z
DURATION:PT2H30M
STATUS:CONFIRMED
SUMMARY:Nen Rudel Gurken vs. Dynamo & Durchstarters Grete
DESCRIPTION:3.Liga, Gruppe A (13. Spieltag)\nErgebnis: 21:11 (80:62)
LOCATION:Bambi Bar, Hamburger Berg 14, 20359 Hamburg
UID:SM-B16363@stage.kickern-hamburg.de
PRIORITY:5
SEQUENCE:1
CATEGORIES:SPORT
DTSTAMP:20260423T115347
END:VEVENT
BEGIN:VEVENT
CLASS:PUBLIC
DTSTART:20250520T180000Z
DURATION:PT2H30M
STATUS:CONFIRMED
SUMMARY:Nen Rudel Gurken vs. FC Joy
DESCRIPTION:3.Liga, Gruppe A (15. Spieltag)\nErgebnis: 12:20 (65:80)
LOCATION:Bambi Bar, Hamburger Berg 14, 20359 Hamburg
UID:SM-B16383@stage.kickern-hamburg.de
PRIORITY:5
SEQUENCE:1
CATEGORIES:SPORT
DTSTAMP:20260423T115347
END:VEVENT
BEGIN:VEVENT
CLASS:PUBLIC
DTSTART:20250702T180000Z
DURATION:PT2H30M
STATUS:CONFIRMED
SUMMARY:Nen Rudel Gurken vs. Rakshasa
DESCRIPTION:3.Liga, Gruppe A (17. Spieltag)\nErgebnis: 17:15 (72:67)
LOCATION:Bambi Bar, Hamburger Berg 14, 20359 Hamburg
UID:SM-B16403@stage.kickern-hamburg.de
PRIORITY:5
SEQUENCE:1
CATEGORIES:SPORT
DTSTAMP:20260423T115347
END:VEVENT
BEGIN:VEVENT
CLASS:PUBLIC
DTSTART:20250916T180000Z
DURATION:PT2H30M
STATUS:CONFIRMED
SUMMARY:Nen Rudel Gurken vs. TishING for Compliments (NR)
DESCRIPTION:3. Liga, Gruppe B (1. Spieltag)\nErgebnis: 12:20 (67:79)
LOCATION:Bambi Bar, Hamburger Berg 14, 20359 Hamburg
UID:SM-B17910@stage.kickern-hamburg.de
PRIORITY:5
SEQUENCE:1
CATEGORIES:SPORT
DTSTAMP:20260423T115347
END:VEVENT
BEGIN:VEVENT
CLASS:PUBLIC
DTSTART:20251014T180000Z
DURATION:PT2H30M
STATUS:CONFIRMED
SUMMARY:Nen Rudel Gurken vs. TkC Rrraddauuuuuh!
DESCRIPTION:3. Liga, Gruppe B (3. Spieltag)\nErgebnis: 15:17 (69:77)
LOCATION:Bambi Bar, Hamburger Berg 14, 20359 Hamburg
UID:SM-B17928@stage.kickern-hamburg.de
PRIORITY:5
SEQUENCE:1
CATEGORIES:SPORT
DTSTAMP:20260423T115347
END:VEVENT
BEGIN:VEVENT
CLASS:PUBLIC
DTSTART:20251028T190000Z
DURATION:PT2H30M
STATUS:CONFIRMED
SUMMARY:Nen Rudel Gurken vs. Kickertruppe (NR)
DESCRIPTION:Landespokal (2. Runde)
LOCATION:Bambi Bar, Hamburger Berg 14, 20359 Hamburg
UID:SM-B18484@stage.kickern-hamburg.de
PRIORITY:5
SEQUENCE:0
CATEGORIES:SPORT
DTSTAMP:20260423T115347
END:VEVENT
BEGIN:VEVENT
CLASS:PUBLIC
DTSTART:20251202T190000Z
DURATION:PT2H30M
STATUS:CONFIRMED
SUMMARY:Nen Rudel Gurken vs. Kicker Club Lüneburg (NR)
DESCRIPTION:3. Liga, Gruppe B (6. Spieltag)
LOCATION:Bambi Bar, Hamburger Berg 14, 20359 Hamburg
UID:SM-B17964@stage.kickern-hamburg.de
PRIORITY:5
SEQUENCE:0
CATEGORIES:SPORT
DTSTAMP:20260423T115347
END:VEVENT
BEGIN:VEVENT
CLASS:PUBLIC
DTSTART:20260106T190000Z
DURATION:PT2H30M
STATUS:CONFIRMED
SUMMARY:Nen Rudel Gurken vs. MiDDelDinger (NR)
DESCRIPTION:3. Liga, Gruppe B (7. Spieltag)
LOCATION:Bambi Bar, Hamburger Berg 14, 20359 Hamburg
UID:SM-B17970@stage.kickern-hamburg.de
PRIORITY:5
SEQUENCE:0
CATEGORIES:SPORT
DTSTAMP:20260423T115347
END:VEVENT
BEGIN:VEVENT
CLASS:PUBLIC
DTSTART:20260203T190000Z
DURATION:PT2H30M
STATUS:CONFIRMED
SUMMARY:Nen Rudel Gurken vs. FC St. Pauli from dusk till dawn
DESCRIPTION:3. Liga, Gruppe B (9. Spieltag)
LOCATION:Bambi Bar, Hamburger Berg 14, 20359 Hamburg
UID:SM-B17994@stage.kickern-hamburg.de
PRIORITY:5
SEQUENCE:0
CATEGORIES:SPORT
DTSTAMP:20260423T115347
END:VEVENT
BEGIN:VEVENT
CLASS:PUBLIC
DTSTART:20260317T190000Z
DURATION:PT2H30M
STATUS:CONFIRMED
SUMMARY:Nen Rudel Gurken vs. FC St. Pauli dreht auf
DESCRIPTION:3. Liga, Gruppe B (11. Spieltag)
LOCATION:Bambi Bar, Hamburger Berg 14, 20359 Hamburg
UID:SM-B17919@stage.kickern-hamburg.de
PRIORITY:5
SEQUENCE:0
CATEGORIES:SPORT
DTSTAMP:20260423T115347
END:VEVENT
BEGIN:VEVENT
CLASS:PUBLIC
DTSTART:20260414T180000Z
DURATION:PT2H30M
STATUS:CONFIRMED
SUMMARY:Nen Rudel Gurken vs. Bergbarbaren
DESCRIPTION:3. Liga, Gruppe B (13. Spieltag)
LOCATION:Bambi Bar, Hamburger Berg 14, 20359 Hamburg
UID:SM-B17937@stage.kickern-hamburg.de
PRIORITY:5
SEQUENCE:0
CATEGORIES:SPORT
DTSTAMP:20260423T115347
END:VEVENT
BEGIN:VEVENT
CLASS:PUBLIC
DTSTART:20260428T180000Z
DURATION:PT2H30M
STATUS:CONFIRMED
SUMMARY:Nen Rudel Gurken vs. Roter Stern Kickers 2 (NR)
DESCRIPTION:3. Liga, Gruppe B (14. Spieltag)
LOCATION:Bambi Bar, Hamburger Berg 14, 20359 Hamburg
UID:SM-B17955@stage.kickern-hamburg.de
PRIORITY:5
SEQUENCE:0
CATEGORIES:SPORT
DTSTAMP:20260423T115347
END:VEVENT
BEGIN:VEVENT
CLASS:PUBLIC
DTSTART:20260616T180000Z
DURATION:PT2H30M
STATUS:CONFIRMED
SUMMARY:Nen Rudel Gurken vs. Die Ilohhminauten FC St. Pauli
DESCRIPTION:3. Liga, Gruppe B (17. Spieltag)
LOCATION:Bambi Bar, Hamburger Berg 14, 20359 Hamburg
UID:SM-B17979@stage.kickern-hamburg.de
PRIORITY:5
SEQUENCE:0
CATEGORIES:SPORT
DTSTAMP:20260423T115347
END:VEVENT
END:VCALENDAR
