BEGIN:VCALENDAR
VERSION:2.0
PRODID:PHP
METHOD:REQUEST
X-ORIGINAL-URL:https://stage.kickern-hamburg.de/verband/spielorte?task=spielort_begegnungen_ical&id=111
X-WR-CALNAME;VALUE=TEXT:Die Torfabrik
BEGIN:VEVENT
CLASS:PUBLIC
DTSTART:20250424T180000Z
DURATION:PT2H30M
STATUS:CONFIRMED
SUMMARY:Torfabrik 2. Silpion (NR) vs. Roter Stern Kickers 2 (NR)
DESCRIPTION:4.Liga, Gruppe A (13. Spieltag)\nErgebnis: 9:23 (60:87)
LOCATION:Die Torfabrik, Zum Sportplatz 10, 21220 Seevetal
UID:SM-B16497@stage.kickern-hamburg.de
PRIORITY:5
SEQUENCE:1
CATEGORIES:SPORT
DTSTAMP:20260423T114705
END:VEVENT
BEGIN:VEVENT
CLASS:PUBLIC
DTSTART:20250424T180000Z
DURATION:PT2H30M
STATUS:CONFIRMED
SUMMARY:Torfabrik Silpion (NR) vs. FC St. Pauli Shooting Stars
DESCRIPTION:3.Liga, Gruppe C (13. Spieltag)\nErgebnis: 28:4 (91:47)
LOCATION:Die Torfabrik, Zum Sportplatz 10, 21220 Seevetal
UID:SM-B16001@stage.kickern-hamburg.de
PRIORITY:5
SEQUENCE:1
CATEGORIES:SPORT
DTSTAMP:20260423T114705
END:VEVENT
BEGIN:VEVENT
CLASS:PUBLIC
DTSTART:20250522T180000Z
DURATION:PT2H30M
STATUS:CONFIRMED
SUMMARY:Torfabrik Silpion (NR) vs. MiDDelDinger
DESCRIPTION:3.Liga, Gruppe C (15. Spieltag)\nErgebnis: 24:8 (85:64)
LOCATION:Die Torfabrik, Zum Sportplatz 10, 21220 Seevetal
UID:SM-B16015@stage.kickern-hamburg.de
PRIORITY:5
SEQUENCE:1
CATEGORIES:SPORT
DTSTAMP:20260423T114705
END:VEVENT
BEGIN:VEVENT
CLASS:PUBLIC
DTSTART:20250617T180000Z
DURATION:PT2H30M
STATUS:CONFIRMED
SUMMARY:Torfabrik Silpion (NR) vs. TishING for Compliments (NR)
DESCRIPTION:Ligapokal 3. Liga (5. Runde)\nErgebnis: 18:10 (68:56)
LOCATION:Die Torfabrik, Zum Sportplatz 10, 21220 Seevetal
UID:SM-B16973@stage.kickern-hamburg.de
PRIORITY:5
SEQUENCE:1
CATEGORIES:SPORT
DTSTAMP:20260423T114705
END:VEVENT
BEGIN:VEVENT
CLASS:PUBLIC
DTSTART:20250619T180000Z
DURATION:PT2H30M
STATUS:CONFIRMED
SUMMARY:Torfabrik Silpion (NR) vs. TishING for Compliments (NR)
DESCRIPTION:3.Liga, Gruppe C (16. Spieltag)\nErgebnis: 19:13 (77:71)
LOCATION:Die Torfabrik, Zum Sportplatz 10, 21220 Seevetal
UID:SM-B16025@stage.kickern-hamburg.de
PRIORITY:5
SEQUENCE:1
CATEGORIES:SPORT
DTSTAMP:20260423T114705
END:VEVENT
BEGIN:VEVENT
CLASS:PUBLIC
DTSTART:20250710T180000Z
DURATION:PT2H30M
STATUS:CONFIRMED
SUMMARY:Torfabrik Silpion (NR) vs. Drehschieber Silpion
DESCRIPTION:3.Liga, Gruppe C (18. Spieltag)\nErgebnis: 23:9 (85:63)
LOCATION:Die Torfabrik, Zum Sportplatz 10, 21220 Seevetal
UID:SM-B16049@stage.kickern-hamburg.de
PRIORITY:5
SEQUENCE:1
CATEGORIES:SPORT
DTSTAMP:20260423T114705
END:VEVENT
BEGIN:VEVENT
CLASS:PUBLIC
DTSTART:20250911T180000Z
DURATION:PT2H30M
STATUS:CONFIRMED
SUMMARY:Torfabrik 2. Silpion (NR) vs. Kicker Club Lüneburg (NR)
DESCRIPTION:Landespokal (1. Runde)\nErgebnis: 5:27 (47:90)
LOCATION:Die Torfabrik, Zum Sportplatz 10, 21220 Seevetal
UID:SM-B18328@stage.kickern-hamburg.de
PRIORITY:5
SEQUENCE:1
CATEGORIES:SPORT
DTSTAMP:20260423T114705
END:VEVENT
BEGIN:VEVENT
CLASS:PUBLIC
DTSTART:20250911T180000Z
DURATION:PT2H30M
STATUS:CONFIRMED
SUMMARY:Torfabrik Silpion (NR) vs. Hermanns treue Riege
DESCRIPTION:Landespokal (1. Runde)\nErgebnis: 2:0 (2:0)
LOCATION:Die Torfabrik, Zum Sportplatz 10, 21220 Seevetal
UID:SM-B18324@stage.kickern-hamburg.de
PRIORITY:5
SEQUENCE:1
CATEGORIES:SPORT
DTSTAMP:20260423T114705
END:VEVENT
BEGIN:VEVENT
CLASS:PUBLIC
DTSTART:20250911T183000Z
DURATION:PT2H30M
STATUS:CONFIRMED
SUMMARY:Torfabrik Silpion (NR) vs. Team St. Pauli 05
DESCRIPTION:3. Liga, Gruppe A (1. Spieltag)\nErgebnis: 22:10 (86:62)
LOCATION:Die Torfabrik, Zum Sportplatz 10, 21220 Seevetal
UID:SM-B17820@stage.kickern-hamburg.de
PRIORITY:5
SEQUENCE:1
CATEGORIES:SPORT
DTSTAMP:20260423T114705
END:VEVENT
BEGIN:VEVENT
CLASS:PUBLIC
DTSTART:20250925T180000Z
DURATION:PT2H30M
STATUS:CONFIRMED
SUMMARY:Torfabrik 2. Silpion (NR) vs. Wohnzimmer Kapeiken
DESCRIPTION:4. Liga, Gruppe C (2. Spieltag)\nErgebnis: 10:22 (38:83)
LOCATION:Die Torfabrik, Zum Sportplatz 10, 21220 Seevetal
UID:SM-B18194@stage.kickern-hamburg.de
PRIORITY:5
SEQUENCE:1
CATEGORIES:SPORT
DTSTAMP:20260423T114705
END:VEVENT
BEGIN:VEVENT
CLASS:PUBLIC
DTSTART:20251009T180000Z
DURATION:PT2H30M
STATUS:CONFIRMED
SUMMARY:Torfabrik Silpion (NR) vs. Fuchs AG (NR)
DESCRIPTION:3. Liga, Gruppe A (3. Spieltag)\nErgebnis: 16:16 (73:77)
LOCATION:Die Torfabrik, Zum Sportplatz 10, 21220 Seevetal
UID:SM-B17838@stage.kickern-hamburg.de
PRIORITY:5
SEQUENCE:1
CATEGORIES:SPORT
DTSTAMP:20260423T114705
END:VEVENT
BEGIN:VEVENT
CLASS:PUBLIC
DTSTART:20251106T190000Z
DURATION:PT2H30M
STATUS:CONFIRMED
SUMMARY:Torfabrik 2. Silpion (NR) vs. Exorbitanter Mumpitz
DESCRIPTION:4. Liga, Gruppe C (4. Spieltag)
LOCATION:Die Torfabrik, Zum Sportplatz 10, 21220 Seevetal
UID:SM-B18210@stage.kickern-hamburg.de
PRIORITY:5
SEQUENCE:0
CATEGORIES:SPORT
DTSTAMP:20260423T114705
END:VEVENT
BEGIN:VEVENT
CLASS:PUBLIC
DTSTART:20251113T190000Z
DURATION:PT2H30M
STATUS:CONFIRMED
SUMMARY:Torfabrik Silpion (NR) vs. Flying Circus
DESCRIPTION:Landespokal (2. Runde)
LOCATION:Die Torfabrik, Zum Sportplatz 10, 21220 Seevetal
UID:SM-B18463@stage.kickern-hamburg.de
PRIORITY:5
SEQUENCE:0
CATEGORIES:SPORT
DTSTAMP:20260423T114705
END:VEVENT
BEGIN:VEVENT
CLASS:PUBLIC
DTSTART:20251204T190000Z
DURATION:PT2H30M
STATUS:CONFIRMED
SUMMARY:Torfabrik Silpion (NR) vs. FC Joy
DESCRIPTION:3. Liga, Gruppe A (6. Spieltag)
LOCATION:Die Torfabrik, Zum Sportplatz 10, 21220 Seevetal
UID:SM-B17874@stage.kickern-hamburg.de
PRIORITY:5
SEQUENCE:0
CATEGORIES:SPORT
DTSTAMP:20260423T114705
END:VEVENT
BEGIN:VEVENT
CLASS:PUBLIC
DTSTART:20260108T190000Z
DURATION:PT2H30M
STATUS:CONFIRMED
SUMMARY:Torfabrik Silpion (NR) vs. Kickeronis (NR)
DESCRIPTION:3. Liga, Gruppe A (7. Spieltag)
LOCATION:Die Torfabrik, Zum Sportplatz 10, 21220 Seevetal
UID:SM-B17880@stage.kickern-hamburg.de
PRIORITY:5
SEQUENCE:0
CATEGORIES:SPORT
DTSTAMP:20260423T114705
END:VEVENT
BEGIN:VEVENT
CLASS:PUBLIC
DTSTART:20260122T190000Z
DURATION:PT2H30M
STATUS:CONFIRMED
SUMMARY:Torfabrik 2. Silpion (NR) vs. FC St. Pauli Die Anfänger
DESCRIPTION:4. Liga, Gruppe C (8. Spieltag)
LOCATION:Die Torfabrik, Zum Sportplatz 10, 21220 Seevetal
UID:SM-B18187@stage.kickern-hamburg.de
PRIORITY:5
SEQUENCE:0
CATEGORIES:SPORT
DTSTAMP:20260423T114705
END:VEVENT
BEGIN:VEVENT
CLASS:PUBLIC
DTSTART:20260205T190000Z
DURATION:PT2H30M
STATUS:CONFIRMED
SUMMARY:Torfabrik Silpion (NR) vs. 3. Herren Silpion II (NR)
DESCRIPTION:3. Liga, Gruppe A (9. Spieltag)
LOCATION:Die Torfabrik, Zum Sportplatz 10, 21220 Seevetal
UID:SM-B17904@stage.kickern-hamburg.de
PRIORITY:5
SEQUENCE:0
CATEGORIES:SPORT
DTSTAMP:20260423T114705
END:VEVENT
BEGIN:VEVENT
CLASS:PUBLIC
DTSTART:20260219T190000Z
DURATION:PT2H30M
STATUS:CONFIRMED
SUMMARY:Torfabrik 2. Silpion (NR) vs. Verdammte Axt
DESCRIPTION:4. Liga, Gruppe C (10. Spieltag)
LOCATION:Die Torfabrik, Zum Sportplatz 10, 21220 Seevetal
UID:SM-B18203@stage.kickern-hamburg.de
PRIORITY:5
SEQUENCE:0
CATEGORIES:SPORT
DTSTAMP:20260423T114705
END:VEVENT
BEGIN:VEVENT
CLASS:PUBLIC
DTSTART:20260319T190000Z
DURATION:PT2H30M
STATUS:CONFIRMED
SUMMARY:Torfabrik Silpion (NR) vs. Schorsch
DESCRIPTION:3. Liga, Gruppe A (11. Spieltag)
LOCATION:Die Torfabrik, Zum Sportplatz 10, 21220 Seevetal
UID:SM-B17829@stage.kickern-hamburg.de
PRIORITY:5
SEQUENCE:0
CATEGORIES:SPORT
DTSTAMP:20260423T114705
END:VEVENT
BEGIN:VEVENT
CLASS:PUBLIC
DTSTART:20260402T180000Z
DURATION:PT2H30M
STATUS:CONFIRMED
SUMMARY:Torfabrik 2. Silpion (NR) vs. Kicking Me Softly
DESCRIPTION:4. Liga, Gruppe C (12. Spieltag)
LOCATION:Die Torfabrik, Zum Sportplatz 10, 21220 Seevetal
UID:SM-B18221@stage.kickern-hamburg.de
PRIORITY:5
SEQUENCE:0
CATEGORIES:SPORT
DTSTAMP:20260423T114705
END:VEVENT
BEGIN:VEVENT
CLASS:PUBLIC
DTSTART:20260416T180000Z
DURATION:PT2H30M
STATUS:CONFIRMED
SUMMARY:Torfabrik Silpion (NR) vs. HSV Torschmuggler (NR)
DESCRIPTION:3. Liga, Gruppe A (13. Spieltag)
LOCATION:Die Torfabrik, Zum Sportplatz 10, 21220 Seevetal
UID:SM-B17847@stage.kickern-hamburg.de
PRIORITY:5
SEQUENCE:0
CATEGORIES:SPORT
DTSTAMP:20260423T114705
END:VEVENT
BEGIN:VEVENT
CLASS:PUBLIC
DTSTART:20260430T180000Z
DURATION:PT2H30M
STATUS:CONFIRMED
SUMMARY:Torfabrik 2. Silpion (NR) vs. Old School
DESCRIPTION:4. Liga, Gruppe C (14. Spieltag)
LOCATION:Die Torfabrik, Zum Sportplatz 10, 21220 Seevetal
UID:SM-B18239@stage.kickern-hamburg.de
PRIORITY:5
SEQUENCE:0
CATEGORIES:SPORT
DTSTAMP:20260423T114705
END:VEVENT
BEGIN:VEVENT
CLASS:PUBLIC
DTSTART:20260430T180000Z
DURATION:PT2H30M
STATUS:CONFIRMED
SUMMARY:Torfabrik Silpion (NR) vs. FC St. Pauli Kicker der Kokosnuss (NR)
DESCRIPTION:3. Liga, Gruppe A (14. Spieltag)
LOCATION:Die Torfabrik, Zum Sportplatz 10, 21220 Seevetal
UID:SM-B17865@stage.kickern-hamburg.de
PRIORITY:5
SEQUENCE:0
CATEGORIES:SPORT
DTSTAMP:20260423T114705
END:VEVENT
BEGIN:VEVENT
CLASS:PUBLIC
DTSTART:20260618T180000Z
DURATION:PT2H30M
STATUS:CONFIRMED
SUMMARY:Torfabrik Silpion (NR) vs. FC St. Pauli Kneipenstyle
DESCRIPTION:3. Liga, Gruppe A (17. Spieltag)
LOCATION:Die Torfabrik, Zum Sportplatz 10, 21220 Seevetal
UID:SM-B17889@stage.kickern-hamburg.de
PRIORITY:5
SEQUENCE:0
CATEGORIES:SPORT
DTSTAMP:20260423T114705
END:VEVENT
END:VCALENDAR
