BEGIN:VCALENDAR
VERSION:2.0
PRODID:PHP
METHOD:REQUEST
X-ORIGINAL-URL:https://stage.kickern-hamburg.de/verband/spielorte?task=spielort_begegnungen_ical&id=99
X-WR-CALNAME;VALUE=TEXT:JuKI 42
BEGIN:VEVENT
CLASS:PUBLIC
DTSTART:20250429T170000Z
DURATION:PT2H30M
STATUS:CONFIRMED
SUMMARY:Roter Stern Kickers 2 (NR) vs. Hermanns treue Riege
DESCRIPTION:Ligapokal 4. Liga (4. Runde)\nErgebnis: 14:18 (72:82)
LOCATION:JuKI 42, An der Reitbahn 2, 22926 Ahrensburg
UID:SM-B16961@stage.kickern-hamburg.de
PRIORITY:5
SEQUENCE:1
CATEGORIES:SPORT
DTSTAMP:20260423T115908
BEGIN:VALARM
ACTION:DISPLAY
TRIGGER:-PT2H
END:VALARM
END:VEVENT
BEGIN:VEVENT
CLASS:PUBLIC
DTSTART:20250429T180000Z
DURATION:PT2H30M
STATUS:CONFIRMED
SUMMARY:Roter Stern Kickers 1 (NR) vs. FC St. Pauli from dusk till dawn
DESCRIPTION:2.Liga, Gruppe A (13. Spieltag)\nErgebnis: 12:20 (69:78)
LOCATION:JuKI 42, An der Reitbahn 2, 22926 Ahrensburg
UID:SM-B16840@stage.kickern-hamburg.de
PRIORITY:5
SEQUENCE:1
CATEGORIES:SPORT
DTSTAMP:20260423T115908
BEGIN:VALARM
ACTION:DISPLAY
TRIGGER:-PT2H
END:VALARM
END:VEVENT
BEGIN:VEVENT
CLASS:PUBLIC
DTSTART:20250506T170000Z
DURATION:PT2H30M
STATUS:CONFIRMED
SUMMARY:Roter Stern Kickers 2 (NR) vs. Glashoch Rangers Hamburg
DESCRIPTION:4.Liga, Gruppe A (14. Spieltag)\nErgebnis: 17:15 (79:72)
LOCATION:JuKI 42, An der Reitbahn 2, 22926 Ahrensburg
UID:SM-B16509@stage.kickern-hamburg.de
PRIORITY:5
SEQUENCE:1
CATEGORIES:SPORT
DTSTAMP:20260423T115908
BEGIN:VALARM
ACTION:DISPLAY
TRIGGER:-PT2H
END:VALARM
END:VEVENT
BEGIN:VEVENT
CLASS:PUBLIC
DTSTART:20250513T180000Z
DURATION:PT2H30M
STATUS:CONFIRMED
SUMMARY:Roter Stern Kickers 1 (NR) vs. Exorbitanter HäkMäk (NR)
DESCRIPTION:2.Liga, Gruppe A (14. Spieltag)\nErgebnis: 13:19 (71:78)
LOCATION:JuKI 42, An der Reitbahn 2, 22926 Ahrensburg
UID:SM-B16846@stage.kickern-hamburg.de
PRIORITY:5
SEQUENCE:1
CATEGORIES:SPORT
DTSTAMP:20260423T115908
BEGIN:VALARM
ACTION:DISPLAY
TRIGGER:-PT2H
END:VALARM
END:VEVENT
BEGIN:VEVENT
CLASS:PUBLIC
DTSTART:20250520T180000Z
DURATION:PT2H30M
STATUS:CONFIRMED
SUMMARY:Roter Stern Kickers 1 (NR) vs. Overtime
DESCRIPTION:2.Liga, Gruppe A (15. Spieltag)\nErgebnis: 10:22 (57:83)
LOCATION:JuKI 42, An der Reitbahn 2, 22926 Ahrensburg
UID:SM-B16854@stage.kickern-hamburg.de
PRIORITY:5
SEQUENCE:1
CATEGORIES:SPORT
DTSTAMP:20260423T115908
BEGIN:VALARM
ACTION:DISPLAY
TRIGGER:-PT2H
END:VALARM
END:VEVENT
BEGIN:VEVENT
CLASS:PUBLIC
DTSTART:20250617T180000Z
DURATION:PT2H30M
STATUS:CONFIRMED
SUMMARY:Roter Stern Kickers 1 (NR) vs. Kickerbande (NR)
DESCRIPTION:2.Liga, Gruppe A (16. Spieltag)\nErgebnis: 16:16 (74:74)
LOCATION:JuKI 42, An der Reitbahn 2, 22926 Ahrensburg
UID:SM-B16864@stage.kickern-hamburg.de
PRIORITY:5
SEQUENCE:1
CATEGORIES:SPORT
DTSTAMP:20260423T115908
BEGIN:VALARM
ACTION:DISPLAY
TRIGGER:-PT2H
END:VALARM
END:VEVENT
BEGIN:VEVENT
CLASS:PUBLIC
DTSTART:20250715T180000Z
DURATION:PT2H30M
STATUS:CONFIRMED
SUMMARY:Roter Stern Kickers 1 (NR) vs. 253 (NR)
DESCRIPTION:2.Liga, Gruppe A (18. Spieltag)\nErgebnis: 19:13 (81:75)
LOCATION:JuKI 42, An der Reitbahn 2, 22926 Ahrensburg
UID:SM-B16888@stage.kickern-hamburg.de
PRIORITY:5
SEQUENCE:1
CATEGORIES:SPORT
DTSTAMP:20260423T115908
BEGIN:VALARM
ACTION:DISPLAY
TRIGGER:-PT2H
END:VALARM
END:VEVENT
BEGIN:VEVENT
CLASS:PUBLIC
DTSTART:20250916T180000Z
DURATION:PT2H30M
STATUS:CONFIRMED
SUMMARY:Roter Stern Kickers 1 (NR) vs. Exorbitanter Schabernack
DESCRIPTION:3. Liga, Gruppe C (1. Spieltag)\nErgebnis: 19:13 (81:72)
LOCATION:JuKI 42, An der Reitbahn 2, 22926 Ahrensburg
UID:SM-B18002@stage.kickern-hamburg.de
PRIORITY:5
SEQUENCE:1
CATEGORIES:SPORT
DTSTAMP:20260423T115908
BEGIN:VALARM
ACTION:DISPLAY
TRIGGER:-PT2H
END:VALARM
END:VEVENT
BEGIN:VEVENT
CLASS:PUBLIC
DTSTART:20250923T170000Z
DURATION:PT2H30M
STATUS:CONFIRMED
SUMMARY:Roter Stern Kickers 2 (NR) vs. Bergbarbaren
DESCRIPTION:3. Liga, Gruppe B (2. Spieltag)\nErgebnis: 14:18 (65:75)
LOCATION:JuKI 42, An der Reitbahn 2, 22926 Ahrensburg
UID:SM-B17916@stage.kickern-hamburg.de
PRIORITY:5
SEQUENCE:1
CATEGORIES:SPORT
DTSTAMP:20260423T115908
BEGIN:VALARM
ACTION:DISPLAY
TRIGGER:-PT2H
END:VALARM
END:VEVENT
BEGIN:VEVENT
CLASS:PUBLIC
DTSTART:20251007T170000Z
DURATION:PT2H30M
STATUS:CONFIRMED
SUMMARY:Roter Stern Kickers 2 (NR) vs. FC St. Pauli dreht auf
DESCRIPTION:3. Liga, Gruppe B (3. Spieltag)\nErgebnis: 8:24 (52:84)
LOCATION:JuKI 42, An der Reitbahn 2, 22926 Ahrensburg
UID:SM-B17930@stage.kickern-hamburg.de
PRIORITY:5
SEQUENCE:1
CATEGORIES:SPORT
DTSTAMP:20260423T115908
BEGIN:VALARM
ACTION:DISPLAY
TRIGGER:-PT2H
END:VALARM
END:VEVENT
BEGIN:VEVENT
CLASS:PUBLIC
DTSTART:20251014T170000Z
DURATION:PT2H30M
STATUS:CONFIRMED
SUMMARY:Roter Stern Kickers 1 (NR) vs. VFT Reflektorschirm Hamburg
DESCRIPTION:3. Liga, Gruppe C (3. Spieltag)\nErgebnis: 31:3 (93:39)
LOCATION:JuKI 42, An der Reitbahn 2, 22926 Ahrensburg
UID:SM-B18022@stage.kickern-hamburg.de
PRIORITY:5
SEQUENCE:1
CATEGORIES:SPORT
DTSTAMP:20260423T115908
BEGIN:VALARM
ACTION:DISPLAY
TRIGGER:-PT2H
END:VALARM
END:VEVENT
BEGIN:VEVENT
CLASS:PUBLIC
DTSTART:20251021T173000Z
DURATION:PT2H30M
STATUS:CONFIRMED
SUMMARY:Roter Stern Kickers 2 (NR) vs. Kickericki
DESCRIPTION:Ligapokal 3./4. Liga (1. Runde)\nErgebnis: 12:20 (71:84)
LOCATION:JuKI 42, An der Reitbahn 2, 22926 Ahrensburg
UID:SM-B18336@stage.kickern-hamburg.de
PRIORITY:5
SEQUENCE:1
CATEGORIES:SPORT
DTSTAMP:20260423T115908
BEGIN:VALARM
ACTION:DISPLAY
TRIGGER:-PT2H
END:VALARM
END:VEVENT
BEGIN:VEVENT
CLASS:PUBLIC
DTSTART:20251104T180000Z
DURATION:PT2H30M
STATUS:CONFIRMED
SUMMARY:Roter Stern Kickers 2 (NR) vs. Hamburg Privateers 08 (NR)
DESCRIPTION:Landespokal (2. Runde)
LOCATION:JuKI 42, An der Reitbahn 2, 22926 Ahrensburg
UID:SM-B18481@stage.kickern-hamburg.de
PRIORITY:5
SEQUENCE:0
CATEGORIES:SPORT
DTSTAMP:20260423T115908
BEGIN:VALARM
ACTION:DISPLAY
TRIGGER:-PT2H
END:VALARM
END:VEVENT
BEGIN:VEVENT
CLASS:PUBLIC
DTSTART:20251118T180000Z
DURATION:PT2H30M
STATUS:CONFIRMED
SUMMARY:Roter Stern Kickers 1 (NR) vs. Partisan Pinshot (NR)
DESCRIPTION:3. Liga, Gruppe C (5. Spieltag)
LOCATION:JuKI 42, An der Reitbahn 2, 22926 Ahrensburg
UID:SM-B18042@stage.kickern-hamburg.de
PRIORITY:5
SEQUENCE:0
CATEGORIES:SPORT
DTSTAMP:20260423T115908
BEGIN:VALARM
ACTION:DISPLAY
TRIGGER:-PT2H
END:VALARM
END:VEVENT
BEGIN:VEVENT
CLASS:PUBLIC
DTSTART:20251118T180000Z
DURATION:PT2H30M
STATUS:CONFIRMED
SUMMARY:Roter Stern Kickers 2 (NR) vs. Nen Rudel Gurken
DESCRIPTION:3. Liga, Gruppe B (5. Spieltag)
LOCATION:JuKI 42, An der Reitbahn 2, 22926 Ahrensburg
UID:SM-B17954@stage.kickern-hamburg.de
PRIORITY:5
SEQUENCE:0
CATEGORIES:SPORT
DTSTAMP:20260423T115908
BEGIN:VALARM
ACTION:DISPLAY
TRIGGER:-PT2H
END:VALARM
END:VEVENT
BEGIN:VEVENT
CLASS:PUBLIC
DTSTART:20251202T180000Z
DURATION:PT2H30M
STATUS:CONFIRMED
SUMMARY:Roter Stern Kickers 1 (NR) vs. FC St. Pauli Shooting Stars
DESCRIPTION:3. Liga, Gruppe C (6. Spieltag)
LOCATION:JuKI 42, An der Reitbahn 2, 22926 Ahrensburg
UID:SM-B18046@stage.kickern-hamburg.de
PRIORITY:5
SEQUENCE:0
CATEGORIES:SPORT
DTSTAMP:20260423T115908
BEGIN:VALARM
ACTION:DISPLAY
TRIGGER:-PT2H
END:VALARM
END:VEVENT
BEGIN:VEVENT
CLASS:PUBLIC
DTSTART:20260106T180000Z
DURATION:PT2H30M
STATUS:CONFIRMED
SUMMARY:Roter Stern Kickers 2 (NR) vs. Die Ilohhminauten FC St. Pauli
DESCRIPTION:3. Liga, Gruppe B (7. Spieltag)
LOCATION:JuKI 42, An der Reitbahn 2, 22926 Ahrensburg
UID:SM-B17968@stage.kickern-hamburg.de
PRIORITY:5
SEQUENCE:0
CATEGORIES:SPORT
DTSTAMP:20260423T115908
BEGIN:VALARM
ACTION:DISPLAY
TRIGGER:-PT2H
END:VALARM
END:VEVENT
BEGIN:VEVENT
CLASS:PUBLIC
DTSTART:20260120T180000Z
DURATION:PT2H30M
STATUS:CONFIRMED
SUMMARY:Roter Stern Kickers 1 (NR) vs. HSV Schießbude (NR)
DESCRIPTION:3. Liga, Gruppe C (8. Spieltag)
LOCATION:JuKI 42, An der Reitbahn 2, 22926 Ahrensburg
UID:SM-B18066@stage.kickern-hamburg.de
PRIORITY:5
SEQUENCE:0
CATEGORIES:SPORT
DTSTAMP:20260423T115908
BEGIN:VALARM
ACTION:DISPLAY
TRIGGER:-PT2H
END:VALARM
END:VEVENT
BEGIN:VEVENT
CLASS:PUBLIC
DTSTART:20260203T180000Z
DURATION:PT2H30M
STATUS:CONFIRMED
SUMMARY:Roter Stern Kickers 2 (NR) vs. MiDDelDinger (NR)
DESCRIPTION:3. Liga, Gruppe B (9. Spieltag)
LOCATION:JuKI 42, An der Reitbahn 2, 22926 Ahrensburg
UID:SM-B17988@stage.kickern-hamburg.de
PRIORITY:5
SEQUENCE:0
CATEGORIES:SPORT
DTSTAMP:20260423T115908
BEGIN:VALARM
ACTION:DISPLAY
TRIGGER:-PT2H
END:VALARM
END:VEVENT
BEGIN:VEVENT
CLASS:PUBLIC
DTSTART:20260217T180000Z
DURATION:PT2H30M
STATUS:CONFIRMED
SUMMARY:Roter Stern Kickers 2 (NR) vs. Kicker Club Lüneburg (NR)
DESCRIPTION:3. Liga, Gruppe B (10. Spieltag)
LOCATION:JuKI 42, An der Reitbahn 2, 22926 Ahrensburg
UID:SM-B17907@stage.kickern-hamburg.de
PRIORITY:5
SEQUENCE:0
CATEGORIES:SPORT
DTSTAMP:20260423T115908
BEGIN:VALARM
ACTION:DISPLAY
TRIGGER:-PT2H
END:VALARM
END:VEVENT
BEGIN:VEVENT
CLASS:PUBLIC
DTSTART:20260317T180000Z
DURATION:PT2H30M
STATUS:CONFIRMED
SUMMARY:Roter Stern Kickers 1 (NR) vs. Fellow Unicorns
DESCRIPTION:3. Liga, Gruppe C (11. Spieltag)
LOCATION:JuKI 42, An der Reitbahn 2, 22926 Ahrensburg
UID:SM-B18015@stage.kickern-hamburg.de
PRIORITY:5
SEQUENCE:0
CATEGORIES:SPORT
DTSTAMP:20260423T115908
BEGIN:VALARM
ACTION:DISPLAY
TRIGGER:-PT2H
END:VALARM
END:VEVENT
BEGIN:VEVENT
CLASS:PUBLIC
DTSTART:20260414T170000Z
DURATION:PT2H30M
STATUS:CONFIRMED
SUMMARY:Roter Stern Kickers 1 (NR) vs. Kellerkicker Bergedorf
DESCRIPTION:3. Liga, Gruppe C (13. Spieltag)
LOCATION:JuKI 42, An der Reitbahn 2, 22926 Ahrensburg
UID:SM-B18031@stage.kickern-hamburg.de
PRIORITY:5
SEQUENCE:0
CATEGORIES:SPORT
DTSTAMP:20260423T115908
BEGIN:VALARM
ACTION:DISPLAY
TRIGGER:-PT2H
END:VALARM
END:VEVENT
BEGIN:VEVENT
CLASS:PUBLIC
DTSTART:20260414T170000Z
DURATION:PT2H30M
STATUS:CONFIRMED
SUMMARY:Roter Stern Kickers 2 (NR) vs. TkC Rrraddauuuuuh!
DESCRIPTION:3. Liga, Gruppe B (13. Spieltag)
LOCATION:JuKI 42, An der Reitbahn 2, 22926 Ahrensburg
UID:SM-B17939@stage.kickern-hamburg.de
PRIORITY:5
SEQUENCE:0
CATEGORIES:SPORT
DTSTAMP:20260423T115908
BEGIN:VALARM
ACTION:DISPLAY
TRIGGER:-PT2H
END:VALARM
END:VEVENT
BEGIN:VEVENT
CLASS:PUBLIC
DTSTART:20260519T170000Z
DURATION:PT2H30M
STATUS:CONFIRMED
SUMMARY:Roter Stern Kickers 2 (NR) vs. FC St. Pauli from dusk till dawn
DESCRIPTION:3. Liga, Gruppe B (15. Spieltag)
LOCATION:JuKI 42, An der Reitbahn 2, 22926 Ahrensburg
UID:SM-B17963@stage.kickern-hamburg.de
PRIORITY:5
SEQUENCE:0
CATEGORIES:SPORT
DTSTAMP:20260423T115908
BEGIN:VALARM
ACTION:DISPLAY
TRIGGER:-PT2H
END:VALARM
END:VEVENT
BEGIN:VEVENT
CLASS:PUBLIC
DTSTART:20260602T170000Z
DURATION:PT2H30M
STATUS:CONFIRMED
SUMMARY:Roter Stern Kickers 1 (NR) vs. Von der Stange
DESCRIPTION:3. Liga, Gruppe C (16. Spieltag)
LOCATION:JuKI 42, An der Reitbahn 2, 22926 Ahrensburg
UID:SM-B18059@stage.kickern-hamburg.de
PRIORITY:5
SEQUENCE:0
CATEGORIES:SPORT
DTSTAMP:20260423T115908
BEGIN:VALARM
ACTION:DISPLAY
TRIGGER:-PT2H
END:VALARM
END:VEVENT
BEGIN:VEVENT
CLASS:PUBLIC
DTSTART:20260616T170000Z
DURATION:PT2H30M
STATUS:CONFIRMED
SUMMARY:Roter Stern Kickers 2 (NR) vs. TishING for Compliments (NR)
DESCRIPTION:3. Liga, Gruppe B (17. Spieltag)
LOCATION:JuKI 42, An der Reitbahn 2, 22926 Ahrensburg
UID:SM-B17977@stage.kickern-hamburg.de
PRIORITY:5
SEQUENCE:0
CATEGORIES:SPORT
DTSTAMP:20260423T115908
BEGIN:VALARM
ACTION:DISPLAY
TRIGGER:-PT2H
END:VALARM
END:VEVENT
BEGIN:VEVENT
CLASS:PUBLIC
DTSTART:20260630T170000Z
DURATION:PT2H30M
STATUS:CONFIRMED
SUMMARY:Roter Stern Kickers 1 (NR) vs. Boltens
DESCRIPTION:3. Liga, Gruppe C (18. Spieltag)
LOCATION:JuKI 42, An der Reitbahn 2, 22926 Ahrensburg
UID:SM-B18081@stage.kickern-hamburg.de
PRIORITY:5
SEQUENCE:0
CATEGORIES:SPORT
DTSTAMP:20260423T115908
BEGIN:VALARM
ACTION:DISPLAY
TRIGGER:-PT2H
END:VALARM
END:VEVENT
BEGIN:VEVENT
CLASS:PUBLIC
DTSTART:20261027T180000Z
DURATION:PT2H30M
STATUS:TENTATIVE
SUMMARY:Roter Stern Kickers 1 (NR) vs. FC St. Pauli from dusk till dawn (wird verlegt)
DESCRIPTION:Ligapokal 3./4. Liga (2. Runde)
LOCATION:JuKI 42, An der Reitbahn 2, 22926 Ahrensburg
UID:SM-B18424@stage.kickern-hamburg.de
PRIORITY:5
SEQUENCE:0
CATEGORIES:SPORT
DTSTAMP:20260423T115908
BEGIN:VALARM
ACTION:DISPLAY
TRIGGER:-PT2H
END:VALARM
END:VEVENT
END:VCALENDAR
