BEGIN:VCALENDAR
VERSION:2.0
PRODID:PHP
METHOD:REQUEST
X-ORIGINAL-URL:https://stage.kickern-hamburg.de/verband/spielorte?task=spielort_begegnungen_ical&id=29
X-WR-CALNAME;VALUE=TEXT:Parzelle 15 (RAUCHER)
BEGIN:VEVENT
CLASS:PUBLIC
DTSTART:20250527T180000Z
DURATION:PT2H30M
STATUS:CONFIRMED
SUMMARY:Rakshasa vs. Dynamo & Durchstarters Grete
DESCRIPTION:3.Liga, Gruppe A (15. Spieltag)\nErgebnis: 24:8 (85:56)
LOCATION:Parzelle 15 (RAUCHER), Hamburger Berg 15, 20359 Hamburg-St. Pauli
UID:SM-B16379@stage.kickern-hamburg.de
PRIORITY:5
SEQUENCE:1
CATEGORIES:SPORT
DTSTAMP:20260423T115019
BEGIN:VALARM
ACTION:DISPLAY
TRIGGER:-PT2H
END:VALARM
END:VEVENT
BEGIN:VEVENT
CLASS:PUBLIC
DTSTART:20250610T180000Z
DURATION:PT2H30M
STATUS:CONFIRMED
SUMMARY:Rakshasa vs. Exorbitanter Mumpitz
DESCRIPTION:3.Liga, Gruppe A (16. Spieltag)\nErgebnis: 21:11 (80:63)
LOCATION:Parzelle 15 (RAUCHER), Hamburger Berg 15, 20359 Hamburg-St. Pauli
UID:SM-B16393@stage.kickern-hamburg.de
PRIORITY:5
SEQUENCE:1
CATEGORIES:SPORT
DTSTAMP:20260423T115019
BEGIN:VALARM
ACTION:DISPLAY
TRIGGER:-PT2H
END:VALARM
END:VEVENT
BEGIN:VEVENT
CLASS:PUBLIC
DTSTART:20250715T180000Z
DURATION:PT2H30M
STATUS:CONFIRMED
SUMMARY:Rakshasa vs. Hamburg Likedeelers
DESCRIPTION:3.Liga, Gruppe A (18. Spieltag)\nErgebnis: 9:23 (62:85)
LOCATION:Parzelle 15 (RAUCHER), Hamburger Berg 15, 20359 Hamburg-St. Pauli
UID:SM-B16411@stage.kickern-hamburg.de
PRIORITY:5
SEQUENCE:1
CATEGORIES:SPORT
DTSTAMP:20260423T115019
BEGIN:VALARM
ACTION:DISPLAY
TRIGGER:-PT2H
END:VALARM
END:VEVENT
END:VCALENDAR
