BEGIN:VCALENDAR
VERSION:2.0
PRODID:PHP
METHOD:REQUEST
X-ORIGINAL-URL:https://stage.kickern-hamburg.de/verband/spielorte?task=spielort_begegnungen_ical&id=14
X-WR-CALNAME;VALUE=TEXT:Freundlich + Kompetent
BEGIN:VEVENT
CLASS:PUBLIC
DTSTART:20250515T180000Z
DURATION:PT2H30M
STATUS:CONFIRMED
SUMMARY:Monkey Inferno vs. 253 (NR)
DESCRIPTION:2.Liga, Gruppe A (14. Spieltag)\nErgebnis: 19:13 (80:71)
LOCATION:Freundlich + Kompetent, Hamburger Straße 13, 22083 Hamburg-Barmbek-Süd
UID:SM-B16848@stage.kickern-hamburg.de
PRIORITY:5
SEQUENCE:1
CATEGORIES:SPORT
DTSTAMP:20260423T115027
BEGIN:VALARM
ACTION:DISPLAY
TRIGGER:-PT2H
END:VALARM
END:VEVENT
BEGIN:VEVENT
CLASS:PUBLIC
DTSTART:20250619T180000Z
DURATION:PT2H30M
STATUS:CONFIRMED
SUMMARY:Monkey Inferno vs. Kicksiders (NR)
DESCRIPTION:2.Liga, Gruppe A (16. Spieltag)\nErgebnis: 22:10 (86:66)
LOCATION:Freundlich + Kompetent, Hamburger Straße 13, 22083 Hamburg-Barmbek-Süd
UID:SM-B16868@stage.kickern-hamburg.de
PRIORITY:5
SEQUENCE:1
CATEGORIES:SPORT
DTSTAMP:20260423T115027
BEGIN:VALARM
ACTION:DISPLAY
TRIGGER:-PT2H
END:VALARM
END:VEVENT
BEGIN:VEVENT
CLASS:PUBLIC
DTSTART:20250717T180000Z
DURATION:PT2H30M
STATUS:CONFIRMED
SUMMARY:Monkey Inferno vs. Anboard
DESCRIPTION:2.Liga, Gruppe A (18. Spieltag)\nErgebnis: 16:16 (76:80)
LOCATION:Freundlich + Kompetent, Hamburger Straße 13, 22083 Hamburg-Barmbek-Süd
UID:SM-B16886@stage.kickern-hamburg.de
PRIORITY:5
SEQUENCE:1
CATEGORIES:SPORT
DTSTAMP:20260423T115027
BEGIN:VALARM
ACTION:DISPLAY
TRIGGER:-PT2H
END:VALARM
END:VEVENT
BEGIN:VEVENT
CLASS:PUBLIC
DTSTART:20251201T190000Z
DURATION:PT2H30M
STATUS:CONFIRMED
SUMMARY:Prontosaurier vs. Kick happens
DESCRIPTION:Rookie-Liga (3. Spieltag)
LOCATION:Freundlich + Kompetent, Hamburger Straße 13, 22083 Hamburg-Barmbek-Süd
UID:SM-B18534@stage.kickern-hamburg.de
PRIORITY:5
SEQUENCE:0
CATEGORIES:SPORT
DTSTAMP:20260423T115027
BEGIN:VALARM
ACTION:DISPLAY
TRIGGER:-PT2H
END:VALARM
END:VEVENT
BEGIN:VEVENT
CLASS:PUBLIC
DTSTART:20260105T190000Z
DURATION:PT2H30M
STATUS:CONFIRMED
SUMMARY:Prontosaurier vs. TishING for Complications
DESCRIPTION:Rookie-Liga (4. Spieltag)
LOCATION:Freundlich + Kompetent, Hamburger Straße 13, 22083 Hamburg-Barmbek-Süd
UID:SM-B18536@stage.kickern-hamburg.de
PRIORITY:5
SEQUENCE:0
CATEGORIES:SPORT
DTSTAMP:20260423T115027
BEGIN:VALARM
ACTION:DISPLAY
TRIGGER:-PT2H
END:VALARM
END:VEVENT
BEGIN:VEVENT
CLASS:PUBLIC
DTSTART:20260316T190000Z
DURATION:PT2H30M
STATUS:CONFIRMED
SUMMARY:Prontosaurier vs. siQrats
DESCRIPTION:Rookie-Liga (8. Spieltag)
LOCATION:Freundlich + Kompetent, Hamburger Straße 13, 22083 Hamburg-Barmbek-Süd
UID:SM-B18554@stage.kickern-hamburg.de
PRIORITY:5
SEQUENCE:0
CATEGORIES:SPORT
DTSTAMP:20260423T115027
BEGIN:VALARM
ACTION:DISPLAY
TRIGGER:-PT2H
END:VALARM
END:VEVENT
END:VCALENDAR
