BEGIN:VCALENDAR
VERSION:2.0
PRODID:PHP
METHOD:REQUEST
X-ORIGINAL-URL:https://stage.kickern-hamburg.de/verband/spielorte?task=spielort_begegnungen_ical&id=112
X-WR-CALNAME;VALUE=TEXT:Blitz Bar
BEGIN:VEVENT
CLASS:PUBLIC
DTSTART:20250508T180000Z
DURATION:PT2H30M
STATUS:CONFIRMED
SUMMARY:Von der Stange vs. Torfabrik Silpion (NR)
DESCRIPTION:Ligapokal 3. Liga (4. Runde)\nErgebnis: 8:24 (55:87)
LOCATION:Blitz Bar, Schulterblatt 110, 20357 Hamburg
UID:SM-B16965@stage.kickern-hamburg.de
PRIORITY:5
SEQUENCE:1
CATEGORIES:SPORT
DTSTAMP:20260423T115027
BEGIN:VALARM
ACTION:DISPLAY
TRIGGER:-PT2H
END:VALARM
END:VEVENT
BEGIN:VEVENT
CLASS:PUBLIC
DTSTART:20250521T173000Z
DURATION:PT2H30M
STATUS:CONFIRMED
SUMMARY:Von der Stange vs. Substanz P
DESCRIPTION:3.Liga, Gruppe C (15. Spieltag)\nErgebnis: 16:16 (69:70)
LOCATION:Blitz Bar, Schulterblatt 110, 20357 Hamburg
UID:SM-B16019@stage.kickern-hamburg.de
PRIORITY:5
SEQUENCE:1
CATEGORIES:SPORT
DTSTAMP:20260423T115027
BEGIN:VALARM
ACTION:DISPLAY
TRIGGER:-PT2H
END:VALARM
END:VEVENT
BEGIN:VEVENT
CLASS:PUBLIC
DTSTART:20250619T173000Z
DURATION:PT2H30M
STATUS:CONFIRMED
SUMMARY:Von der Stange vs. Drehschieber Silpion
DESCRIPTION:3.Liga, Gruppe C (16. Spieltag)\nErgebnis: 31:1 (95:48)
LOCATION:Blitz Bar, Schulterblatt 110, 20357 Hamburg
UID:SM-B16033@stage.kickern-hamburg.de
PRIORITY:5
SEQUENCE:1
CATEGORIES:SPORT
DTSTAMP:20260423T115027
BEGIN:VALARM
ACTION:DISPLAY
TRIGGER:-PT2H
END:VALARM
END:VEVENT
BEGIN:VEVENT
CLASS:PUBLIC
DTSTART:20250710T170000Z
DURATION:PT2H30M
STATUS:CONFIRMED
SUMMARY:Von der Stange vs. MiDDelDinger
DESCRIPTION:3.Liga, Gruppe C (18. Spieltag)\nErgebnis: 18:14 (78:65)
LOCATION:Blitz Bar, Schulterblatt 110, 20357 Hamburg
UID:SM-B16051@stage.kickern-hamburg.de
PRIORITY:5
SEQUENCE:1
CATEGORIES:SPORT
DTSTAMP:20260423T115027
BEGIN:VALARM
ACTION:DISPLAY
TRIGGER:-PT2H
END:VALARM
END:VEVENT
END:VCALENDAR
