BEGIN:VCALENDAR
VERSION:2.0
PRODID:PHP
METHOD:REQUEST
X-ORIGINAL-URL:https://stage.kickern-hamburg.de/liga/ergebnisse-und-tabellen?task=team_begegnungen_ical&id=5623
X-WR-CALNAME;VALUE=TEXT:Kicking Me Softly
BEGIN:VEVENT
CLASS:PUBLIC
DTSTART:20250918T180000Z
DURATION:PT2H30M
STATUS:CONFIRMED
SUMMARY:Exorbitanter Mumpitz vs. Kicking Me Softly
DESCRIPTION:4. Liga, Gruppe C (1. Spieltag)\nErgebnis: 26:6 (89:51)
LOCATION:Joy, Winterhuder Weg 69, 22085 Hamburg-Uhlenhorst
UID:SM-B18190@stage.kickern-hamburg.de
PRIORITY:5
SEQUENCE:1
CATEGORIES:SPORT
DTSTAMP:20260423T115909
END:VEVENT
BEGIN:VEVENT
CLASS:PUBLIC
DTSTART:20250924T180000Z
DURATION:PT2H30M
STATUS:CONFIRMED
SUMMARY:Kicking Me Softly vs. Verdammte Axt
DESCRIPTION:4. Liga, Gruppe C (2. Spieltag)\nErgebnis: 19:13 (80:68)
LOCATION:ZaZú, Lutterothstraße 62, 20255 Hamburg-Eimsbüttel
UID:SM-B18198@stage.kickern-hamburg.de
PRIORITY:5
SEQUENCE:1
CATEGORIES:SPORT
DTSTAMP:20260423T115909
END:VEVENT
BEGIN:VEVENT
CLASS:PUBLIC
DTSTART:20251015T170000Z
DURATION:PT2H30M
STATUS:CONFIRMED
SUMMARY:FC St. Pauli Giganten vs. Kicking Me Softly
DESCRIPTION:4. Liga, Gruppe C (3. Spieltag)\nErgebnis: 19:13 (79:68)
LOCATION:FC St. Pauli Clubheim, Harald-Stender-Platz 1, 20359 Hamburg-St. Pauli
UID:SM-B18200@stage.kickern-hamburg.de
PRIORITY:5
SEQUENCE:1
CATEGORIES:SPORT
DTSTAMP:20260423T115909
END:VEVENT
BEGIN:VEVENT
CLASS:PUBLIC
DTSTART:20251022T180000Z
DURATION:PT2H30M
STATUS:CONFIRMED
SUMMARY:Kicking Me Softly vs. Fightclub FC St. Pauli II
DESCRIPTION:Landespokal (1. Runde)\nErgebnis: 5:19 (41:67)
LOCATION:ZaZú, Lutterothstraße 62, 20255 Hamburg-Eimsbüttel
UID:SM-B18321@stage.kickern-hamburg.de
PRIORITY:5
SEQUENCE:1
CATEGORIES:SPORT
DTSTAMP:20260423T115909
END:VEVENT
BEGIN:VEVENT
CLASS:PUBLIC
DTSTART:20251104T190000Z
DURATION:PT2H30M
STATUS:CONFIRMED
SUMMARY:Old School vs. Kicking Me Softly
DESCRIPTION:4. Liga, Gruppe C (4. Spieltag)
LOCATION:Hannes & Hanna Wohnzimmer (Raucher), Weidenallee 60, 20357 Hamburg-Eimsbüttel
UID:SM-B18214@stage.kickern-hamburg.de
PRIORITY:5
SEQUENCE:0
CATEGORIES:SPORT
DTSTAMP:20260423T115909
END:VEVENT
BEGIN:VEVENT
CLASS:PUBLIC
DTSTART:20251106T191500Z
DURATION:PT2H30M
STATUS:CONFIRMED
SUMMARY:Kicking Me Softly vs. Team St. Pauli 05
DESCRIPTION:Ligapokal 3./4. Liga (2. Runde)
LOCATION:ZaZú, Lutterothstraße 62, 20255 Hamburg-Eimsbüttel
UID:SM-B18434@stage.kickern-hamburg.de
PRIORITY:5
SEQUENCE:0
CATEGORIES:SPORT
DTSTAMP:20260423T115909
END:VEVENT
BEGIN:VEVENT
CLASS:PUBLIC
DTSTART:20251119T190000Z
DURATION:PT2H30M
STATUS:CONFIRMED
SUMMARY:Kicking Me Softly vs. Torfabrik 2. Silpion (NR)
DESCRIPTION:4. Liga, Gruppe C (5. Spieltag)
LOCATION:ZaZú, Lutterothstraße 62, 20255 Hamburg-Eimsbüttel
UID:SM-B18220@stage.kickern-hamburg.de
PRIORITY:5
SEQUENCE:0
CATEGORIES:SPORT
DTSTAMP:20260423T115909
END:VEVENT
BEGIN:VEVENT
CLASS:PUBLIC
DTSTART:20251203T190000Z
DURATION:PT2H30M
STATUS:CONFIRMED
SUMMARY:Wohnzimmer Kapeiken vs. Kicking Me Softly
DESCRIPTION:4. Liga, Gruppe C (6. Spieltag)
LOCATION:Hannes & Hanna Wohnzimmer (Raucher), Weidenallee 60, 20357 Hamburg-Eimsbüttel
UID:SM-B18230@stage.kickern-hamburg.de
PRIORITY:5
SEQUENCE:0
CATEGORIES:SPORT
DTSTAMP:20260423T115909
END:VEVENT
BEGIN:VEVENT
CLASS:PUBLIC
DTSTART:20260107T190000Z
DURATION:PT2H30M
STATUS:CONFIRMED
SUMMARY:Kicking Me Softly vs. FC St. Pauli Die Anfänger
DESCRIPTION:4. Liga, Gruppe C (7. Spieltag)
LOCATION:ZaZú, Lutterothstraße 62, 20255 Hamburg-Eimsbüttel
UID:SM-B18236@stage.kickern-hamburg.de
PRIORITY:5
SEQUENCE:0
CATEGORIES:SPORT
DTSTAMP:20260423T115909
END:VEVENT
BEGIN:VEVENT
CLASS:PUBLIC
DTSTART:20260121T190000Z
DURATION:PT2H30M
STATUS:CONFIRMED
SUMMARY:Kicking Me Softly vs. Exorbitanter Mumpitz
DESCRIPTION:4. Liga, Gruppe C (8. Spieltag)
LOCATION:ZaZú, Lutterothstraße 62, 20255 Hamburg-Eimsbüttel
UID:SM-B18191@stage.kickern-hamburg.de
PRIORITY:5
SEQUENCE:0
CATEGORIES:SPORT
DTSTAMP:20260423T115909
END:VEVENT
BEGIN:VEVENT
CLASS:PUBLIC
DTSTART:20260206T190000Z
DURATION:PT2H30M
STATUS:CONFIRMED
SUMMARY:Verdammte Axt vs. Kicking Me Softly
DESCRIPTION:4. Liga, Gruppe C (9. Spieltag)
LOCATION:Hannes & Hanna Wohnzimmer (Raucher), Weidenallee 60, 20357 Hamburg-Eimsbüttel
UID:SM-B18199@stage.kickern-hamburg.de
PRIORITY:5
SEQUENCE:0
CATEGORIES:SPORT
DTSTAMP:20260423T115909
END:VEVENT
BEGIN:VEVENT
CLASS:PUBLIC
DTSTART:20260218T180000Z
DURATION:PT2H30M
STATUS:CONFIRMED
SUMMARY:FC St. Pauli Giganten vs. Kicking Me Softly
DESCRIPTION:4. Liga, Gruppe C (10. Spieltag)
LOCATION:FC St. Pauli Clubheim, Harald-Stender-Platz 1, 20359 Hamburg-St. Pauli
UID:SM-B18201@stage.kickern-hamburg.de
PRIORITY:5
SEQUENCE:0
CATEGORIES:SPORT
DTSTAMP:20260423T115909
END:VEVENT
BEGIN:VEVENT
CLASS:PUBLIC
DTSTART:20260318T190000Z
DURATION:PT2H30M
STATUS:CONFIRMED
SUMMARY:Kicking Me Softly vs. Old School
DESCRIPTION:4. Liga, Gruppe C (11. Spieltag)
LOCATION:ZaZú, Lutterothstraße 62, 20255 Hamburg-Eimsbüttel
UID:SM-B18215@stage.kickern-hamburg.de
PRIORITY:5
SEQUENCE:0
CATEGORIES:SPORT
DTSTAMP:20260423T115909
END:VEVENT
BEGIN:VEVENT
CLASS:PUBLIC
DTSTART:20260402T180000Z
DURATION:PT2H30M
STATUS:CONFIRMED
SUMMARY:Torfabrik 2. Silpion (NR) vs. Kicking Me Softly
DESCRIPTION:4. Liga, Gruppe C (12. Spieltag)
LOCATION:Die Torfabrik, Zum Sportplatz 10, 21220 Seevetal
UID:SM-B18221@stage.kickern-hamburg.de
PRIORITY:5
SEQUENCE:0
CATEGORIES:SPORT
DTSTAMP:20260423T115909
END:VEVENT
BEGIN:VEVENT
CLASS:PUBLIC
DTSTART:20260415T180000Z
DURATION:PT2H30M
STATUS:CONFIRMED
SUMMARY:Kicking Me Softly vs. Wohnzimmer Kapeiken
DESCRIPTION:4. Liga, Gruppe C (13. Spieltag)
LOCATION:ZaZú, Lutterothstraße 62, 20255 Hamburg-Eimsbüttel
UID:SM-B18231@stage.kickern-hamburg.de
PRIORITY:5
SEQUENCE:0
CATEGORIES:SPORT
DTSTAMP:20260423T115909
END:VEVENT
BEGIN:VEVENT
CLASS:PUBLIC
DTSTART:20260429T170000Z
DURATION:PT2H30M
STATUS:CONFIRMED
SUMMARY:FC St. Pauli Die Anfänger vs. Kicking Me Softly
DESCRIPTION:4. Liga, Gruppe C (14. Spieltag)
LOCATION:FC St. Pauli Clubheim, Harald-Stender-Platz 1, 20359 Hamburg-St. Pauli
UID:SM-B18237@stage.kickern-hamburg.de
PRIORITY:5
SEQUENCE:0
CATEGORIES:SPORT
DTSTAMP:20260423T115909
END:VEVENT
END:VCALENDAR
