BEGIN:VCALENDAR
VERSION:2.0
PRODID:PHP
METHOD:REQUEST
X-ORIGINAL-URL:https://stage.kickern-hamburg.de/liga/ergebnisse-und-tabellen?task=team_begegnungen_ical&id=5607
X-WR-CALNAME;VALUE=TEXT:FC St. Pauli Coming Soon
BEGIN:VEVENT
CLASS:PUBLIC
DTSTART:20250925T180000Z
DURATION:PT2H30M
STATUS:CONFIRMED
SUMMARY:Dampframme St. Pauli vs. FC St. Pauli Coming Soon
DESCRIPTION:4. Liga, Gruppe D (2. Spieltag)\nErgebnis: 10:22 (56:79)
LOCATION:KIXX, Nobistor 38, 22767 Hamburg-Altona-Altstadt
UID:SM-B18254@stage.kickern-hamburg.de
PRIORITY:5
SEQUENCE:1
CATEGORIES:SPORT
DTSTAMP:20260423T115429
END:VEVENT
BEGIN:VEVENT
CLASS:PUBLIC
DTSTART:20251008T180000Z
DURATION:PT2H30M
STATUS:CONFIRMED
SUMMARY:FC St. Pauli Coming Soon vs. Boltens
DESCRIPTION:Ligapokal 3./4. Liga (1. Runde)\nErgebnis: 12:20 (63:80)
LOCATION:FC St. Pauli Clubheim, Harald-Stender-Platz 1, 20359 Hamburg-St. Pauli
UID:SM-B18334@stage.kickern-hamburg.de
PRIORITY:5
SEQUENCE:1
CATEGORIES:SPORT
DTSTAMP:20260423T115429
END:VEVENT
BEGIN:VEVENT
CLASS:PUBLIC
DTSTART:20251015T180000Z
DURATION:PT2H30M
STATUS:CONFIRMED
SUMMARY:FC St. Pauli Coming Soon vs. Drehschieber Silpion
DESCRIPTION:4. Liga, Gruppe D (3. Spieltag)\nErgebnis: 18:14 (77:70)
LOCATION:FC St. Pauli Clubheim, Harald-Stender-Platz 1, 20359 Hamburg-St. Pauli
UID:SM-B18258@stage.kickern-hamburg.de
PRIORITY:5
SEQUENCE:1
CATEGORIES:SPORT
DTSTAMP:20260423T115429
END:VEVENT
BEGIN:VEVENT
CLASS:PUBLIC
DTSTART:20251029T190000Z
DURATION:PT2H30M
STATUS:TENTATIVE
SUMMARY:FC St. Pauli Coming Soon vs. HSV Schießbude (NR) (wird verlegt)
DESCRIPTION:Landespokal (2. Runde)
LOCATION:FC St. Pauli Clubheim, Harald-Stender-Platz 1, 20359 Hamburg-St. Pauli
UID:SM-B18467@stage.kickern-hamburg.de
PRIORITY:5
SEQUENCE:0
CATEGORIES:SPORT
DTSTAMP:20260423T115429
END:VEVENT
BEGIN:VEVENT
CLASS:PUBLIC
DTSTART:20251106T180000Z
DURATION:PT2H30M
STATUS:TENTATIVE
SUMMARY:siQrats (NR) vs. FC St. Pauli Coming Soon (wird verlegt)
DESCRIPTION:4. Liga, Gruppe D (4. Spieltag)
LOCATION:siQnet Consulting GmbH, Wendenstraße 279, 20537 Hamburg
UID:SM-B18268@stage.kickern-hamburg.de
PRIORITY:5
SEQUENCE:0
CATEGORIES:SPORT
DTSTAMP:20260423T115429
END:VEVENT
BEGIN:VEVENT
CLASS:PUBLIC
DTSTART:20251119T190000Z
DURATION:PT2H30M
STATUS:CONFIRMED
SUMMARY:FC St. Pauli Coming Soon vs. Trash N' Talk
DESCRIPTION:4. Liga, Gruppe D (5. Spieltag)
LOCATION:FC St. Pauli Clubheim, Harald-Stender-Platz 1, 20359 Hamburg-St. Pauli
UID:SM-B18274@stage.kickern-hamburg.de
PRIORITY:5
SEQUENCE:0
CATEGORIES:SPORT
DTSTAMP:20260423T115429
END:VEVENT
BEGIN:VEVENT
CLASS:PUBLIC
DTSTART:20251204T183000Z
DURATION:PT2H30M
STATUS:CONFIRMED
SUMMARY:Dampframme Aalstars vs. FC St. Pauli Coming Soon
DESCRIPTION:4. Liga, Gruppe D (6. Spieltag)
LOCATION:KIXX, Nobistor 38, 22767 Hamburg-Altona-Altstadt
UID:SM-B18280@stage.kickern-hamburg.de
PRIORITY:5
SEQUENCE:0
CATEGORIES:SPORT
DTSTAMP:20260423T115429
END:VEVENT
BEGIN:VEVENT
CLASS:PUBLIC
DTSTART:20260107T190000Z
DURATION:PT2H30M
STATUS:CONFIRMED
SUMMARY:FC St. Pauli Coming Soon vs. Keine Tricks !!
DESCRIPTION:4. Liga, Gruppe D (7. Spieltag)
LOCATION:FC St. Pauli Clubheim, Harald-Stender-Platz 1, 20359 Hamburg-St. Pauli
UID:SM-B18290@stage.kickern-hamburg.de
PRIORITY:5
SEQUENCE:0
CATEGORIES:SPORT
DTSTAMP:20260423T115429
END:VEVENT
BEGIN:VEVENT
CLASS:PUBLIC
DTSTART:20260121T190000Z
DURATION:PT2H30M
STATUS:CONFIRMED
SUMMARY:FC St. Pauli Coming Soon vs. FC St. Pauli Das Imperium kickt zurück
DESCRIPTION:4. Liga, Gruppe D (8. Spieltag)
LOCATION:FC St. Pauli Clubheim, Harald-Stender-Platz 1, 20359 Hamburg-St. Pauli
UID:SM-B18241@stage.kickern-hamburg.de
PRIORITY:5
SEQUENCE:0
CATEGORIES:SPORT
DTSTAMP:20260423T115429
END:VEVENT
BEGIN:VEVENT
CLASS:PUBLIC
DTSTART:20260204T190000Z
DURATION:PT2H30M
STATUS:CONFIRMED
SUMMARY:FC St. Pauli Coming Soon vs. Dampframme St. Pauli
DESCRIPTION:4. Liga, Gruppe D (9. Spieltag)
LOCATION:FC St. Pauli Clubheim, Harald-Stender-Platz 1, 20359 Hamburg-St. Pauli
UID:SM-B18255@stage.kickern-hamburg.de
PRIORITY:5
SEQUENCE:0
CATEGORIES:SPORT
DTSTAMP:20260423T115429
END:VEVENT
BEGIN:VEVENT
CLASS:PUBLIC
DTSTART:20260219T190000Z
DURATION:PT2H30M
STATUS:CONFIRMED
SUMMARY:Drehschieber Silpion vs. FC St. Pauli Coming Soon
DESCRIPTION:4. Liga, Gruppe D (10. Spieltag)
LOCATION:Wohnung Julian Krätzig, Reeperbahn 63, 20359 Hamburg-St. Pauli
UID:SM-B18259@stage.kickern-hamburg.de
PRIORITY:5
SEQUENCE:0
CATEGORIES:SPORT
DTSTAMP:20260423T115429
END:VEVENT
BEGIN:VEVENT
CLASS:PUBLIC
DTSTART:20260318T190000Z
DURATION:PT2H30M
STATUS:CONFIRMED
SUMMARY:FC St. Pauli Coming Soon vs. siQrats (NR)
DESCRIPTION:4. Liga, Gruppe D (11. Spieltag)
LOCATION:FC St. Pauli Clubheim, Harald-Stender-Platz 1, 20359 Hamburg-St. Pauli
UID:SM-B18269@stage.kickern-hamburg.de
PRIORITY:5
SEQUENCE:0
CATEGORIES:SPORT
DTSTAMP:20260423T115429
END:VEVENT
BEGIN:VEVENT
CLASS:PUBLIC
DTSTART:20260402T170000Z
DURATION:PT2H30M
STATUS:CONFIRMED
SUMMARY:Trash N' Talk vs. FC St. Pauli Coming Soon
DESCRIPTION:4. Liga, Gruppe D (12. Spieltag)
LOCATION:Ilohh Bar (RAUCHER), Repsoldstraße 52, 20097 Hamburg-Hammerbrook
UID:SM-B18275@stage.kickern-hamburg.de
PRIORITY:5
SEQUENCE:0
CATEGORIES:SPORT
DTSTAMP:20260423T115429
END:VEVENT
BEGIN:VEVENT
CLASS:PUBLIC
DTSTART:20260415T180000Z
DURATION:PT2H30M
STATUS:CONFIRMED
SUMMARY:FC St. Pauli Coming Soon vs. Dampframme Aalstars
DESCRIPTION:4. Liga, Gruppe D (13. Spieltag)
LOCATION:FC St. Pauli Clubheim, Harald-Stender-Platz 1, 20359 Hamburg-St. Pauli
UID:SM-B18281@stage.kickern-hamburg.de
PRIORITY:5
SEQUENCE:0
CATEGORIES:SPORT
DTSTAMP:20260423T115429
END:VEVENT
BEGIN:VEVENT
CLASS:PUBLIC
DTSTART:20260427T180000Z
DURATION:PT2H30M
STATUS:CONFIRMED
SUMMARY:Keine Tricks !! vs. FC St. Pauli Coming Soon
DESCRIPTION:4. Liga, Gruppe D (14. Spieltag)
LOCATION:The Pub formerly known as Froggys (RAUCH, Eimbütteler Chaussee 29, 20259 Hamburg-Eimsbüttel
UID:SM-B18291@stage.kickern-hamburg.de
PRIORITY:5
SEQUENCE:0
CATEGORIES:SPORT
DTSTAMP:20260423T115429
END:VEVENT
END:VCALENDAR
