BEGIN:VCALENDAR
VERSION:2.0
PRODID:PHP
METHOD:REQUEST
X-ORIGINAL-URL:https://stage.kickern-hamburg.de/liga/ergebnisse-und-tabellen?task=team_begegnungen_ical&id=5582
X-WR-CALNAME;VALUE=TEXT:Exorbitante Eskalation
BEGIN:VEVENT
CLASS:PUBLIC
DTSTART:20250910T180000Z
DURATION:PT2H30M
STATUS:CONFIRMED
SUMMARY:FC St. Pauli LMB Zwo vs. Exorbitante Eskalation
DESCRIPTION:4. Liga, Gruppe B (1. Spieltag)\nErgebnis: 19:13 (74:68)
LOCATION:FC St. Pauli Clubheim, Harald-Stender-Platz 1, 20359 Hamburg-St. Pauli
UID:SM-B18134@stage.kickern-hamburg.de
PRIORITY:5
SEQUENCE:1
CATEGORIES:SPORT
DTSTAMP:20260423T115548
END:VEVENT
BEGIN:VEVENT
CLASS:PUBLIC
DTSTART:20251001T180000Z
DURATION:PT2H30M
STATUS:CONFIRMED
SUMMARY:FC St. Pauli Sekt und pöbeln vs. Exorbitante Eskalation
DESCRIPTION:4. Liga, Gruppe B (2. Spieltag)\nErgebnis: 25:7 (86:51)
LOCATION:FC St. Pauli Clubheim, Harald-Stender-Platz 1, 20359 Hamburg-St. Pauli
UID:SM-B18140@stage.kickern-hamburg.de
PRIORITY:5
SEQUENCE:1
CATEGORIES:SPORT
DTSTAMP:20260423T115548
END:VEVENT
BEGIN:VEVENT
CLASS:PUBLIC
DTSTART:20251008T180000Z
DURATION:PT2H30M
STATUS:CONFIRMED
SUMMARY:Exorbitante Eskalation vs. 3. Herren Silpion II (NR)
DESCRIPTION:Landespokal (1. Runde)\nErgebnis: 3:29 (40:93)
LOCATION:Joy, Winterhuder Weg 69, 22085 Hamburg-Uhlenhorst
UID:SM-B18318@stage.kickern-hamburg.de
PRIORITY:5
SEQUENCE:1
CATEGORIES:SPORT
DTSTAMP:20260423T115548
END:VEVENT
BEGIN:VEVENT
CLASS:PUBLIC
DTSTART:20251015T180000Z
DURATION:PT2H30M
STATUS:CONFIRMED
SUMMARY:Exorbitante Eskalation vs. The Walking Dead
DESCRIPTION:4. Liga, Gruppe B (3. Spieltag)\nErgebnis: 5:27 (46:91)
LOCATION:Joy, Winterhuder Weg 69, 22085 Hamburg-Uhlenhorst
UID:SM-B18150@stage.kickern-hamburg.de
PRIORITY:5
SEQUENCE:1
CATEGORIES:SPORT
DTSTAMP:20260423T115548
END:VEVENT
BEGIN:VEVENT
CLASS:PUBLIC
DTSTART:20251029T190000Z
DURATION:PT2H30M
STATUS:TENTATIVE
SUMMARY:Kickericki vs. Exorbitante Eskalation (wird verlegt)
DESCRIPTION:Ligapokal 3./4. Liga (2. Runde)
LOCATION:Hannes & Hanna Wohnzimmer (Raucher), Weidenallee 60, 20357 Hamburg-Eimsbüttel
UID:SM-B18440@stage.kickern-hamburg.de
PRIORITY:5
SEQUENCE:0
CATEGORIES:SPORT
DTSTAMP:20260423T115548
END:VEVENT
BEGIN:VEVENT
CLASS:PUBLIC
DTSTART:20251104T190000Z
DURATION:PT2H30M
STATUS:CONFIRMED
SUMMARY:Glashoch Rangers Hamburg vs. Exorbitante Eskalation
DESCRIPTION:4. Liga, Gruppe B (4. Spieltag)
LOCATION:KIXX, Nobistor 38, 22767 Hamburg-Altona-Altstadt
UID:SM-B18154@stage.kickern-hamburg.de
PRIORITY:5
SEQUENCE:0
CATEGORIES:SPORT
DTSTAMP:20260423T115548
END:VEVENT
BEGIN:VEVENT
CLASS:PUBLIC
DTSTART:20251119T190000Z
DURATION:PT2H30M
STATUS:CONFIRMED
SUMMARY:Exorbitante Eskalation vs. Dynamo & Durchstarters Grete
DESCRIPTION:4. Liga, Gruppe B (5. Spieltag)
LOCATION:Joy, Winterhuder Weg 69, 22085 Hamburg-Uhlenhorst
UID:SM-B18166@stage.kickern-hamburg.de
PRIORITY:5
SEQUENCE:0
CATEGORIES:SPORT
DTSTAMP:20260423T115548
END:VEVENT
BEGIN:VEVENT
CLASS:PUBLIC
DTSTART:20251203T190000Z
DURATION:PT2H30M
STATUS:CONFIRMED
SUMMARY:Exorbitante Eskalation vs. TischING für Kühlschränke (NR)
DESCRIPTION:4. Liga, Gruppe B (6. Spieltag)
LOCATION:Joy, Winterhuder Weg 69, 22085 Hamburg-Uhlenhorst
UID:SM-B18168@stage.kickern-hamburg.de
PRIORITY:5
SEQUENCE:0
CATEGORIES:SPORT
DTSTAMP:20260423T115548
END:VEVENT
BEGIN:VEVENT
CLASS:PUBLIC
DTSTART:20260107T190000Z
DURATION:PT2H30M
STATUS:CONFIRMED
SUMMARY:Exorbitante Eskalation vs. Mauzis (NR)
DESCRIPTION:4. Liga, Gruppe B (7. Spieltag)
LOCATION:Joy, Winterhuder Weg 69, 22085 Hamburg-Uhlenhorst
UID:SM-B18176@stage.kickern-hamburg.de
PRIORITY:5
SEQUENCE:0
CATEGORIES:SPORT
DTSTAMP:20260423T115548
END:VEVENT
BEGIN:VEVENT
CLASS:PUBLIC
DTSTART:20260121T190000Z
DURATION:PT2H30M
STATUS:CONFIRMED
SUMMARY:FC St. Pauli LMB Zwo vs. Exorbitante Eskalation
DESCRIPTION:4. Liga, Gruppe B (8. Spieltag)
LOCATION:FC St. Pauli Clubheim, Harald-Stender-Platz 1, 20359 Hamburg-St. Pauli
UID:SM-B18135@stage.kickern-hamburg.de
PRIORITY:5
SEQUENCE:0
CATEGORIES:SPORT
DTSTAMP:20260423T115548
END:VEVENT
BEGIN:VEVENT
CLASS:PUBLIC
DTSTART:20260204T190000Z
DURATION:PT2H30M
STATUS:CONFIRMED
SUMMARY:Exorbitante Eskalation vs. FC St. Pauli Sekt und pöbeln
DESCRIPTION:4. Liga, Gruppe B (9. Spieltag)
LOCATION:Joy, Winterhuder Weg 69, 22085 Hamburg-Uhlenhorst
UID:SM-B18141@stage.kickern-hamburg.de
PRIORITY:5
SEQUENCE:0
CATEGORIES:SPORT
DTSTAMP:20260423T115548
END:VEVENT
BEGIN:VEVENT
CLASS:PUBLIC
DTSTART:20260219T190000Z
DURATION:PT2H30M
STATUS:CONFIRMED
SUMMARY:The Walking Dead vs. Exorbitante Eskalation
DESCRIPTION:4. Liga, Gruppe B (10. Spieltag)
LOCATION:Zur gemütlichen Ecke (RAUCHER), Eichholz 62, 20459 Hamburg
UID:SM-B18151@stage.kickern-hamburg.de
PRIORITY:5
SEQUENCE:0
CATEGORIES:SPORT
DTSTAMP:20260423T115548
END:VEVENT
BEGIN:VEVENT
CLASS:PUBLIC
DTSTART:20260318T190000Z
DURATION:PT2H30M
STATUS:CONFIRMED
SUMMARY:Exorbitante Eskalation vs. Glashoch Rangers Hamburg
DESCRIPTION:4. Liga, Gruppe B (11. Spieltag)
LOCATION:Joy, Winterhuder Weg 69, 22085 Hamburg-Uhlenhorst
UID:SM-B18155@stage.kickern-hamburg.de
PRIORITY:5
SEQUENCE:0
CATEGORIES:SPORT
DTSTAMP:20260423T115548
END:VEVENT
BEGIN:VEVENT
CLASS:PUBLIC
DTSTART:20260331T180000Z
DURATION:PT2H30M
STATUS:CONFIRMED
SUMMARY:Dynamo & Durchstarters Grete vs. Exorbitante Eskalation
DESCRIPTION:4. Liga, Gruppe B (12. Spieltag)
LOCATION:Grete (Kulturverein), Margaretenstraße 33, 20357 Hamburg
UID:SM-B18167@stage.kickern-hamburg.de
PRIORITY:5
SEQUENCE:0
CATEGORIES:SPORT
DTSTAMP:20260423T115548
END:VEVENT
BEGIN:VEVENT
CLASS:PUBLIC
DTSTART:20260416T173000Z
DURATION:PT2H30M
STATUS:CONFIRMED
SUMMARY:TischING für Kühlschränke (NR) vs. Exorbitante Eskalation
DESCRIPTION:4. Liga, Gruppe B (13. Spieltag)
LOCATION:KIXX, Nobistor 38, 22767 Hamburg-Altona-Altstadt
UID:SM-B18169@stage.kickern-hamburg.de
PRIORITY:5
SEQUENCE:0
CATEGORIES:SPORT
DTSTAMP:20260423T115548
END:VEVENT
BEGIN:VEVENT
CLASS:PUBLIC
DTSTART:20260430T180000Z
DURATION:PT2H30M
STATUS:CONFIRMED
SUMMARY:Mauzis (NR) vs. Exorbitante Eskalation
DESCRIPTION:4. Liga, Gruppe B (14. Spieltag)
LOCATION:KIXX, Nobistor 38, 22767 Hamburg-Altona-Altstadt
UID:SM-B18177@stage.kickern-hamburg.de
PRIORITY:5
SEQUENCE:0
CATEGORIES:SPORT
DTSTAMP:20260423T115548
END:VEVENT
END:VCALENDAR
