BEGIN:VCALENDAR
VERSION:2.0
PRODID:PHP
METHOD:REQUEST
X-ORIGINAL-URL:https://stage.kickern-hamburg.de/liga/ergebnisse-und-tabellen?task=team_begegnungen_ical&id=5547
X-WR-CALNAME;VALUE=TEXT:VFT Reflektorschirm Hamburg
BEGIN:VEVENT
CLASS:PUBLIC
DTSTART:20250911T170000Z
DURATION:PT2H30M
STATUS:CONFIRMED
SUMMARY:VFT Reflektorschirm Hamburg vs. Lotterie AKK II (NR)
DESCRIPTION:Landespokal (1. Runde)\nErgebnis: 0:2 (0:2)
LOCATION:KIXX, Nobistor 38, 22767 Hamburg-Altona-Altstadt
UID:SM-B18312@stage.kickern-hamburg.de
PRIORITY:5
SEQUENCE:1
CATEGORIES:SPORT
DTSTAMP:20260423T115619
END:VEVENT
BEGIN:VEVENT
CLASS:PUBLIC
DTSTART:20250918T170000Z
DURATION:PT2H30M
STATUS:CONFIRMED
SUMMARY:Kellerkicker Bergedorf vs. VFT Reflektorschirm Hamburg
DESCRIPTION:3. Liga, Gruppe C (1. Spieltag)\nErgebnis: 14:18 (74:77)
LOCATION:„Kickerkeller“ Stadtteilschule Richard-L, Richard-Linde-Weg 49, 21033 Hamburg-Lohbrügge
UID:SM-B17998@stage.kickern-hamburg.de
PRIORITY:5
SEQUENCE:1
CATEGORIES:SPORT
DTSTAMP:20260423T115619
END:VEVENT
BEGIN:VEVENT
CLASS:PUBLIC
DTSTART:20250925T170000Z
DURATION:PT2H30M
STATUS:CONFIRMED
SUMMARY:VFT Reflektorschirm Hamburg vs. Partisan Pinshot (NR)
DESCRIPTION:3. Liga, Gruppe C (2. Spieltag)\nErgebnis: 9:23 (62:85)
LOCATION:KIXX, Nobistor 38, 22767 Hamburg-Altona-Altstadt
UID:SM-B18008@stage.kickern-hamburg.de
PRIORITY:5
SEQUENCE:1
CATEGORIES:SPORT
DTSTAMP:20260423T115619
END:VEVENT
BEGIN:VEVENT
CLASS:PUBLIC
DTSTART:20251014T170000Z
DURATION:PT2H30M
STATUS:CONFIRMED
SUMMARY:Roter Stern Kickers 1 (NR) vs. VFT Reflektorschirm Hamburg
DESCRIPTION:3. Liga, Gruppe C (3. Spieltag)\nErgebnis: 31:3 (93:39)
LOCATION:JuKI 42, An der Reitbahn 2, 22926 Ahrensburg
UID:SM-B18022@stage.kickern-hamburg.de
PRIORITY:5
SEQUENCE:1
CATEGORIES:SPORT
DTSTAMP:20260423T115619
END:VEVENT
BEGIN:VEVENT
CLASS:PUBLIC
DTSTART:20251029T180000Z
DURATION:PT2H30M
STATUS:CONFIRMED
SUMMARY:VFT Reflektorschirm Hamburg vs. Bolzen Edel (NR)
DESCRIPTION:Ligapokal 3./4. Liga (2. Runde)
LOCATION:KIXX, Nobistor 38, 22767 Hamburg-Altona-Altstadt
UID:SM-B18429@stage.kickern-hamburg.de
PRIORITY:5
SEQUENCE:0
CATEGORIES:SPORT
DTSTAMP:20260423T115619
END:VEVENT
BEGIN:VEVENT
CLASS:PUBLIC
DTSTART:20251106T180000Z
DURATION:PT2H30M
STATUS:TENTATIVE
SUMMARY:VFT Reflektorschirm Hamburg vs. Von der Stange (wird verlegt)
DESCRIPTION:3. Liga, Gruppe C (4. Spieltag)
LOCATION:KIXX, Nobistor 38, 22767 Hamburg-Altona-Altstadt
UID:SM-B18028@stage.kickern-hamburg.de
PRIORITY:5
SEQUENCE:0
CATEGORIES:SPORT
DTSTAMP:20260423T115619
END:VEVENT
BEGIN:VEVENT
CLASS:PUBLIC
DTSTART:20251121T190000Z
DURATION:PT2H30M
STATUS:CONFIRMED
SUMMARY:FC St. Pauli Shooting Stars vs. VFT Reflektorschirm Hamburg
DESCRIPTION:3. Liga, Gruppe C (5. Spieltag)
LOCATION:FC St. Pauli Clubheim, Harald-Stender-Platz 1, 20359 Hamburg-St. Pauli
UID:SM-B18044@stage.kickern-hamburg.de
PRIORITY:5
SEQUENCE:0
CATEGORIES:SPORT
DTSTAMP:20260423T115619
END:VEVENT
BEGIN:VEVENT
CLASS:PUBLIC
DTSTART:20251204T180000Z
DURATION:PT2H30M
STATUS:CONFIRMED
SUMMARY:VFT Reflektorschirm Hamburg vs. Boltens
DESCRIPTION:3. Liga, Gruppe C (6. Spieltag)
LOCATION:KIXX, Nobistor 38, 22767 Hamburg-Altona-Altstadt
UID:SM-B18048@stage.kickern-hamburg.de
PRIORITY:5
SEQUENCE:0
CATEGORIES:SPORT
DTSTAMP:20260423T115619
END:VEVENT
BEGIN:VEVENT
CLASS:PUBLIC
DTSTART:20260106T190000Z
DURATION:PT2H30M
STATUS:CONFIRMED
SUMMARY:HSV Schießbude (NR) vs. VFT Reflektorschirm Hamburg
DESCRIPTION:3. Liga, Gruppe C (7. Spieltag)
LOCATION:HSV Tischfußball Sportzentrum, Ulzburger Strasse 94, 22850 Norderstedt
UID:SM-B18056@stage.kickern-hamburg.de
PRIORITY:5
SEQUENCE:0
CATEGORIES:SPORT
DTSTAMP:20260423T115619
END:VEVENT
BEGIN:VEVENT
CLASS:PUBLIC
DTSTART:20260122T180000Z
DURATION:PT2H30M
STATUS:CONFIRMED
SUMMARY:VFT Reflektorschirm Hamburg vs. Exorbitanter Schabernack
DESCRIPTION:3. Liga, Gruppe C (8. Spieltag)
LOCATION:KIXX, Nobistor 38, 22767 Hamburg-Altona-Altstadt
UID:SM-B18068@stage.kickern-hamburg.de
PRIORITY:5
SEQUENCE:0
CATEGORIES:SPORT
DTSTAMP:20260423T115619
END:VEVENT
BEGIN:VEVENT
CLASS:PUBLIC
DTSTART:20260203T180000Z
DURATION:PT2H30M
STATUS:CONFIRMED
SUMMARY:Fellow Unicorns vs. VFT Reflektorschirm Hamburg
DESCRIPTION:3. Liga, Gruppe C (9. Spieltag)
LOCATION:KIXX, Nobistor 38, 22767 Hamburg-Altona-Altstadt
UID:SM-B18084@stage.kickern-hamburg.de
PRIORITY:5
SEQUENCE:0
CATEGORIES:SPORT
DTSTAMP:20260423T115619
END:VEVENT
BEGIN:VEVENT
CLASS:PUBLIC
DTSTART:20260219T180000Z
DURATION:PT2H30M
STATUS:CONFIRMED
SUMMARY:VFT Reflektorschirm Hamburg vs. Kellerkicker Bergedorf
DESCRIPTION:3. Liga, Gruppe C (10. Spieltag)
LOCATION:KIXX, Nobistor 38, 22767 Hamburg-Altona-Altstadt
UID:SM-B17999@stage.kickern-hamburg.de
PRIORITY:5
SEQUENCE:0
CATEGORIES:SPORT
DTSTAMP:20260423T115619
END:VEVENT
BEGIN:VEVENT
CLASS:PUBLIC
DTSTART:20260317T190000Z
DURATION:PT2H30M
STATUS:CONFIRMED
SUMMARY:Partisan Pinshot (NR) vs. VFT Reflektorschirm Hamburg
DESCRIPTION:3. Liga, Gruppe C (11. Spieltag)
LOCATION:KIXX, Nobistor 38, 22767 Hamburg-Altona-Altstadt
UID:SM-B18009@stage.kickern-hamburg.de
PRIORITY:5
SEQUENCE:0
CATEGORIES:SPORT
DTSTAMP:20260423T115619
END:VEVENT
BEGIN:VEVENT
CLASS:PUBLIC
DTSTART:20260402T170000Z
DURATION:PT2H30M
STATUS:CONFIRMED
SUMMARY:VFT Reflektorschirm Hamburg vs. Roter Stern Kickers 1 (NR)
DESCRIPTION:3. Liga, Gruppe C (12. Spieltag)
LOCATION:KIXX, Nobistor 38, 22767 Hamburg-Altona-Altstadt
UID:SM-B18023@stage.kickern-hamburg.de
PRIORITY:5
SEQUENCE:0
CATEGORIES:SPORT
DTSTAMP:20260423T115619
END:VEVENT
BEGIN:VEVENT
CLASS:PUBLIC
DTSTART:20260416T170000Z
DURATION:PT2H30M
STATUS:CONFIRMED
SUMMARY:Von der Stange vs. VFT Reflektorschirm Hamburg
DESCRIPTION:3. Liga, Gruppe C (13. Spieltag)
LOCATION:ZaZú, Lutterothstraße 62, 20255 Hamburg-Eimsbüttel
UID:SM-B18029@stage.kickern-hamburg.de
PRIORITY:5
SEQUENCE:0
CATEGORIES:SPORT
DTSTAMP:20260423T115619
END:VEVENT
BEGIN:VEVENT
CLASS:PUBLIC
DTSTART:20260430T170000Z
DURATION:PT2H30M
STATUS:CONFIRMED
SUMMARY:VFT Reflektorschirm Hamburg vs. FC St. Pauli Shooting Stars
DESCRIPTION:3. Liga, Gruppe C (14. Spieltag)
LOCATION:KIXX, Nobistor 38, 22767 Hamburg-Altona-Altstadt
UID:SM-B18045@stage.kickern-hamburg.de
PRIORITY:5
SEQUENCE:0
CATEGORIES:SPORT
DTSTAMP:20260423T115619
END:VEVENT
BEGIN:VEVENT
CLASS:PUBLIC
DTSTART:20260521T180000Z
DURATION:PT2H30M
STATUS:CONFIRMED
SUMMARY:Boltens vs. VFT Reflektorschirm Hamburg
DESCRIPTION:3. Liga, Gruppe C (15. Spieltag)
LOCATION:Spielhaus Eimsbüttel, Eimsbütteler Marktplatz 1c, 20257 Hamburg-Eimsbüttel
UID:SM-B18049@stage.kickern-hamburg.de
PRIORITY:5
SEQUENCE:0
CATEGORIES:SPORT
DTSTAMP:20260423T115619
END:VEVENT
BEGIN:VEVENT
CLASS:PUBLIC
DTSTART:20260604T170000Z
DURATION:PT2H30M
STATUS:CONFIRMED
SUMMARY:VFT Reflektorschirm Hamburg vs. HSV Schießbude (NR)
DESCRIPTION:3. Liga, Gruppe C (16. Spieltag)
LOCATION:KIXX, Nobistor 38, 22767 Hamburg-Altona-Altstadt
UID:SM-B18057@stage.kickern-hamburg.de
PRIORITY:5
SEQUENCE:0
CATEGORIES:SPORT
DTSTAMP:20260423T115619
END:VEVENT
BEGIN:VEVENT
CLASS:PUBLIC
DTSTART:20260617T180000Z
DURATION:PT2H30M
STATUS:CONFIRMED
SUMMARY:Exorbitanter Schabernack vs. VFT Reflektorschirm Hamburg
DESCRIPTION:3. Liga, Gruppe C (17. Spieltag)
LOCATION:Joy, Winterhuder Weg 69, 22085 Hamburg-Uhlenhorst
UID:SM-B18069@stage.kickern-hamburg.de
PRIORITY:5
SEQUENCE:0
CATEGORIES:SPORT
DTSTAMP:20260423T115619
END:VEVENT
BEGIN:VEVENT
CLASS:PUBLIC
DTSTART:20260702T170000Z
DURATION:PT2H30M
STATUS:CONFIRMED
SUMMARY:VFT Reflektorschirm Hamburg vs. Fellow Unicorns
DESCRIPTION:3. Liga, Gruppe C (18. Spieltag)
LOCATION:KIXX, Nobistor 38, 22767 Hamburg-Altona-Altstadt
UID:SM-B18085@stage.kickern-hamburg.de
PRIORITY:5
SEQUENCE:0
CATEGORIES:SPORT
DTSTAMP:20260423T115619
END:VEVENT
END:VCALENDAR
