BEGIN:VCALENDAR
VERSION:2.0
PRODID:PHP
METHOD:REQUEST
X-ORIGINAL-URL:https://stage.kickern-hamburg.de/liga/ergebnisse-und-tabellen?task=team_begegnungen_ical&id=5541
X-WR-CALNAME;VALUE=TEXT:Rakshasa
BEGIN:VEVENT
CLASS:PUBLIC
DTSTART:20250911T173000Z
DURATION:PT2H30M
STATUS:CONFIRMED
SUMMARY:Hermanns treue Riege vs. Rakshasa
DESCRIPTION:3. Liga, Gruppe D (1. Spieltag)\nErgebnis: 13:19 (63:79)
LOCATION:Hermann (RAUCHER), Friedrichstraße 7b, 20359 Hamburg-St. Pauli
UID:SM-B17728@stage.kickern-hamburg.de
PRIORITY:5
SEQUENCE:1
CATEGORIES:SPORT
DTSTAMP:20260423T115556
END:VEVENT
BEGIN:VEVENT
CLASS:PUBLIC
DTSTART:20250925T180000Z
DURATION:PT2H30M
STATUS:CONFIRMED
SUMMARY:Rakshasa vs. Kickericki
DESCRIPTION:3. Liga, Gruppe D (2. Spieltag)\nErgebnis: 17:15 (78:73)
LOCATION:Zur gemütlichen Ecke (RAUCHER), Eichholz 62, 20459 Hamburg
UID:SM-B17738@stage.kickern-hamburg.de
PRIORITY:5
SEQUENCE:1
CATEGORIES:SPORT
DTSTAMP:20260423T115556
END:VEVENT
BEGIN:VEVENT
CLASS:PUBLIC
DTSTART:20250930T180000Z
DURATION:PT2H30M
STATUS:CONFIRMED
SUMMARY:Dynamo & Durchstarters Grete vs. Rakshasa
DESCRIPTION:Landespokal (1. Runde)\nErgebnis: 13:19 (64:80)
LOCATION:Grete (Kulturverein), Margaretenstraße 33, 20357 Hamburg
UID:SM-B18325@stage.kickern-hamburg.de
PRIORITY:5
SEQUENCE:1
CATEGORIES:SPORT
DTSTAMP:20260423T115556
END:VEVENT
BEGIN:VEVENT
CLASS:PUBLIC
DTSTART:20251009T180000Z
DURATION:PT2H30M
STATUS:CONFIRMED
SUMMARY:Deine Mudda (NR) vs. Rakshasa
DESCRIPTION:3. Liga, Gruppe D (3. Spieltag)\nErgebnis: 16:16 (74:71)
LOCATION:Phatikan, Nobistor 10, 22767 Hamburg-Altona-Altstadt
UID:SM-B17752@stage.kickern-hamburg.de
PRIORITY:5
SEQUENCE:1
CATEGORIES:SPORT
DTSTAMP:20260423T115556
END:VEVENT
BEGIN:VEVENT
CLASS:PUBLIC
DTSTART:20251029T190000Z
DURATION:PT2H30M
STATUS:TENTATIVE
SUMMARY:Rakshasa vs. Anboard (wird verlegt)
DESCRIPTION:Landespokal (2. Runde)
LOCATION:Zur gemütlichen Ecke (RAUCHER), Eichholz 62, 20459 Hamburg
UID:SM-B18474@stage.kickern-hamburg.de
PRIORITY:5
SEQUENCE:0
CATEGORIES:SPORT
DTSTAMP:20260423T115556
END:VEVENT
BEGIN:VEVENT
CLASS:PUBLIC
DTSTART:20251105T190000Z
DURATION:PT2H30M
STATUS:CONFIRMED
SUMMARY:Rakshasa vs. Bolzen Edel (NR)
DESCRIPTION:3. Liga, Gruppe D (4. Spieltag)
LOCATION:Zur gemütlichen Ecke (RAUCHER), Eichholz 62, 20459 Hamburg
UID:SM-B17758@stage.kickern-hamburg.de
PRIORITY:5
SEQUENCE:0
CATEGORIES:SPORT
DTSTAMP:20260423T115556
END:VEVENT
BEGIN:VEVENT
CLASS:PUBLIC
DTSTART:20251111T190000Z
DURATION:PT2H30M
STATUS:CONFIRMED
SUMMARY:Bordsteinkraken vs. Rakshasa
DESCRIPTION:Ligapokal 3./4. Liga (2. Runde)
LOCATION:Deutsche Seemannsmission Hamburg-Altona, Große Elbstraße 132, 22767 Hamburg-Altona
UID:SM-B18445@stage.kickern-hamburg.de
PRIORITY:5
SEQUENCE:0
CATEGORIES:SPORT
DTSTAMP:20260423T115556
END:VEVENT
BEGIN:VEVENT
CLASS:PUBLIC
DTSTART:20251118T190000Z
DURATION:PT2H30M
STATUS:CONFIRMED
SUMMARY:Beginners (NR) vs. Rakshasa
DESCRIPTION:3. Liga, Gruppe D (5. Spieltag)
LOCATION:KIXX, Nobistor 38, 22767 Hamburg-Altona-Altstadt
UID:SM-B17774@stage.kickern-hamburg.de
PRIORITY:5
SEQUENCE:0
CATEGORIES:SPORT
DTSTAMP:20260423T115556
END:VEVENT
BEGIN:VEVENT
CLASS:PUBLIC
DTSTART:20251203T190000Z
DURATION:PT2H30M
STATUS:CONFIRMED
SUMMARY:Rakshasa vs. Gästeblock
DESCRIPTION:3. Liga, Gruppe D (6. Spieltag)
LOCATION:Zur gemütlichen Ecke (RAUCHER), Eichholz 62, 20459 Hamburg
UID:SM-B17778@stage.kickern-hamburg.de
PRIORITY:5
SEQUENCE:0
CATEGORIES:SPORT
DTSTAMP:20260423T115556
END:VEVENT
BEGIN:VEVENT
CLASS:PUBLIC
DTSTART:20260106T183000Z
DURATION:PT2H30M
STATUS:CONFIRMED
SUMMARY:Goalzillas (NR) vs. Rakshasa
DESCRIPTION:3. Liga, Gruppe D (7. Spieltag)
LOCATION:KIXX, Nobistor 38, 22767 Hamburg-Altona-Altstadt
UID:SM-B17786@stage.kickern-hamburg.de
PRIORITY:5
SEQUENCE:0
CATEGORIES:SPORT
DTSTAMP:20260423T115556
END:VEVENT
BEGIN:VEVENT
CLASS:PUBLIC
DTSTART:20260121T190000Z
DURATION:PT2H30M
STATUS:CONFIRMED
SUMMARY:Rakshasa vs. Buffplatzmafia TF
DESCRIPTION:3. Liga, Gruppe D (8. Spieltag)
LOCATION:Zur gemütlichen Ecke (RAUCHER), Eichholz 62, 20459 Hamburg
UID:SM-B17798@stage.kickern-hamburg.de
PRIORITY:5
SEQUENCE:0
CATEGORIES:SPORT
DTSTAMP:20260423T115556
END:VEVENT
BEGIN:VEVENT
CLASS:PUBLIC
DTSTART:20260203T183000Z
DURATION:PT2H30M
STATUS:CONFIRMED
SUMMARY:Ex Orbit Ants (NR) vs. Rakshasa
DESCRIPTION:3. Liga, Gruppe D (9. Spieltag)
LOCATION:Joy, Winterhuder Weg 69, 22085 Hamburg-Uhlenhorst
UID:SM-B17814@stage.kickern-hamburg.de
PRIORITY:5
SEQUENCE:0
CATEGORIES:SPORT
DTSTAMP:20260423T115556
END:VEVENT
BEGIN:VEVENT
CLASS:PUBLIC
DTSTART:20260218T190000Z
DURATION:PT2H30M
STATUS:CONFIRMED
SUMMARY:Rakshasa vs. Hermanns treue Riege
DESCRIPTION:3. Liga, Gruppe D (10. Spieltag)
LOCATION:Zur gemütlichen Ecke (RAUCHER), Eichholz 62, 20459 Hamburg
UID:SM-B17729@stage.kickern-hamburg.de
PRIORITY:5
SEQUENCE:0
CATEGORIES:SPORT
DTSTAMP:20260423T115556
END:VEVENT
BEGIN:VEVENT
CLASS:PUBLIC
DTSTART:20260319T190000Z
DURATION:PT2H30M
STATUS:CONFIRMED
SUMMARY:Kickericki vs. Rakshasa
DESCRIPTION:3. Liga, Gruppe D (11. Spieltag)
LOCATION:Hannes & Hanna Wohnzimmer (Raucher), Weidenallee 60, 20357 Hamburg-Eimsbüttel
UID:SM-B17739@stage.kickern-hamburg.de
PRIORITY:5
SEQUENCE:0
CATEGORIES:SPORT
DTSTAMP:20260423T115556
END:VEVENT
BEGIN:VEVENT
CLASS:PUBLIC
DTSTART:20260401T180000Z
DURATION:PT2H30M
STATUS:CONFIRMED
SUMMARY:Rakshasa vs. Deine Mudda (NR)
DESCRIPTION:3. Liga, Gruppe D (12. Spieltag)
LOCATION:Zur gemütlichen Ecke (RAUCHER), Eichholz 62, 20459 Hamburg
UID:SM-B17753@stage.kickern-hamburg.de
PRIORITY:5
SEQUENCE:0
CATEGORIES:SPORT
DTSTAMP:20260423T115556
END:VEVENT
BEGIN:VEVENT
CLASS:PUBLIC
DTSTART:20260416T173000Z
DURATION:PT2H30M
STATUS:CONFIRMED
SUMMARY:Bolzen Edel (NR) vs. Rakshasa
DESCRIPTION:3. Liga, Gruppe D (13. Spieltag)
LOCATION:Sidekick, Winsener Straße 190, 21077 Hamburg-Harburg
UID:SM-B17759@stage.kickern-hamburg.de
PRIORITY:5
SEQUENCE:0
CATEGORIES:SPORT
DTSTAMP:20260423T115556
END:VEVENT
BEGIN:VEVENT
CLASS:PUBLIC
DTSTART:20260429T180000Z
DURATION:PT2H30M
STATUS:CONFIRMED
SUMMARY:Rakshasa vs. Beginners (NR)
DESCRIPTION:3. Liga, Gruppe D (14. Spieltag)
LOCATION:Zur gemütlichen Ecke (RAUCHER), Eichholz 62, 20459 Hamburg
UID:SM-B17775@stage.kickern-hamburg.de
PRIORITY:5
SEQUENCE:0
CATEGORIES:SPORT
DTSTAMP:20260423T115556
END:VEVENT
BEGIN:VEVENT
CLASS:PUBLIC
DTSTART:20260519T173000Z
DURATION:PT2H30M
STATUS:CONFIRMED
SUMMARY:Gästeblock vs. Rakshasa
DESCRIPTION:3. Liga, Gruppe D (15. Spieltag)
LOCATION:Hannes & Hanna Wohnzimmer (Raucher), Weidenallee 60, 20357 Hamburg-Eimsbüttel
UID:SM-B17779@stage.kickern-hamburg.de
PRIORITY:5
SEQUENCE:0
CATEGORIES:SPORT
DTSTAMP:20260423T115556
END:VEVENT
BEGIN:VEVENT
CLASS:PUBLIC
DTSTART:20260603T180000Z
DURATION:PT2H30M
STATUS:CONFIRMED
SUMMARY:Rakshasa vs. Goalzillas (NR)
DESCRIPTION:3. Liga, Gruppe D (16. Spieltag)
LOCATION:Zur gemütlichen Ecke (RAUCHER), Eichholz 62, 20459 Hamburg
UID:SM-B17787@stage.kickern-hamburg.de
PRIORITY:5
SEQUENCE:0
CATEGORIES:SPORT
DTSTAMP:20260423T115556
END:VEVENT
BEGIN:VEVENT
CLASS:PUBLIC
DTSTART:20260618T180000Z
DURATION:PT2H30M
STATUS:CONFIRMED
SUMMARY:Buffplatzmafia TF vs. Rakshasa
DESCRIPTION:3. Liga, Gruppe D (17. Spieltag)
LOCATION:Inline-Zentrale (RAUCHER), Sachsenstraße 7, 20097 Hamburg-Hammerbrook
UID:SM-B17799@stage.kickern-hamburg.de
PRIORITY:5
SEQUENCE:0
CATEGORIES:SPORT
DTSTAMP:20260423T115556
END:VEVENT
BEGIN:VEVENT
CLASS:PUBLIC
DTSTART:20260701T180000Z
DURATION:PT2H30M
STATUS:CONFIRMED
SUMMARY:Rakshasa vs. Ex Orbit Ants (NR)
DESCRIPTION:3. Liga, Gruppe D (18. Spieltag)
LOCATION:Zur gemütlichen Ecke (RAUCHER), Eichholz 62, 20459 Hamburg
UID:SM-B17815@stage.kickern-hamburg.de
PRIORITY:5
SEQUENCE:0
CATEGORIES:SPORT
DTSTAMP:20260423T115556
END:VEVENT
END:VCALENDAR
