BEGIN:VCALENDAR
VERSION:2.0
PRODID:PHP
METHOD:REQUEST
X-ORIGINAL-URL:https://stage.kickern-hamburg.de/liga/ergebnisse-und-tabellen?task=team_begegnungen_ical&id=5397
X-WR-CALNAME;VALUE=TEXT:Kicksiders (NR)
BEGIN:VEVENT
CLASS:PUBLIC
DTSTART:20250918T180000Z
DURATION:PT2H30M
STATUS:CONFIRMED
SUMMARY:1800 Sauna Club vs. Kicksiders (NR)
DESCRIPTION:2. Liga, Gruppe A (1. Spieltag)\nErgebnis: 26:6 (89:57)
LOCATION:KIXX, Nobistor 38, 22767 Hamburg-Altona-Altstadt
UID:SM-B17546@stage.kickern-hamburg.de
PRIORITY:5
SEQUENCE:1
CATEGORIES:SPORT
DTSTAMP:20260423T115619
END:VEVENT
BEGIN:VEVENT
CLASS:PUBLIC
DTSTART:20250923T180000Z
DURATION:PT2H30M
STATUS:CONFIRMED
SUMMARY:Solaris vs. Kicksiders (NR)
DESCRIPTION:2. Liga, Gruppe A (2. Spieltag)\nErgebnis: 15:17 (72:77)
LOCATION:KIXX, Nobistor 38, 22767 Hamburg-Altona-Altstadt
UID:SM-B17560@stage.kickern-hamburg.de
PRIORITY:5
SEQUENCE:1
CATEGORIES:SPORT
DTSTAMP:20260423T115619
END:VEVENT
BEGIN:VEVENT
CLASS:PUBLIC
DTSTART:20251014T180000Z
DURATION:PT2H30M
STATUS:CONFIRMED
SUMMARY:Kicksiders (NR) vs. 253 (NR)
DESCRIPTION:2. Liga, Gruppe A (3. Spieltag)\nErgebnis: 18:14 (76:63)
LOCATION:Sidekick, Winsener Straße 190, 21077 Hamburg-Harburg
UID:SM-B17568@stage.kickern-hamburg.de
PRIORITY:5
SEQUENCE:1
CATEGORIES:SPORT
DTSTAMP:20260423T115619
END:VEVENT
BEGIN:VEVENT
CLASS:PUBLIC
DTSTART:20251030T190000Z
DURATION:PT2H30M
STATUS:TENTATIVE
SUMMARY:Buffplatzmafia TF vs. Kicksiders (NR) (wird verlegt)
DESCRIPTION:Landespokal (2. Runde)
LOCATION:Inline-Zentrale (RAUCHER), Sachsenstraße 7, 20097 Hamburg-Hammerbrook
UID:SM-B18470@stage.kickern-hamburg.de
PRIORITY:5
SEQUENCE:0
CATEGORIES:SPORT
DTSTAMP:20260423T115619
END:VEVENT
BEGIN:VEVENT
CLASS:PUBLIC
DTSTART:20251104T190000Z
DURATION:PT2H30M
STATUS:CONFIRMED
SUMMARY:Kickertruppe (NR) vs. Kicksiders (NR)
DESCRIPTION:2. Liga, Gruppe A (4. Spieltag)
LOCATION:CloudSeeds GmbH, Wendenstraße 377, 20537 Hamburg
UID:SM-B17578@stage.kickern-hamburg.de
PRIORITY:5
SEQUENCE:0
CATEGORIES:SPORT
DTSTAMP:20260423T115619
END:VEVENT
BEGIN:VEVENT
CLASS:PUBLIC
DTSTART:20251118T190000Z
DURATION:PT2H30M
STATUS:CONFIRMED
SUMMARY:Kicksiders (NR) vs. Anboard
DESCRIPTION:2. Liga, Gruppe A (5. Spieltag)
LOCATION:Sidekick, Winsener Straße 190, 21077 Hamburg-Harburg
UID:SM-B17588@stage.kickern-hamburg.de
PRIORITY:5
SEQUENCE:0
CATEGORIES:SPORT
DTSTAMP:20260423T115619
END:VEVENT
BEGIN:VEVENT
CLASS:PUBLIC
DTSTART:20251204T183000Z
DURATION:PT2H30M
STATUS:CONFIRMED
SUMMARY:WunderBars (NR) vs. Kicksiders (NR)
DESCRIPTION:2. Liga, Gruppe A (6. Spieltag)
LOCATION:KIXX, Nobistor 38, 22767 Hamburg-Altona-Altstadt
UID:SM-B17600@stage.kickern-hamburg.de
PRIORITY:5
SEQUENCE:0
CATEGORIES:SPORT
DTSTAMP:20260423T115619
END:VEVENT
BEGIN:VEVENT
CLASS:PUBLIC
DTSTART:20260106T190000Z
DURATION:PT2H30M
STATUS:CONFIRMED
SUMMARY:Kicksiders (NR) vs. Tingeltangel FC St. Pauli
DESCRIPTION:2. Liga, Gruppe A (7. Spieltag)
LOCATION:Sidekick, Winsener Straße 190, 21077 Hamburg-Harburg
UID:SM-B17608@stage.kickern-hamburg.de
PRIORITY:5
SEQUENCE:0
CATEGORIES:SPORT
DTSTAMP:20260423T115619
END:VEVENT
BEGIN:VEVENT
CLASS:PUBLIC
DTSTART:20260120T190000Z
DURATION:PT2H30M
STATUS:CONFIRMED
SUMMARY:Altonaer Kickerkraken vs. Kicksiders (NR)
DESCRIPTION:2. Liga, Gruppe A (8. Spieltag)
LOCATION:Deutsche Seemannsmission Hamburg-Altona, Große Elbstraße 132, 22767 Hamburg-Altona
UID:SM-B17624@stage.kickern-hamburg.de
PRIORITY:5
SEQUENCE:0
CATEGORIES:SPORT
DTSTAMP:20260423T115619
END:VEVENT
BEGIN:VEVENT
CLASS:PUBLIC
DTSTART:20260120T190000Z
DURATION:PT2H30M
STATUS:CONFIRMED
SUMMARY:Kicksiders (NR) vs. 1800 Sauna Club
DESCRIPTION:Ligapokal 2. Liga (1. Runde)
LOCATION:Sidekick, Winsener Straße 190, 21077 Hamburg-Harburg
UID:SM-B18560@stage.kickern-hamburg.de
PRIORITY:5
SEQUENCE:0
CATEGORIES:SPORT
DTSTAMP:20260423T115619
END:VEVENT
BEGIN:VEVENT
CLASS:PUBLIC
DTSTART:20260203T190000Z
DURATION:PT2H30M
STATUS:CONFIRMED
SUMMARY:Kicksiders (NR) vs. Foosball Club FC St. Pauli
DESCRIPTION:2. Liga, Gruppe A (9. Spieltag)
LOCATION:Sidekick, Winsener Straße 190, 21077 Hamburg-Harburg
UID:SM-B17626@stage.kickern-hamburg.de
PRIORITY:5
SEQUENCE:0
CATEGORIES:SPORT
DTSTAMP:20260423T115619
END:VEVENT
BEGIN:VEVENT
CLASS:PUBLIC
DTSTART:20260217T190000Z
DURATION:PT2H30M
STATUS:CONFIRMED
SUMMARY:Kicksiders (NR) vs. 1800 Sauna Club
DESCRIPTION:2. Liga, Gruppe A (10. Spieltag)
LOCATION:Sidekick, Winsener Straße 190, 21077 Hamburg-Harburg
UID:SM-B17547@stage.kickern-hamburg.de
PRIORITY:5
SEQUENCE:0
CATEGORIES:SPORT
DTSTAMP:20260423T115619
END:VEVENT
BEGIN:VEVENT
CLASS:PUBLIC
DTSTART:20260317T190000Z
DURATION:PT2H30M
STATUS:CONFIRMED
SUMMARY:Kicksiders (NR) vs. Solaris
DESCRIPTION:2. Liga, Gruppe A (11. Spieltag)
LOCATION:Sidekick, Winsener Straße 190, 21077 Hamburg-Harburg
UID:SM-B17561@stage.kickern-hamburg.de
PRIORITY:5
SEQUENCE:0
CATEGORIES:SPORT
DTSTAMP:20260423T115619
END:VEVENT
BEGIN:VEVENT
CLASS:PUBLIC
DTSTART:20260331T180000Z
DURATION:PT2H30M
STATUS:CONFIRMED
SUMMARY:253 (NR) vs. Kicksiders (NR)
DESCRIPTION:2. Liga, Gruppe A (12. Spieltag)
LOCATION:KIXX, Nobistor 38, 22767 Hamburg-Altona-Altstadt
UID:SM-B17569@stage.kickern-hamburg.de
PRIORITY:5
SEQUENCE:0
CATEGORIES:SPORT
DTSTAMP:20260423T115619
END:VEVENT
BEGIN:VEVENT
CLASS:PUBLIC
DTSTART:20260414T180000Z
DURATION:PT2H30M
STATUS:CONFIRMED
SUMMARY:Kicksiders (NR) vs. Kickertruppe (NR)
DESCRIPTION:2. Liga, Gruppe A (13. Spieltag)
LOCATION:Sidekick, Winsener Straße 190, 21077 Hamburg-Harburg
UID:SM-B17579@stage.kickern-hamburg.de
PRIORITY:5
SEQUENCE:0
CATEGORIES:SPORT
DTSTAMP:20260423T115619
END:VEVENT
BEGIN:VEVENT
CLASS:PUBLIC
DTSTART:20260429T180000Z
DURATION:PT2H30M
STATUS:CONFIRMED
SUMMARY:Anboard vs. Kicksiders (NR)
DESCRIPTION:2. Liga, Gruppe A (14. Spieltag)
LOCATION:Deutsche Seemannsmission Hamburg-Altona, Große Elbstraße 132, 22767 Hamburg-Altona
UID:SM-B17589@stage.kickern-hamburg.de
PRIORITY:5
SEQUENCE:0
CATEGORIES:SPORT
DTSTAMP:20260423T115619
END:VEVENT
BEGIN:VEVENT
CLASS:PUBLIC
DTSTART:20260519T180000Z
DURATION:PT2H30M
STATUS:CONFIRMED
SUMMARY:Kicksiders (NR) vs. WunderBars (NR)
DESCRIPTION:2. Liga, Gruppe A (15. Spieltag)
LOCATION:Sidekick, Winsener Straße 190, 21077 Hamburg-Harburg
UID:SM-B17601@stage.kickern-hamburg.de
PRIORITY:5
SEQUENCE:0
CATEGORIES:SPORT
DTSTAMP:20260423T115619
END:VEVENT
BEGIN:VEVENT
CLASS:PUBLIC
DTSTART:20260605T183000Z
DURATION:PT2H30M
STATUS:CONFIRMED
SUMMARY:Tingeltangel FC St. Pauli vs. Kicksiders (NR)
DESCRIPTION:2. Liga, Gruppe A (16. Spieltag)
LOCATION:FC St. Pauli Clubheim, Harald-Stender-Platz 1, 20359 Hamburg-St. Pauli
UID:SM-B17609@stage.kickern-hamburg.de
PRIORITY:5
SEQUENCE:0
CATEGORIES:SPORT
DTSTAMP:20260423T115619
END:VEVENT
BEGIN:VEVENT
CLASS:PUBLIC
DTSTART:20260616T180000Z
DURATION:PT2H30M
STATUS:CONFIRMED
SUMMARY:Kicksiders (NR) vs. Altonaer Kickerkraken
DESCRIPTION:2. Liga, Gruppe A (17. Spieltag)
LOCATION:Sidekick, Winsener Straße 190, 21077 Hamburg-Harburg
UID:SM-B17625@stage.kickern-hamburg.de
PRIORITY:5
SEQUENCE:0
CATEGORIES:SPORT
DTSTAMP:20260423T115619
END:VEVENT
BEGIN:VEVENT
CLASS:PUBLIC
DTSTART:20260701T180000Z
DURATION:PT2H30M
STATUS:CONFIRMED
SUMMARY:Foosball Club FC St. Pauli vs. Kicksiders (NR)
DESCRIPTION:2. Liga, Gruppe A (18. Spieltag)
LOCATION:Hannes & Hanna Wohnzimmer (Raucher), Weidenallee 60, 20357 Hamburg-Eimsbüttel
UID:SM-B17627@stage.kickern-hamburg.de
PRIORITY:5
SEQUENCE:0
CATEGORIES:SPORT
DTSTAMP:20260423T115619
END:VEVENT
END:VCALENDAR
