BEGIN:VCALENDAR
VERSION:2.0
PRODID:PHP
METHOD:REQUEST
X-ORIGINAL-URL:https://stage.kickern-hamburg.de/liga/ergebnisse-und-tabellen?task=team_begegnungen_ical&id=5366
X-WR-CALNAME;VALUE=TEXT:1800 Sauna Club
BEGIN:VEVENT
CLASS:PUBLIC
DTSTART:20250918T180000Z
DURATION:PT2H30M
STATUS:CONFIRMED
SUMMARY:1800 Sauna Club vs. Kicksiders (NR)
DESCRIPTION:2. Liga, Gruppe A (1. Spieltag)\nErgebnis: 26:6 (89:57)
LOCATION:KIXX, Nobistor 38, 22767 Hamburg-Altona-Altstadt
UID:SM-B17546@stage.kickern-hamburg.de
PRIORITY:5
SEQUENCE:1
CATEGORIES:SPORT
DTSTAMP:20260423T115401
END:VEVENT
BEGIN:VEVENT
CLASS:PUBLIC
DTSTART:20250930T173000Z
DURATION:PT2H30M
STATUS:CONFIRMED
SUMMARY:WPS vs. 1800 Sauna Club
DESCRIPTION:Landespokal (1. Runde)\nErgebnis: 3:29 (37:93)
LOCATION:Workplace Solutions GmbH, Dorotheenstraße 60, 22301 Hamburg
UID:SM-B18327@stage.kickern-hamburg.de
PRIORITY:5
SEQUENCE:1
CATEGORIES:SPORT
DTSTAMP:20260423T115401
END:VEVENT
BEGIN:VEVENT
CLASS:PUBLIC
DTSTART:20251002T173000Z
DURATION:PT2H30M
STATUS:CONFIRMED
SUMMARY:WunderBars (NR) vs. 1800 Sauna Club
DESCRIPTION:2. Liga, Gruppe A (2. Spieltag)\nErgebnis: 15:17 (75:73)
LOCATION:KIXX, Nobistor 38, 22767 Hamburg-Altona-Altstadt
UID:SM-B17556@stage.kickern-hamburg.de
PRIORITY:5
SEQUENCE:1
CATEGORIES:SPORT
DTSTAMP:20260423T115401
END:VEVENT
BEGIN:VEVENT
CLASS:PUBLIC
DTSTART:20251009T180000Z
DURATION:PT2H30M
STATUS:CONFIRMED
SUMMARY:1800 Sauna Club vs. Solaris
DESCRIPTION:2. Liga, Gruppe A (3. Spieltag)\nErgebnis: 23:9 (81:56)
LOCATION:KIXX, Nobistor 38, 22767 Hamburg-Altona-Altstadt
UID:SM-B17566@stage.kickern-hamburg.de
PRIORITY:5
SEQUENCE:1
CATEGORIES:SPORT
DTSTAMP:20260423T115401
END:VEVENT
BEGIN:VEVENT
CLASS:PUBLIC
DTSTART:20251030T190000Z
DURATION:PT2H30M
STATUS:TENTATIVE
SUMMARY:1800 Sauna Club vs. Monkey Inferno Roter Stern Lübeck (wird verlegt)
DESCRIPTION:Landespokal (2. Runde)
LOCATION:KIXX, Nobistor 38, 22767 Hamburg-Altona-Altstadt
UID:SM-B18476@stage.kickern-hamburg.de
PRIORITY:5
SEQUENCE:0
CATEGORIES:SPORT
DTSTAMP:20260423T115401
END:VEVENT
BEGIN:VEVENT
CLASS:PUBLIC
DTSTART:20251112T190000Z
DURATION:PT2H30M
STATUS:CONFIRMED
SUMMARY:Anboard vs. 1800 Sauna Club
DESCRIPTION:2. Liga, Gruppe A (4. Spieltag)
LOCATION:Deutsche Seemannsmission Hamburg-Altona, Große Elbstraße 132, 22767 Hamburg-Altona
UID:SM-B17584@stage.kickern-hamburg.de
PRIORITY:5
SEQUENCE:0
CATEGORIES:SPORT
DTSTAMP:20260423T115401
END:VEVENT
BEGIN:VEVENT
CLASS:PUBLIC
DTSTART:20251120T190000Z
DURATION:PT2H30M
STATUS:CONFIRMED
SUMMARY:1800 Sauna Club vs. 253 (NR)
DESCRIPTION:2. Liga, Gruppe A (5. Spieltag)
LOCATION:KIXX, Nobistor 38, 22767 Hamburg-Altona-Altstadt
UID:SM-B17586@stage.kickern-hamburg.de
PRIORITY:5
SEQUENCE:0
CATEGORIES:SPORT
DTSTAMP:20260423T115401
END:VEVENT
BEGIN:VEVENT
CLASS:PUBLIC
DTSTART:20251203T190000Z
DURATION:PT2H30M
STATUS:CONFIRMED
SUMMARY:Foosball Club FC St. Pauli vs. 1800 Sauna Club
DESCRIPTION:2. Liga, Gruppe A (6. Spieltag)
LOCATION:Hannes & Hanna Wohnzimmer (Raucher), Weidenallee 60, 20357 Hamburg-Eimsbüttel
UID:SM-B17602@stage.kickern-hamburg.de
PRIORITY:5
SEQUENCE:0
CATEGORIES:SPORT
DTSTAMP:20260423T115401
END:VEVENT
BEGIN:VEVENT
CLASS:PUBLIC
DTSTART:20260108T190000Z
DURATION:PT2H30M
STATUS:CONFIRMED
SUMMARY:1800 Sauna Club vs. Kickertruppe (NR)
DESCRIPTION:2. Liga, Gruppe A (7. Spieltag)
LOCATION:KIXX, Nobistor 38, 22767 Hamburg-Altona-Altstadt
UID:SM-B17606@stage.kickern-hamburg.de
PRIORITY:5
SEQUENCE:0
CATEGORIES:SPORT
DTSTAMP:20260423T115401
END:VEVENT
BEGIN:VEVENT
CLASS:PUBLIC
DTSTART:20260120T190000Z
DURATION:PT2H30M
STATUS:CONFIRMED
SUMMARY:Kicksiders (NR) vs. 1800 Sauna Club
DESCRIPTION:Ligapokal 2. Liga (1. Runde)
LOCATION:Sidekick, Winsener Straße 190, 21077 Hamburg-Harburg
UID:SM-B18560@stage.kickern-hamburg.de
PRIORITY:5
SEQUENCE:0
CATEGORIES:SPORT
DTSTAMP:20260423T115401
END:VEVENT
BEGIN:VEVENT
CLASS:PUBLIC
DTSTART:20260123T193000Z
DURATION:PT2H30M
STATUS:CONFIRMED
SUMMARY:Tingeltangel FC St. Pauli vs. 1800 Sauna Club
DESCRIPTION:2. Liga, Gruppe A (8. Spieltag)
LOCATION:FC St. Pauli Clubheim, Harald-Stender-Platz 1, 20359 Hamburg-St. Pauli
UID:SM-B17616@stage.kickern-hamburg.de
PRIORITY:5
SEQUENCE:0
CATEGORIES:SPORT
DTSTAMP:20260423T115401
END:VEVENT
BEGIN:VEVENT
CLASS:PUBLIC
DTSTART:20260205T190000Z
DURATION:PT2H30M
STATUS:CONFIRMED
SUMMARY:1800 Sauna Club vs. Altonaer Kickerkraken
DESCRIPTION:2. Liga, Gruppe A (9. Spieltag)
LOCATION:KIXX, Nobistor 38, 22767 Hamburg-Altona-Altstadt
UID:SM-B17628@stage.kickern-hamburg.de
PRIORITY:5
SEQUENCE:0
CATEGORIES:SPORT
DTSTAMP:20260423T115401
END:VEVENT
BEGIN:VEVENT
CLASS:PUBLIC
DTSTART:20260217T190000Z
DURATION:PT2H30M
STATUS:CONFIRMED
SUMMARY:Kicksiders (NR) vs. 1800 Sauna Club
DESCRIPTION:2. Liga, Gruppe A (10. Spieltag)
LOCATION:Sidekick, Winsener Straße 190, 21077 Hamburg-Harburg
UID:SM-B17547@stage.kickern-hamburg.de
PRIORITY:5
SEQUENCE:0
CATEGORIES:SPORT
DTSTAMP:20260423T115401
END:VEVENT
BEGIN:VEVENT
CLASS:PUBLIC
DTSTART:20260319T190000Z
DURATION:PT2H30M
STATUS:CONFIRMED
SUMMARY:1800 Sauna Club vs. WunderBars (NR)
DESCRIPTION:2. Liga, Gruppe A (11. Spieltag)
LOCATION:KIXX, Nobistor 38, 22767 Hamburg-Altona-Altstadt
UID:SM-B17557@stage.kickern-hamburg.de
PRIORITY:5
SEQUENCE:0
CATEGORIES:SPORT
DTSTAMP:20260423T115401
END:VEVENT
BEGIN:VEVENT
CLASS:PUBLIC
DTSTART:20260331T180000Z
DURATION:PT2H30M
STATUS:CONFIRMED
SUMMARY:Solaris vs. 1800 Sauna Club
DESCRIPTION:2. Liga, Gruppe A (12. Spieltag)
LOCATION:KIXX, Nobistor 38, 22767 Hamburg-Altona-Altstadt
UID:SM-B17567@stage.kickern-hamburg.de
PRIORITY:5
SEQUENCE:0
CATEGORIES:SPORT
DTSTAMP:20260423T115401
END:VEVENT
BEGIN:VEVENT
CLASS:PUBLIC
DTSTART:20260416T180000Z
DURATION:PT2H30M
STATUS:CONFIRMED
SUMMARY:1800 Sauna Club vs. Anboard
DESCRIPTION:2. Liga, Gruppe A (13. Spieltag)
LOCATION:KIXX, Nobistor 38, 22767 Hamburg-Altona-Altstadt
UID:SM-B17585@stage.kickern-hamburg.de
PRIORITY:5
SEQUENCE:0
CATEGORIES:SPORT
DTSTAMP:20260423T115401
END:VEVENT
BEGIN:VEVENT
CLASS:PUBLIC
DTSTART:20260428T180000Z
DURATION:PT2H30M
STATUS:CONFIRMED
SUMMARY:253 (NR) vs. 1800 Sauna Club
DESCRIPTION:2. Liga, Gruppe A (14. Spieltag)
LOCATION:KIXX, Nobistor 38, 22767 Hamburg-Altona-Altstadt
UID:SM-B17587@stage.kickern-hamburg.de
PRIORITY:5
SEQUENCE:0
CATEGORIES:SPORT
DTSTAMP:20260423T115401
END:VEVENT
BEGIN:VEVENT
CLASS:PUBLIC
DTSTART:20260521T180000Z
DURATION:PT2H30M
STATUS:CONFIRMED
SUMMARY:1800 Sauna Club vs. Foosball Club FC St. Pauli
DESCRIPTION:2. Liga, Gruppe A (15. Spieltag)
LOCATION:KIXX, Nobistor 38, 22767 Hamburg-Altona-Altstadt
UID:SM-B17603@stage.kickern-hamburg.de
PRIORITY:5
SEQUENCE:0
CATEGORIES:SPORT
DTSTAMP:20260423T115401
END:VEVENT
BEGIN:VEVENT
CLASS:PUBLIC
DTSTART:20260602T180000Z
DURATION:PT2H30M
STATUS:CONFIRMED
SUMMARY:Kickertruppe (NR) vs. 1800 Sauna Club
DESCRIPTION:2. Liga, Gruppe A (16. Spieltag)
LOCATION:CloudSeeds GmbH, Wendenstraße 377, 20537 Hamburg
UID:SM-B17607@stage.kickern-hamburg.de
PRIORITY:5
SEQUENCE:0
CATEGORIES:SPORT
DTSTAMP:20260423T115401
END:VEVENT
BEGIN:VEVENT
CLASS:PUBLIC
DTSTART:20260618T180000Z
DURATION:PT2H30M
STATUS:CONFIRMED
SUMMARY:1800 Sauna Club vs. Tingeltangel FC St. Pauli
DESCRIPTION:2. Liga, Gruppe A (17. Spieltag)
LOCATION:KIXX, Nobistor 38, 22767 Hamburg-Altona-Altstadt
UID:SM-B17617@stage.kickern-hamburg.de
PRIORITY:5
SEQUENCE:0
CATEGORIES:SPORT
DTSTAMP:20260423T115401
END:VEVENT
BEGIN:VEVENT
CLASS:PUBLIC
DTSTART:20260630T180000Z
DURATION:PT2H30M
STATUS:CONFIRMED
SUMMARY:Altonaer Kickerkraken vs. 1800 Sauna Club
DESCRIPTION:2. Liga, Gruppe A (18. Spieltag)
LOCATION:Deutsche Seemannsmission Hamburg-Altona, Große Elbstraße 132, 22767 Hamburg-Altona
UID:SM-B17629@stage.kickern-hamburg.de
PRIORITY:5
SEQUENCE:0
CATEGORIES:SPORT
DTSTAMP:20260423T115401
END:VEVENT
END:VCALENDAR
