BEGIN:VCALENDAR
VERSION:2.0
PRODID:PHP
METHOD:REQUEST
X-ORIGINAL-URL:https://stage.kickern-hamburg.de/liga/ergebnisse-und-tabellen?task=team_begegnungen_ical&id=5559
X-WR-CALNAME;VALUE=TEXT:Southside Kickers (NR)
BEGIN:VEVENT
CLASS:PUBLIC
DTSTART:20250924T180000Z
DURATION:PT2H30M
STATUS:CONFIRMED
SUMMARY:Substanz P vs. Southside Kickers (NR)
DESCRIPTION:4. Liga, Gruppe A (2. Spieltag)\nErgebnis: 26:6 (90:54)
LOCATION:Ilohh Bar (RAUCHER), Repsoldstraße 52, 20097 Hamburg-Hammerbrook
UID:SM-B18092@stage.kickern-hamburg.de
PRIORITY:5
SEQUENCE:1
CATEGORIES:SPORT
DTSTAMP:20260423T115812
BEGIN:VALARM
ACTION:DISPLAY
TRIGGER:-PT2H
END:VALARM
END:VEVENT
BEGIN:VEVENT
CLASS:PUBLIC
DTSTART:20251008T180000Z
DURATION:PT2H30M
STATUS:CONFIRMED
SUMMARY:FC St. Pauli LMB vs. Southside Kickers (NR)
DESCRIPTION:4. Liga, Gruppe A (3. Spieltag)\nErgebnis: 2:30 (40:94)
LOCATION:FC St. Pauli Clubheim, Harald-Stender-Platz 1, 20359 Hamburg-St. Pauli
UID:SM-B18102@stage.kickern-hamburg.de
PRIORITY:5
SEQUENCE:1
CATEGORIES:SPORT
DTSTAMP:20260423T115812
BEGIN:VALARM
ACTION:DISPLAY
TRIGGER:-PT2H
END:VALARM
END:VEVENT
BEGIN:VEVENT
CLASS:PUBLIC
DTSTART:20251023T180000Z
DURATION:PT2H30M
STATUS:CONFIRMED
SUMMARY:Exorbitanter Mumpitz vs. Southside Kickers (NR)
DESCRIPTION:Landespokal (1. Runde)\nErgebnis: 20:12 (79:72)
LOCATION:Joy, Winterhuder Weg 69, 22085 Hamburg-Uhlenhorst
UID:SM-B18326@stage.kickern-hamburg.de
PRIORITY:5
SEQUENCE:1
CATEGORIES:SPORT
DTSTAMP:20260423T115812
BEGIN:VALARM
ACTION:DISPLAY
TRIGGER:-PT2H
END:VALARM
END:VEVENT
BEGIN:VEVENT
CLASS:PUBLIC
DTSTART:20251104T190000Z
DURATION:PT2H30M
STATUS:CONFIRMED
SUMMARY:Southside Kickers (NR) vs. HSV Legenden
DESCRIPTION:4. Liga, Gruppe A (4. Spieltag)
LOCATION:Sidekick, Winsener Straße 190, 21077 Hamburg-Harburg
UID:SM-B18104@stage.kickern-hamburg.de
PRIORITY:5
SEQUENCE:0
CATEGORIES:SPORT
DTSTAMP:20260423T115812
BEGIN:VALARM
ACTION:DISPLAY
TRIGGER:-PT2H
END:VALARM
END:VEVENT
BEGIN:VEVENT
CLASS:PUBLIC
DTSTART:20251106T190000Z
DURATION:PT2H30M
STATUS:TENTATIVE
SUMMARY:Southside Kickers (NR) vs. Exorbitanter Schabernack (wird verlegt)
DESCRIPTION:Ligapokal 3./4. Liga (2. Runde)
LOCATION:Sidekick, Winsener Straße 190, 21077 Hamburg-Harburg
UID:SM-B18453@stage.kickern-hamburg.de
PRIORITY:5
SEQUENCE:0
CATEGORIES:SPORT
DTSTAMP:20260423T115812
BEGIN:VALARM
ACTION:DISPLAY
TRIGGER:-PT2H
END:VALARM
END:VEVENT
BEGIN:VEVENT
CLASS:PUBLIC
DTSTART:20251118T180000Z
DURATION:PT2H30M
STATUS:CONFIRMED
SUMMARY:WPS vs. Southside Kickers (NR)
DESCRIPTION:4. Liga, Gruppe A (5. Spieltag)
LOCATION:Workplace Solutions GmbH, Dorotheenstraße 60, 22301 Hamburg
UID:SM-B18114@stage.kickern-hamburg.de
PRIORITY:5
SEQUENCE:0
CATEGORIES:SPORT
DTSTAMP:20260423T115812
BEGIN:VALARM
ACTION:DISPLAY
TRIGGER:-PT2H
END:VALARM
END:VEVENT
BEGIN:VEVENT
CLASS:PUBLIC
DTSTART:20251202T190000Z
DURATION:PT2H30M
STATUS:CONFIRMED
SUMMARY:Southside Kickers (NR) vs. Likedeeler FC St. Pauli
DESCRIPTION:4. Liga, Gruppe A (6. Spieltag)
LOCATION:Sidekick, Winsener Straße 190, 21077 Hamburg-Harburg
UID:SM-B18120@stage.kickern-hamburg.de
PRIORITY:5
SEQUENCE:0
CATEGORIES:SPORT
DTSTAMP:20260423T115812
BEGIN:VALARM
ACTION:DISPLAY
TRIGGER:-PT2H
END:VALARM
END:VEVENT
BEGIN:VEVENT
CLASS:PUBLIC
DTSTART:20260106T190000Z
DURATION:PT2H30M
STATUS:CONFIRMED
SUMMARY:Bordsteinkraken vs. Southside Kickers (NR)
DESCRIPTION:4. Liga, Gruppe A (7. Spieltag)
LOCATION:Deutsche Seemannsmission Hamburg-Altona, Große Elbstraße 132, 22767 Hamburg-Altona
UID:SM-B18124@stage.kickern-hamburg.de
PRIORITY:5
SEQUENCE:0
CATEGORIES:SPORT
DTSTAMP:20260423T115812
BEGIN:VALARM
ACTION:DISPLAY
TRIGGER:-PT2H
END:VALARM
END:VEVENT
BEGIN:VEVENT
CLASS:PUBLIC
DTSTART:20260203T190000Z
DURATION:PT2H30M
STATUS:CONFIRMED
SUMMARY:Southside Kickers (NR) vs. Substanz P
DESCRIPTION:4. Liga, Gruppe A (9. Spieltag)
LOCATION:Sidekick, Winsener Straße 190, 21077 Hamburg-Harburg
UID:SM-B18093@stage.kickern-hamburg.de
PRIORITY:5
SEQUENCE:0
CATEGORIES:SPORT
DTSTAMP:20260423T115812
BEGIN:VALARM
ACTION:DISPLAY
TRIGGER:-PT2H
END:VALARM
END:VEVENT
BEGIN:VEVENT
CLASS:PUBLIC
DTSTART:20260218T190000Z
DURATION:PT2H30M
STATUS:CONFIRMED
SUMMARY:FC St. Pauli LMB vs. Southside Kickers (NR)
DESCRIPTION:4. Liga, Gruppe A (10. Spieltag)
LOCATION:FC St. Pauli Clubheim, Harald-Stender-Platz 1, 20359 Hamburg-St. Pauli
UID:SM-B18103@stage.kickern-hamburg.de
PRIORITY:5
SEQUENCE:0
CATEGORIES:SPORT
DTSTAMP:20260423T115812
BEGIN:VALARM
ACTION:DISPLAY
TRIGGER:-PT2H
END:VALARM
END:VEVENT
BEGIN:VEVENT
CLASS:PUBLIC
DTSTART:20260318T183000Z
DURATION:PT2H30M
STATUS:CONFIRMED
SUMMARY:HSV Legenden vs. Southside Kickers (NR)
DESCRIPTION:4. Liga, Gruppe A (11. Spieltag)
LOCATION:HSV Tischfußball Sportzentrum, Ulzburger Strasse 94, 22850 Norderstedt
UID:SM-B18105@stage.kickern-hamburg.de
PRIORITY:5
SEQUENCE:0
CATEGORIES:SPORT
DTSTAMP:20260423T115812
BEGIN:VALARM
ACTION:DISPLAY
TRIGGER:-PT2H
END:VALARM
END:VEVENT
BEGIN:VEVENT
CLASS:PUBLIC
DTSTART:20260331T180000Z
DURATION:PT2H30M
STATUS:CONFIRMED
SUMMARY:Southside Kickers (NR) vs. WPS
DESCRIPTION:4. Liga, Gruppe A (12. Spieltag)
LOCATION:Sidekick, Winsener Straße 190, 21077 Hamburg-Harburg
UID:SM-B18115@stage.kickern-hamburg.de
PRIORITY:5
SEQUENCE:0
CATEGORIES:SPORT
DTSTAMP:20260423T115812
BEGIN:VALARM
ACTION:DISPLAY
TRIGGER:-PT2H
END:VALARM
END:VEVENT
BEGIN:VEVENT
CLASS:PUBLIC
DTSTART:20260415T180000Z
DURATION:PT2H30M
STATUS:CONFIRMED
SUMMARY:Likedeeler FC St. Pauli vs. Southside Kickers (NR)
DESCRIPTION:4. Liga, Gruppe A (13. Spieltag)
LOCATION:St. Pauli Wohnzimmer(Raucher) Ahoi, Hafenstr. 122, 20359 Hamburg-Hamburg
UID:SM-B18121@stage.kickern-hamburg.de
PRIORITY:5
SEQUENCE:0
CATEGORIES:SPORT
DTSTAMP:20260423T115812
BEGIN:VALARM
ACTION:DISPLAY
TRIGGER:-PT2H
END:VALARM
END:VEVENT
BEGIN:VEVENT
CLASS:PUBLIC
DTSTART:20260428T180000Z
DURATION:PT2H30M
STATUS:CONFIRMED
SUMMARY:Southside Kickers (NR) vs. Bordsteinkraken
DESCRIPTION:4. Liga, Gruppe A (14. Spieltag)
LOCATION:Sidekick, Winsener Straße 190, 21077 Hamburg-Harburg
UID:SM-B18125@stage.kickern-hamburg.de
PRIORITY:5
SEQUENCE:0
CATEGORIES:SPORT
DTSTAMP:20260423T115812
BEGIN:VALARM
ACTION:DISPLAY
TRIGGER:-PT2H
END:VALARM
END:VEVENT
END:VCALENDAR
