BEGIN:VCALENDAR
VERSION:2.0
PRODID:PHP
METHOD:REQUEST
X-ORIGINAL-URL:https://stage.kickern-hamburg.de/liga/ergebnisse-und-tabellen?task=team_begegnungen_ical&id=5460
X-WR-CALNAME;VALUE=TEXT:Fellow Unicorns
BEGIN:VEVENT
CLASS:PUBLIC
DTSTART:20250909T180000Z
DURATION:PT2H30M
STATUS:CONFIRMED
SUMMARY:Partisan Pinshot (NR) vs. Fellow Unicorns
DESCRIPTION:3. Liga, Gruppe C (1. Spieltag)\nErgebnis: 16:16 (74:78)
LOCATION:KIXX, Nobistor 38, 22767 Hamburg-Altona-Altstadt
UID:SM-B18000@stage.kickern-hamburg.de
PRIORITY:5
SEQUENCE:1
CATEGORIES:SPORT
DTSTAMP:20260423T115811
BEGIN:VALARM
ACTION:DISPLAY
TRIGGER:-PT2H
END:VALARM
END:VEVENT
BEGIN:VEVENT
CLASS:PUBLIC
DTSTART:20250916T173000Z
DURATION:PT2H30M
STATUS:CONFIRMED
SUMMARY:Ex Orbit Ants (NR) vs. Fellow Unicorns
DESCRIPTION:Ligapokal 3./4. Liga (1. Runde)\nErgebnis: 14:18 (66:74)
LOCATION:Joy, Winterhuder Weg 69, 22085 Hamburg-Uhlenhorst
UID:SM-B18339@stage.kickern-hamburg.de
PRIORITY:5
SEQUENCE:1
CATEGORIES:SPORT
DTSTAMP:20260423T115811
BEGIN:VALARM
ACTION:DISPLAY
TRIGGER:-PT2H
END:VALARM
END:VEVENT
BEGIN:VEVENT
CLASS:PUBLIC
DTSTART:20250923T170000Z
DURATION:PT2H30M
STATUS:CONFIRMED
SUMMARY:Fellow Unicorns vs. Roter Stern Kickers 1 (NR)
DESCRIPTION:3. Liga, Gruppe C (2. Spieltag)\nErgebnis: 12:20 (65:80)
LOCATION:KIXX, Nobistor 38, 22767 Hamburg-Altona-Altstadt
UID:SM-B18014@stage.kickern-hamburg.de
PRIORITY:5
SEQUENCE:1
CATEGORIES:SPORT
DTSTAMP:20260423T115811
BEGIN:VALARM
ACTION:DISPLAY
TRIGGER:-PT2H
END:VALARM
END:VEVENT
BEGIN:VEVENT
CLASS:PUBLIC
DTSTART:20251015T180000Z
DURATION:PT2H30M
STATUS:CONFIRMED
SUMMARY:Substanz P vs. Fellow Unicorns
DESCRIPTION:Landespokal (1. Runde)\nErgebnis: 12:20 (61:79)
LOCATION:Ilohh Bar (RAUCHER), Repsoldstraße 52, 20097 Hamburg-Hammerbrook
UID:SM-B18313@stage.kickern-hamburg.de
PRIORITY:5
SEQUENCE:1
CATEGORIES:SPORT
DTSTAMP:20260423T115811
BEGIN:VALARM
ACTION:DISPLAY
TRIGGER:-PT2H
END:VALARM
END:VEVENT
BEGIN:VEVENT
CLASS:PUBLIC
DTSTART:20251017T180000Z
DURATION:PT2H30M
STATUS:CONFIRMED
SUMMARY:FC St. Pauli Shooting Stars vs. Fellow Unicorns
DESCRIPTION:3. Liga, Gruppe C (3. Spieltag)\nErgebnis: 20:12 (79:69)
LOCATION:FC St. Pauli Clubheim, Harald-Stender-Platz 1, 20359 Hamburg-St. Pauli
UID:SM-B18024@stage.kickern-hamburg.de
PRIORITY:5
SEQUENCE:1
CATEGORIES:SPORT
DTSTAMP:20260423T115811
BEGIN:VALARM
ACTION:DISPLAY
TRIGGER:-PT2H
END:VALARM
END:VEVENT
BEGIN:VEVENT
CLASS:PUBLIC
DTSTART:20251104T180000Z
DURATION:PT2H30M
STATUS:TENTATIVE
SUMMARY:Fellow Unicorns vs. HSV Schießbude (NR) (wird verlegt)
DESCRIPTION:3. Liga, Gruppe C (4. Spieltag)
LOCATION:KIXX, Nobistor 38, 22767 Hamburg-Altona-Altstadt
UID:SM-B18034@stage.kickern-hamburg.de
PRIORITY:5
SEQUENCE:0
CATEGORIES:SPORT
DTSTAMP:20260423T115811
BEGIN:VALARM
ACTION:DISPLAY
TRIGGER:-PT2H
END:VALARM
END:VEVENT
BEGIN:VEVENT
CLASS:PUBLIC
DTSTART:20251120T180000Z
DURATION:PT2H30M
STATUS:CONFIRMED
SUMMARY:siQrats (NR) vs. Fellow Unicorns
DESCRIPTION:Ligapokal 3./4. Liga (2. Runde)
LOCATION:siQnet Consulting GmbH, Wendenstraße 279, 20537 Hamburg
UID:SM-B18455@stage.kickern-hamburg.de
PRIORITY:5
SEQUENCE:0
CATEGORIES:SPORT
DTSTAMP:20260423T115811
BEGIN:VALARM
ACTION:DISPLAY
TRIGGER:-PT2H
END:VALARM
END:VEVENT
BEGIN:VEVENT
CLASS:PUBLIC
DTSTART:20251120T180000Z
DURATION:PT2H30M
STATUS:CONFIRMED
SUMMARY:Von der Stange vs. Fellow Unicorns
DESCRIPTION:3. Liga, Gruppe C (5. Spieltag)
LOCATION:ZaZú, Lutterothstraße 62, 20255 Hamburg-Eimsbüttel
UID:SM-B18038@stage.kickern-hamburg.de
PRIORITY:5
SEQUENCE:0
CATEGORIES:SPORT
DTSTAMP:20260423T115811
BEGIN:VALARM
ACTION:DISPLAY
TRIGGER:-PT2H
END:VALARM
END:VEVENT
BEGIN:VEVENT
CLASS:PUBLIC
DTSTART:20251126T180000Z
DURATION:PT2H30M
STATUS:CONFIRMED
SUMMARY:FC St. Pauli Giganten vs. Fellow Unicorns
DESCRIPTION:Landespokal (2. Runde)
LOCATION:FC St. Pauli Clubheim, Harald-Stender-Platz 1, 20359 Hamburg-St. Pauli
UID:SM-B18459@stage.kickern-hamburg.de
PRIORITY:5
SEQUENCE:0
CATEGORIES:SPORT
DTSTAMP:20260423T115811
BEGIN:VALARM
ACTION:DISPLAY
TRIGGER:-PT2H
END:VALARM
END:VEVENT
BEGIN:VEVENT
CLASS:PUBLIC
DTSTART:20251202T180000Z
DURATION:PT2H30M
STATUS:CONFIRMED
SUMMARY:Fellow Unicorns vs. Exorbitanter Schabernack
DESCRIPTION:3. Liga, Gruppe C (6. Spieltag)
LOCATION:KIXX, Nobistor 38, 22767 Hamburg-Altona-Altstadt
UID:SM-B18054@stage.kickern-hamburg.de
PRIORITY:5
SEQUENCE:0
CATEGORIES:SPORT
DTSTAMP:20260423T115811
BEGIN:VALARM
ACTION:DISPLAY
TRIGGER:-PT2H
END:VALARM
END:VEVENT
BEGIN:VEVENT
CLASS:PUBLIC
DTSTART:20260108T190000Z
DURATION:PT2H30M
STATUS:CONFIRMED
SUMMARY:Boltens vs. Fellow Unicorns
DESCRIPTION:3. Liga, Gruppe C (7. Spieltag)
LOCATION:Spielhaus Eimsbüttel, Eimsbütteler Marktplatz 1c, 20257 Hamburg-Eimsbüttel
UID:SM-B18060@stage.kickern-hamburg.de
PRIORITY:5
SEQUENCE:0
CATEGORIES:SPORT
DTSTAMP:20260423T115811
BEGIN:VALARM
ACTION:DISPLAY
TRIGGER:-PT2H
END:VALARM
END:VEVENT
BEGIN:VEVENT
CLASS:PUBLIC
DTSTART:20260123T180000Z
DURATION:PT2H30M
STATUS:CONFIRMED
SUMMARY:Kellerkicker Bergedorf vs. Fellow Unicorns
DESCRIPTION:3. Liga, Gruppe C (8. Spieltag)
LOCATION:„Kickerkeller“ Stadtteilschule Richard-L, Richard-Linde-Weg 49, 21033 Hamburg-Lohbrügge
UID:SM-B18070@stage.kickern-hamburg.de
PRIORITY:5
SEQUENCE:0
CATEGORIES:SPORT
DTSTAMP:20260423T115811
BEGIN:VALARM
ACTION:DISPLAY
TRIGGER:-PT2H
END:VALARM
END:VEVENT
BEGIN:VEVENT
CLASS:PUBLIC
DTSTART:20260203T180000Z
DURATION:PT2H30M
STATUS:CONFIRMED
SUMMARY:Fellow Unicorns vs. VFT Reflektorschirm Hamburg
DESCRIPTION:3. Liga, Gruppe C (9. Spieltag)
LOCATION:KIXX, Nobistor 38, 22767 Hamburg-Altona-Altstadt
UID:SM-B18084@stage.kickern-hamburg.de
PRIORITY:5
SEQUENCE:0
CATEGORIES:SPORT
DTSTAMP:20260423T115811
BEGIN:VALARM
ACTION:DISPLAY
TRIGGER:-PT2H
END:VALARM
END:VEVENT
BEGIN:VEVENT
CLASS:PUBLIC
DTSTART:20260217T180000Z
DURATION:PT2H30M
STATUS:CONFIRMED
SUMMARY:Fellow Unicorns vs. Partisan Pinshot (NR)
DESCRIPTION:3. Liga, Gruppe C (10. Spieltag)
LOCATION:KIXX, Nobistor 38, 22767 Hamburg-Altona-Altstadt
UID:SM-B18001@stage.kickern-hamburg.de
PRIORITY:5
SEQUENCE:0
CATEGORIES:SPORT
DTSTAMP:20260423T115811
BEGIN:VALARM
ACTION:DISPLAY
TRIGGER:-PT2H
END:VALARM
END:VEVENT
BEGIN:VEVENT
CLASS:PUBLIC
DTSTART:20260317T180000Z
DURATION:PT2H30M
STATUS:CONFIRMED
SUMMARY:Roter Stern Kickers 1 (NR) vs. Fellow Unicorns
DESCRIPTION:3. Liga, Gruppe C (11. Spieltag)
LOCATION:JuKI 42, An der Reitbahn 2, 22926 Ahrensburg
UID:SM-B18015@stage.kickern-hamburg.de
PRIORITY:5
SEQUENCE:0
CATEGORIES:SPORT
DTSTAMP:20260423T115811
BEGIN:VALARM
ACTION:DISPLAY
TRIGGER:-PT2H
END:VALARM
END:VEVENT
BEGIN:VEVENT
CLASS:PUBLIC
DTSTART:20260331T170000Z
DURATION:PT2H30M
STATUS:CONFIRMED
SUMMARY:Fellow Unicorns vs. FC St. Pauli Shooting Stars
DESCRIPTION:3. Liga, Gruppe C (12. Spieltag)
LOCATION:KIXX, Nobistor 38, 22767 Hamburg-Altona-Altstadt
UID:SM-B18025@stage.kickern-hamburg.de
PRIORITY:5
SEQUENCE:0
CATEGORIES:SPORT
DTSTAMP:20260423T115811
BEGIN:VALARM
ACTION:DISPLAY
TRIGGER:-PT2H
END:VALARM
END:VEVENT
BEGIN:VEVENT
CLASS:PUBLIC
DTSTART:20260414T180000Z
DURATION:PT2H30M
STATUS:CONFIRMED
SUMMARY:HSV Schießbude (NR) vs. Fellow Unicorns
DESCRIPTION:3. Liga, Gruppe C (13. Spieltag)
LOCATION:HSV Tischfußball Sportzentrum, Ulzburger Strasse 94, 22850 Norderstedt
UID:SM-B18035@stage.kickern-hamburg.de
PRIORITY:5
SEQUENCE:0
CATEGORIES:SPORT
DTSTAMP:20260423T115811
BEGIN:VALARM
ACTION:DISPLAY
TRIGGER:-PT2H
END:VALARM
END:VEVENT
BEGIN:VEVENT
CLASS:PUBLIC
DTSTART:20260428T170000Z
DURATION:PT2H30M
STATUS:CONFIRMED
SUMMARY:Fellow Unicorns vs. Von der Stange
DESCRIPTION:3. Liga, Gruppe C (14. Spieltag)
LOCATION:KIXX, Nobistor 38, 22767 Hamburg-Altona-Altstadt
UID:SM-B18039@stage.kickern-hamburg.de
PRIORITY:5
SEQUENCE:0
CATEGORIES:SPORT
DTSTAMP:20260423T115811
BEGIN:VALARM
ACTION:DISPLAY
TRIGGER:-PT2H
END:VALARM
END:VEVENT
BEGIN:VEVENT
CLASS:PUBLIC
DTSTART:20260520T180000Z
DURATION:PT2H30M
STATUS:CONFIRMED
SUMMARY:Exorbitanter Schabernack vs. Fellow Unicorns
DESCRIPTION:3. Liga, Gruppe C (15. Spieltag)
LOCATION:Joy, Winterhuder Weg 69, 22085 Hamburg-Uhlenhorst
UID:SM-B18055@stage.kickern-hamburg.de
PRIORITY:5
SEQUENCE:0
CATEGORIES:SPORT
DTSTAMP:20260423T115811
BEGIN:VALARM
ACTION:DISPLAY
TRIGGER:-PT2H
END:VALARM
END:VEVENT
BEGIN:VEVENT
CLASS:PUBLIC
DTSTART:20260602T170000Z
DURATION:PT2H30M
STATUS:CONFIRMED
SUMMARY:Fellow Unicorns vs. Boltens
DESCRIPTION:3. Liga, Gruppe C (16. Spieltag)
LOCATION:KIXX, Nobistor 38, 22767 Hamburg-Altona-Altstadt
UID:SM-B18061@stage.kickern-hamburg.de
PRIORITY:5
SEQUENCE:0
CATEGORIES:SPORT
DTSTAMP:20260423T115811
BEGIN:VALARM
ACTION:DISPLAY
TRIGGER:-PT2H
END:VALARM
END:VEVENT
BEGIN:VEVENT
CLASS:PUBLIC
DTSTART:20260616T170000Z
DURATION:PT2H30M
STATUS:CONFIRMED
SUMMARY:Fellow Unicorns vs. Kellerkicker Bergedorf
DESCRIPTION:3. Liga, Gruppe C (17. Spieltag)
LOCATION:KIXX, Nobistor 38, 22767 Hamburg-Altona-Altstadt
UID:SM-B18071@stage.kickern-hamburg.de
PRIORITY:5
SEQUENCE:0
CATEGORIES:SPORT
DTSTAMP:20260423T115811
BEGIN:VALARM
ACTION:DISPLAY
TRIGGER:-PT2H
END:VALARM
END:VEVENT
BEGIN:VEVENT
CLASS:PUBLIC
DTSTART:20260702T170000Z
DURATION:PT2H30M
STATUS:CONFIRMED
SUMMARY:VFT Reflektorschirm Hamburg vs. Fellow Unicorns
DESCRIPTION:3. Liga, Gruppe C (18. Spieltag)
LOCATION:KIXX, Nobistor 38, 22767 Hamburg-Altona-Altstadt
UID:SM-B18085@stage.kickern-hamburg.de
PRIORITY:5
SEQUENCE:0
CATEGORIES:SPORT
DTSTAMP:20260423T115811
BEGIN:VALARM
ACTION:DISPLAY
TRIGGER:-PT2H
END:VALARM
END:VEVENT
END:VCALENDAR
