BEGIN:VCALENDAR
VERSION:2.0
PRODID:PHP
METHOD:REQUEST
X-ORIGINAL-URL:https://stage.kickern-hamburg.de/liga/ergebnisse-und-tabellen-rookie-liga?task=team_begegnungen_ical&id=5659
X-WR-CALNAME;VALUE=TEXT:TishING for Complications
BEGIN:VEVENT
CLASS:PUBLIC
DTSTART:20251103T190000Z
DURATION:PT2H30M
STATUS:CONFIRMED
SUMMARY:TishING for Complications vs. siQrats
DESCRIPTION:Rookie-Liga (1. Spieltag)
LOCATION:TUHH Hauptgebäude A, Am Schwarzenberg-Campus 1, 21073 Hamburg
UID:SM-B18527@stage.kickern-hamburg.de
PRIORITY:5
SEQUENCE:0
CATEGORIES:SPORT
DTSTAMP:20260423T133919
BEGIN:VALARM
ACTION:DISPLAY
TRIGGER:-PT2H
END:VALARM
END:VEVENT
BEGIN:VEVENT
CLASS:PUBLIC
DTSTART:20251120T190000Z
DURATION:PT2H30M
STATUS:CONFIRMED
SUMMARY:The Nippies vs. TishING for Complications
DESCRIPTION:Rookie-Liga (2. Spieltag)
LOCATION:KIXX, Nobistor 38, 22767 Hamburg-Altona-Altstadt
UID:SM-B18531@stage.kickern-hamburg.de
PRIORITY:5
SEQUENCE:0
CATEGORIES:SPORT
DTSTAMP:20260423T133919
BEGIN:VALARM
ACTION:DISPLAY
TRIGGER:-PT2H
END:VALARM
END:VEVENT
BEGIN:VEVENT
CLASS:PUBLIC
DTSTART:20260105T190000Z
DURATION:PT2H30M
STATUS:CONFIRMED
SUMMARY:Prontosaurier vs. TishING for Complications
DESCRIPTION:Rookie-Liga (4. Spieltag)
LOCATION:Freundlich + Kompetent, Hamburger Straße 13, 22083 Hamburg-Barmbek-Süd
UID:SM-B18536@stage.kickern-hamburg.de
PRIORITY:5
SEQUENCE:0
CATEGORIES:SPORT
DTSTAMP:20260423T133919
BEGIN:VALARM
ACTION:DISPLAY
TRIGGER:-PT2H
END:VALARM
END:VEVENT
BEGIN:VEVENT
CLASS:PUBLIC
DTSTART:20260119T190000Z
DURATION:PT2H30M
STATUS:CONFIRMED
SUMMARY:TishING for Complications vs. Fast sichere Zufallstreffer
DESCRIPTION:Rookie-Liga (5. Spieltag)
LOCATION:TUHH Hauptgebäude A, Am Schwarzenberg-Campus 1, 21073 Hamburg
UID:SM-B18543@stage.kickern-hamburg.de
PRIORITY:5
SEQUENCE:0
CATEGORIES:SPORT
DTSTAMP:20260423T133919
BEGIN:VALARM
ACTION:DISPLAY
TRIGGER:-PT2H
END:VALARM
END:VEVENT
BEGIN:VEVENT
CLASS:PUBLIC
DTSTART:20260202T190000Z
DURATION:PT2H30M
STATUS:CONFIRMED
SUMMARY:Tentakel Spektakel vs. TishING for Complications
DESCRIPTION:Rookie-Liga (6. Spieltag)
LOCATION:Deutsche Seemannsmission Hamburg-Altona, Große Elbstraße 132, 22767 Hamburg-Altona
UID:SM-B18544@stage.kickern-hamburg.de
PRIORITY:5
SEQUENCE:0
CATEGORIES:SPORT
DTSTAMP:20260423T133919
BEGIN:VALARM
ACTION:DISPLAY
TRIGGER:-PT2H
END:VALARM
END:VEVENT
BEGIN:VEVENT
CLASS:PUBLIC
DTSTART:20260216T190000Z
DURATION:PT2H30M
STATUS:CONFIRMED
SUMMARY:TishING for Complications vs. Kick happens
DESCRIPTION:Rookie-Liga (7. Spieltag)
LOCATION:TUHH Hauptgebäude A, Am Schwarzenberg-Campus 1, 21073 Hamburg
UID:SM-B18551@stage.kickern-hamburg.de
PRIORITY:5
SEQUENCE:0
CATEGORIES:SPORT
DTSTAMP:20260423T133919
BEGIN:VALARM
ACTION:DISPLAY
TRIGGER:-PT2H
END:VALARM
END:VEVENT
BEGIN:VEVENT
CLASS:PUBLIC
DTSTART:20260316T190000Z
DURATION:PT2H30M
STATUS:CONFIRMED
SUMMARY:TishING for Complications vs. Likedeeler FC St. Pauli
DESCRIPTION:Rookie-Liga (8. Spieltag)
LOCATION:TUHH Hauptgebäude A, Am Schwarzenberg-Campus 1, 21073 Hamburg
UID:SM-B18555@stage.kickern-hamburg.de
PRIORITY:5
SEQUENCE:0
CATEGORIES:SPORT
DTSTAMP:20260423T133919
BEGIN:VALARM
ACTION:DISPLAY
TRIGGER:-PT2H
END:VALARM
END:VEVENT
BEGIN:VEVENT
CLASS:PUBLIC
DTSTART:20260402T170000Z
DURATION:PT2H30M
STATUS:CONFIRMED
SUMMARY:Ballverlust Bergedorf vs. TishING for Complications
DESCRIPTION:Rookie-Liga (9. Spieltag)
LOCATION:„Kickerkeller“ Stadtteilschule Richard-L, Richard-Linde-Weg 49, 21033 Hamburg-Lohbrügge
UID:SM-B18557@stage.kickern-hamburg.de
PRIORITY:5
SEQUENCE:0
CATEGORIES:SPORT
DTSTAMP:20260423T133919
BEGIN:VALARM
ACTION:DISPLAY
TRIGGER:-PT2H
END:VALARM
END:VEVENT
END:VCALENDAR
