BEGIN:VCALENDAR
VERSION:2.0
PRODID:PHP
METHOD:REQUEST
X-ORIGINAL-URL:https://stage.kickern-hamburg.de/liga/aktuelle-partien?task=team_begegnungen_ical&id=5664
X-WR-CALNAME;VALUE=TEXT:Ballverlust Bergedorf
BEGIN:VEVENT
CLASS:PUBLIC
DTSTART:20251106T180000Z
DURATION:PT2H30M
STATUS:CONFIRMED
SUMMARY:Ballverlust Bergedorf vs. Likedeeler FC St. Pauli
DESCRIPTION:Rookie-Liga (1. Spieltag)\nErgebnis: 2:2 (7:8)
LOCATION:„Kickerkeller“ Stadtteilschule Richard-L, Richard-Linde-Weg 49, 21033 Hamburg-Lohbrügge
UID:SM-B18524@stage.kickern-hamburg.de
PRIORITY:5
SEQUENCE:1
CATEGORIES:SPORT
DTSTAMP:20260423T115432
END:VEVENT
BEGIN:VEVENT
CLASS:PUBLIC
DTSTART:20251120T180000Z
DURATION:PT2H30M
STATUS:CONFIRMED
SUMMARY:Ballverlust Bergedorf vs. Kick happens
DESCRIPTION:Rookie-Liga (2. Spieltag)
LOCATION:„Kickerkeller“ Stadtteilschule Richard-L, Richard-Linde-Weg 49, 21033 Hamburg-Lohbrügge
UID:SM-B18528@stage.kickern-hamburg.de
PRIORITY:5
SEQUENCE:0
CATEGORIES:SPORT
DTSTAMP:20260423T115432
END:VEVENT
BEGIN:VEVENT
CLASS:PUBLIC
DTSTART:20251204T180000Z
DURATION:PT2H30M
STATUS:CONFIRMED
SUMMARY:Ballverlust Bergedorf vs. siQrats
DESCRIPTION:Rookie-Liga (3. Spieltag)
LOCATION:„Kickerkeller“ Stadtteilschule Richard-L, Richard-Linde-Weg 49, 21033 Hamburg-Lohbrügge
UID:SM-B18532@stage.kickern-hamburg.de
PRIORITY:5
SEQUENCE:0
CATEGORIES:SPORT
DTSTAMP:20260423T115432
END:VEVENT
BEGIN:VEVENT
CLASS:PUBLIC
DTSTART:20260122T180000Z
DURATION:PT2H30M
STATUS:CONFIRMED
SUMMARY:Ballverlust Bergedorf vs. The Nippies
DESCRIPTION:Rookie-Liga (5. Spieltag)
LOCATION:„Kickerkeller“ Stadtteilschule Richard-L, Richard-Linde-Weg 49, 21033 Hamburg-Lohbrügge
UID:SM-B18540@stage.kickern-hamburg.de
PRIORITY:5
SEQUENCE:0
CATEGORIES:SPORT
DTSTAMP:20260423T115432
END:VEVENT
BEGIN:VEVENT
CLASS:PUBLIC
DTSTART:20260205T180000Z
DURATION:PT2H30M
STATUS:CONFIRMED
SUMMARY:Ballverlust Bergedorf vs. Prontosaurier
DESCRIPTION:Rookie-Liga (6. Spieltag)
LOCATION:„Kickerkeller“ Stadtteilschule Richard-L, Richard-Linde-Weg 49, 21033 Hamburg-Lohbrügge
UID:SM-B18547@stage.kickern-hamburg.de
PRIORITY:5
SEQUENCE:0
CATEGORIES:SPORT
DTSTAMP:20260423T115432
END:VEVENT
BEGIN:VEVENT
CLASS:PUBLIC
DTSTART:20260219T180000Z
DURATION:PT2H30M
STATUS:CONFIRMED
SUMMARY:Ballverlust Bergedorf vs. Fast sichere Zufallstreffer
DESCRIPTION:Rookie-Liga (7. Spieltag)
LOCATION:„Kickerkeller“ Stadtteilschule Richard-L, Richard-Linde-Weg 49, 21033 Hamburg-Lohbrügge
UID:SM-B18548@stage.kickern-hamburg.de
PRIORITY:5
SEQUENCE:0
CATEGORIES:SPORT
DTSTAMP:20260423T115432
END:VEVENT
BEGIN:VEVENT
CLASS:PUBLIC
DTSTART:20260319T180000Z
DURATION:PT2H30M
STATUS:CONFIRMED
SUMMARY:Ballverlust Bergedorf vs. Tentakel Spektakel
DESCRIPTION:Rookie-Liga (8. Spieltag)
LOCATION:„Kickerkeller“ Stadtteilschule Richard-L, Richard-Linde-Weg 49, 21033 Hamburg-Lohbrügge
UID:SM-B18552@stage.kickern-hamburg.de
PRIORITY:5
SEQUENCE:0
CATEGORIES:SPORT
DTSTAMP:20260423T115432
END:VEVENT
BEGIN:VEVENT
CLASS:PUBLIC
DTSTART:20260402T170000Z
DURATION:PT2H30M
STATUS:CONFIRMED
SUMMARY:Ballverlust Bergedorf vs. TishING for Complications
DESCRIPTION:Rookie-Liga (9. Spieltag)
LOCATION:„Kickerkeller“ Stadtteilschule Richard-L, Richard-Linde-Weg 49, 21033 Hamburg-Lohbrügge
UID:SM-B18557@stage.kickern-hamburg.de
PRIORITY:5
SEQUENCE:0
CATEGORIES:SPORT
DTSTAMP:20260423T115432
END:VEVENT
END:VCALENDAR
