BEGIN:VCALENDAR
VERSION:2.0
PRODID:PHP
METHOD:REQUEST
X-ORIGINAL-URL:https://stage.kickern-hamburg.de/liga/aktuelle-partien?task=team_begegnungen_ical&id=5645
X-WR-CALNAME;VALUE=TEXT:FC St. Pauli LMB Zwo
BEGIN:VEVENT
CLASS:PUBLIC
DTSTART:20250910T180000Z
DURATION:PT2H30M
STATUS:CONFIRMED
SUMMARY:FC St. Pauli LMB Zwo vs. Exorbitante Eskalation
DESCRIPTION:4. Liga, Gruppe B (1. Spieltag)\nErgebnis: 19:13 (74:68)
LOCATION:FC St. Pauli Clubheim, Harald-Stender-Platz 1, 20359 Hamburg-St. Pauli
UID:SM-B18134@stage.kickern-hamburg.de
PRIORITY:5
SEQUENCE:1
CATEGORIES:SPORT
DTSTAMP:20260423T115431
END:VEVENT
BEGIN:VEVENT
CLASS:PUBLIC
DTSTART:20250917T180000Z
DURATION:PT2H30M
STATUS:CONFIRMED
SUMMARY:FC St. Pauli LMB Zwo vs. TkC Rrraddauuuuuh!
DESCRIPTION:Ligapokal 3./4. Liga (1. Runde)\nErgebnis: 5:27 (48:91)
LOCATION:FC St. Pauli Clubheim, Harald-Stender-Platz 1, 20359 Hamburg-St. Pauli
UID:SM-B18337@stage.kickern-hamburg.de
PRIORITY:5
SEQUENCE:1
CATEGORIES:SPORT
DTSTAMP:20260423T115431
END:VEVENT
BEGIN:VEVENT
CLASS:PUBLIC
DTSTART:20251001T180000Z
DURATION:PT2H30M
STATUS:CONFIRMED
SUMMARY:FC St. Pauli LMB Zwo vs. TischING für Kühlschränke (NR)
DESCRIPTION:4. Liga, Gruppe B (2. Spieltag)\nErgebnis: 13:19 (67:75)
LOCATION:FC St. Pauli Clubheim, Harald-Stender-Platz 1, 20359 Hamburg-St. Pauli
UID:SM-B18142@stage.kickern-hamburg.de
PRIORITY:5
SEQUENCE:1
CATEGORIES:SPORT
DTSTAMP:20260423T115431
END:VEVENT
BEGIN:VEVENT
CLASS:PUBLIC
DTSTART:20251015T180000Z
DURATION:PT2H30M
STATUS:CONFIRMED
SUMMARY:FC St. Pauli LMB Zwo vs. Mauzis (NR)
DESCRIPTION:4. Liga, Gruppe B (3. Spieltag)\nErgebnis: 12:20 (56:79)
LOCATION:FC St. Pauli Clubheim, Harald-Stender-Platz 1, 20359 Hamburg-St. Pauli
UID:SM-B18144@stage.kickern-hamburg.de
PRIORITY:5
SEQUENCE:1
CATEGORIES:SPORT
DTSTAMP:20260423T115431
END:VEVENT
BEGIN:VEVENT
CLASS:PUBLIC
DTSTART:20251105T190000Z
DURATION:PT2H30M
STATUS:CONFIRMED
SUMMARY:FC St. Pauli LMB Zwo vs. The Walking Dead
DESCRIPTION:4. Liga, Gruppe B (4. Spieltag)
LOCATION:FC St. Pauli Clubheim, Harald-Stender-Platz 1, 20359 Hamburg-St. Pauli
UID:SM-B18158@stage.kickern-hamburg.de
PRIORITY:5
SEQUENCE:0
CATEGORIES:SPORT
DTSTAMP:20260423T115431
END:VEVENT
BEGIN:VEVENT
CLASS:PUBLIC
DTSTART:20251112T190000Z
DURATION:PT2H30M
STATUS:CONFIRMED
SUMMARY:FC St. Pauli LMB Zwo vs. Trash N' Talk
DESCRIPTION:Landespokal (2. Runde)
LOCATION:FC St. Pauli Clubheim, Harald-Stender-Platz 1, 20359 Hamburg-St. Pauli
UID:SM-B18471@stage.kickern-hamburg.de
PRIORITY:5
SEQUENCE:0
CATEGORIES:SPORT
DTSTAMP:20260423T115431
END:VEVENT
BEGIN:VEVENT
CLASS:PUBLIC
DTSTART:20251119T190000Z
DURATION:PT2H30M
STATUS:CONFIRMED
SUMMARY:FC St. Pauli LMB Zwo vs. Glashoch Rangers Hamburg
DESCRIPTION:4. Liga, Gruppe B (5. Spieltag)
LOCATION:FC St. Pauli Clubheim, Harald-Stender-Platz 1, 20359 Hamburg-St. Pauli
UID:SM-B18164@stage.kickern-hamburg.de
PRIORITY:5
SEQUENCE:0
CATEGORIES:SPORT
DTSTAMP:20260423T115431
END:VEVENT
BEGIN:VEVENT
CLASS:PUBLIC
DTSTART:20251203T190000Z
DURATION:PT2H30M
STATUS:CONFIRMED
SUMMARY:FC St. Pauli LMB Zwo vs. Dynamo & Durchstarters Grete
DESCRIPTION:4. Liga, Gruppe B (6. Spieltag)
LOCATION:FC St. Pauli Clubheim, Harald-Stender-Platz 1, 20359 Hamburg-St. Pauli
UID:SM-B18174@stage.kickern-hamburg.de
PRIORITY:5
SEQUENCE:0
CATEGORIES:SPORT
DTSTAMP:20260423T115431
END:VEVENT
BEGIN:VEVENT
CLASS:PUBLIC
DTSTART:20260107T190000Z
DURATION:PT2H30M
STATUS:CONFIRMED
SUMMARY:FC St. Pauli LMB Zwo vs. FC St. Pauli Sekt und pöbeln
DESCRIPTION:4. Liga, Gruppe B (7. Spieltag)
LOCATION:FC St. Pauli Clubheim, Harald-Stender-Platz 1, 20359 Hamburg-St. Pauli
UID:SM-B18180@stage.kickern-hamburg.de
PRIORITY:5
SEQUENCE:0
CATEGORIES:SPORT
DTSTAMP:20260423T115431
END:VEVENT
BEGIN:VEVENT
CLASS:PUBLIC
DTSTART:20260121T190000Z
DURATION:PT2H30M
STATUS:CONFIRMED
SUMMARY:FC St. Pauli LMB Zwo vs. Exorbitante Eskalation
DESCRIPTION:4. Liga, Gruppe B (8. Spieltag)
LOCATION:FC St. Pauli Clubheim, Harald-Stender-Platz 1, 20359 Hamburg-St. Pauli
UID:SM-B18135@stage.kickern-hamburg.de
PRIORITY:5
SEQUENCE:0
CATEGORIES:SPORT
DTSTAMP:20260423T115431
END:VEVENT
BEGIN:VEVENT
CLASS:PUBLIC
DTSTART:20260204T190000Z
DURATION:PT2H30M
STATUS:CONFIRMED
SUMMARY:FC St. Pauli LMB Zwo vs. TischING für Kühlschränke (NR)
DESCRIPTION:4. Liga, Gruppe B (9. Spieltag)
LOCATION:FC St. Pauli Clubheim, Harald-Stender-Platz 1, 20359 Hamburg-St. Pauli
UID:SM-B18143@stage.kickern-hamburg.de
PRIORITY:5
SEQUENCE:0
CATEGORIES:SPORT
DTSTAMP:20260423T115431
END:VEVENT
BEGIN:VEVENT
CLASS:PUBLIC
DTSTART:20260218T190000Z
DURATION:PT2H30M
STATUS:CONFIRMED
SUMMARY:FC St. Pauli LMB Zwo vs. Mauzis (NR)
DESCRIPTION:4. Liga, Gruppe B (10. Spieltag)
LOCATION:FC St. Pauli Clubheim, Harald-Stender-Platz 1, 20359 Hamburg-St. Pauli
UID:SM-B18145@stage.kickern-hamburg.de
PRIORITY:5
SEQUENCE:0
CATEGORIES:SPORT
DTSTAMP:20260423T115431
END:VEVENT
BEGIN:VEVENT
CLASS:PUBLIC
DTSTART:20260318T190000Z
DURATION:PT2H30M
STATUS:CONFIRMED
SUMMARY:FC St. Pauli LMB Zwo vs. The Walking Dead
DESCRIPTION:4. Liga, Gruppe B (11. Spieltag)
LOCATION:FC St. Pauli Clubheim, Harald-Stender-Platz 1, 20359 Hamburg-St. Pauli
UID:SM-B18159@stage.kickern-hamburg.de
PRIORITY:5
SEQUENCE:0
CATEGORIES:SPORT
DTSTAMP:20260423T115431
END:VEVENT
BEGIN:VEVENT
CLASS:PUBLIC
DTSTART:20260401T180000Z
DURATION:PT2H30M
STATUS:CONFIRMED
SUMMARY:FC St. Pauli LMB Zwo vs. Glashoch Rangers Hamburg
DESCRIPTION:4. Liga, Gruppe B (12. Spieltag)
LOCATION:FC St. Pauli Clubheim, Harald-Stender-Platz 1, 20359 Hamburg-St. Pauli
UID:SM-B18165@stage.kickern-hamburg.de
PRIORITY:5
SEQUENCE:0
CATEGORIES:SPORT
DTSTAMP:20260423T115431
END:VEVENT
BEGIN:VEVENT
CLASS:PUBLIC
DTSTART:20260415T180000Z
DURATION:PT2H30M
STATUS:CONFIRMED
SUMMARY:FC St. Pauli LMB Zwo vs. Dynamo & Durchstarters Grete
DESCRIPTION:4. Liga, Gruppe B (13. Spieltag)
LOCATION:FC St. Pauli Clubheim, Harald-Stender-Platz 1, 20359 Hamburg-St. Pauli
UID:SM-B18175@stage.kickern-hamburg.de
PRIORITY:5
SEQUENCE:0
CATEGORIES:SPORT
DTSTAMP:20260423T115431
END:VEVENT
BEGIN:VEVENT
CLASS:PUBLIC
DTSTART:20260429T180000Z
DURATION:PT2H30M
STATUS:CONFIRMED
SUMMARY:FC St. Pauli LMB Zwo vs. FC St. Pauli Sekt und pöbeln
DESCRIPTION:4. Liga, Gruppe B (14. Spieltag)
LOCATION:FC St. Pauli Clubheim, Harald-Stender-Platz 1, 20359 Hamburg-St. Pauli
UID:SM-B18181@stage.kickern-hamburg.de
PRIORITY:5
SEQUENCE:0
CATEGORIES:SPORT
DTSTAMP:20260423T115431
END:VEVENT
END:VCALENDAR
