BEGIN:VCALENDAR
VERSION:2.0
PRODID:PHP
METHOD:REQUEST
X-ORIGINAL-URL:https://stage.kickern-hamburg.de/liga/aktuelle-partien?task=team_begegnungen_ical&id=5639
X-WR-CALNAME;VALUE=TEXT:siQrats (NR)
BEGIN:VEVENT
CLASS:PUBLIC
DTSTART:20250911T170000Z
DURATION:PT2H30M
STATUS:CONFIRMED
SUMMARY:siQrats (NR) vs. Drehschieber Silpion
DESCRIPTION:4. Liga, Gruppe D (1. Spieltag)\nErgebnis: 11:21 (66:80)
LOCATION:siQnet Consulting GmbH, Wendenstraße 279, 20537 Hamburg
UID:SM-B18242@stage.kickern-hamburg.de
PRIORITY:5
SEQUENCE:1
CATEGORIES:SPORT
DTSTAMP:20260423T115445
END:VEVENT
BEGIN:VEVENT
CLASS:PUBLIC
DTSTART:20250930T170000Z
DURATION:PT2H30M
STATUS:CONFIRMED
SUMMARY:siQrats (NR) vs. Dampframme Aalstars
DESCRIPTION:4. Liga, Gruppe D (2. Spieltag)\nErgebnis: 17:15 (75:71)
LOCATION:siQnet Consulting GmbH, Wendenstraße 279, 20537 Hamburg
UID:SM-B18252@stage.kickern-hamburg.de
PRIORITY:5
SEQUENCE:1
CATEGORIES:SPORT
DTSTAMP:20260423T115445
END:VEVENT
BEGIN:VEVENT
CLASS:PUBLIC
DTSTART:20251007T180000Z
DURATION:PT2H30M
STATUS:CONFIRMED
SUMMARY:Keine Tricks !! vs. siQrats (NR)
DESCRIPTION:4. Liga, Gruppe D (3. Spieltag)\nErgebnis: 11:21 (63:80)
LOCATION:The Pub formerly known as Froggys (RAUCH, Eimbütteler Chaussee 29, 20259 Hamburg-Eimsbüttel
UID:SM-B18260@stage.kickern-hamburg.de
PRIORITY:5
SEQUENCE:1
CATEGORIES:SPORT
DTSTAMP:20260423T115445
END:VEVENT
BEGIN:VEVENT
CLASS:PUBLIC
DTSTART:20251009T170000Z
DURATION:PT2H30M
STATUS:CONFIRMED
SUMMARY:siQrats (NR) vs. Keine Tricks !!
DESCRIPTION:Landespokal (1. Runde)\nErgebnis: 21:11 (75:61)
LOCATION:siQnet Consulting GmbH, Wendenstraße 279, 20537 Hamburg
UID:SM-B18300@stage.kickern-hamburg.de
PRIORITY:5
SEQUENCE:1
CATEGORIES:SPORT
DTSTAMP:20260423T115445
END:VEVENT
BEGIN:VEVENT
CLASS:PUBLIC
DTSTART:20251030T180000Z
DURATION:PT2H30M
STATUS:TENTATIVE
SUMMARY:siQrats (NR) vs. Exorbitanter HäkMäk (NR) (wird verlegt)
DESCRIPTION:Landespokal (2. Runde)
LOCATION:siQnet Consulting GmbH, Wendenstraße 279, 20537 Hamburg
UID:SM-B18486@stage.kickern-hamburg.de
PRIORITY:5
SEQUENCE:0
CATEGORIES:SPORT
DTSTAMP:20260423T115445
END:VEVENT
BEGIN:VEVENT
CLASS:PUBLIC
DTSTART:20251106T180000Z
DURATION:PT2H30M
STATUS:TENTATIVE
SUMMARY:siQrats (NR) vs. FC St. Pauli Coming Soon (wird verlegt)
DESCRIPTION:4. Liga, Gruppe D (4. Spieltag)
LOCATION:siQnet Consulting GmbH, Wendenstraße 279, 20537 Hamburg
UID:SM-B18268@stage.kickern-hamburg.de
PRIORITY:5
SEQUENCE:0
CATEGORIES:SPORT
DTSTAMP:20260423T115445
END:VEVENT
BEGIN:VEVENT
CLASS:PUBLIC
DTSTART:20251120T180000Z
DURATION:PT2H30M
STATUS:CONFIRMED
SUMMARY:siQrats (NR) vs. Fellow Unicorns
DESCRIPTION:Ligapokal 3./4. Liga (2. Runde)
LOCATION:siQnet Consulting GmbH, Wendenstraße 279, 20537 Hamburg
UID:SM-B18455@stage.kickern-hamburg.de
PRIORITY:5
SEQUENCE:0
CATEGORIES:SPORT
DTSTAMP:20260423T115445
END:VEVENT
BEGIN:VEVENT
CLASS:PUBLIC
DTSTART:20251126T180000Z
DURATION:PT2H30M
STATUS:CONFIRMED
SUMMARY:FC St. Pauli Das Imperium kickt zurück vs. siQrats (NR)
DESCRIPTION:4. Liga, Gruppe D (5. Spieltag)
LOCATION:FC St. Pauli Clubheim, Harald-Stender-Platz 1, 20359 Hamburg-St. Pauli
UID:SM-B18272@stage.kickern-hamburg.de
PRIORITY:5
SEQUENCE:0
CATEGORIES:SPORT
DTSTAMP:20260423T115445
END:VEVENT
BEGIN:VEVENT
CLASS:PUBLIC
DTSTART:20251204T180000Z
DURATION:PT2H30M
STATUS:CONFIRMED
SUMMARY:siQrats (NR) vs. Trash N' Talk
DESCRIPTION:4. Liga, Gruppe D (6. Spieltag)
LOCATION:siQnet Consulting GmbH, Wendenstraße 279, 20537 Hamburg
UID:SM-B18284@stage.kickern-hamburg.de
PRIORITY:5
SEQUENCE:0
CATEGORIES:SPORT
DTSTAMP:20260423T115445
END:VEVENT
BEGIN:VEVENT
CLASS:PUBLIC
DTSTART:20260108T190000Z
DURATION:PT2H30M
STATUS:CONFIRMED
SUMMARY:Dampframme St. Pauli vs. siQrats (NR)
DESCRIPTION:4. Liga, Gruppe D (7. Spieltag)
LOCATION:KIXX, Nobistor 38, 22767 Hamburg-Altona-Altstadt
UID:SM-B18292@stage.kickern-hamburg.de
PRIORITY:5
SEQUENCE:0
CATEGORIES:SPORT
DTSTAMP:20260423T115445
END:VEVENT
BEGIN:VEVENT
CLASS:PUBLIC
DTSTART:20260122T190000Z
DURATION:PT2H30M
STATUS:CONFIRMED
SUMMARY:Drehschieber Silpion vs. siQrats (NR)
DESCRIPTION:4. Liga, Gruppe D (8. Spieltag)
LOCATION:Wohnung Julian Krätzig, Reeperbahn 63, 20359 Hamburg-St. Pauli
UID:SM-B18243@stage.kickern-hamburg.de
PRIORITY:5
SEQUENCE:0
CATEGORIES:SPORT
DTSTAMP:20260423T115445
END:VEVENT
BEGIN:VEVENT
CLASS:PUBLIC
DTSTART:20260205T183000Z
DURATION:PT2H30M
STATUS:CONFIRMED
SUMMARY:Dampframme Aalstars vs. siQrats (NR)
DESCRIPTION:4. Liga, Gruppe D (9. Spieltag)
LOCATION:KIXX, Nobistor 38, 22767 Hamburg-Altona-Altstadt
UID:SM-B18253@stage.kickern-hamburg.de
PRIORITY:5
SEQUENCE:0
CATEGORIES:SPORT
DTSTAMP:20260423T115445
END:VEVENT
BEGIN:VEVENT
CLASS:PUBLIC
DTSTART:20260219T180000Z
DURATION:PT2H30M
STATUS:CONFIRMED
SUMMARY:siQrats (NR) vs. Keine Tricks !!
DESCRIPTION:4. Liga, Gruppe D (10. Spieltag)
LOCATION:siQnet Consulting GmbH, Wendenstraße 279, 20537 Hamburg
UID:SM-B18261@stage.kickern-hamburg.de
PRIORITY:5
SEQUENCE:0
CATEGORIES:SPORT
DTSTAMP:20260423T115445
END:VEVENT
BEGIN:VEVENT
CLASS:PUBLIC
DTSTART:20260318T190000Z
DURATION:PT2H30M
STATUS:CONFIRMED
SUMMARY:FC St. Pauli Coming Soon vs. siQrats (NR)
DESCRIPTION:4. Liga, Gruppe D (11. Spieltag)
LOCATION:FC St. Pauli Clubheim, Harald-Stender-Platz 1, 20359 Hamburg-St. Pauli
UID:SM-B18269@stage.kickern-hamburg.de
PRIORITY:5
SEQUENCE:0
CATEGORIES:SPORT
DTSTAMP:20260423T115445
END:VEVENT
BEGIN:VEVENT
CLASS:PUBLIC
DTSTART:20260402T170000Z
DURATION:PT2H30M
STATUS:CONFIRMED
SUMMARY:siQrats (NR) vs. FC St. Pauli Das Imperium kickt zurück
DESCRIPTION:4. Liga, Gruppe D (12. Spieltag)
LOCATION:siQnet Consulting GmbH, Wendenstraße 279, 20537 Hamburg
UID:SM-B18273@stage.kickern-hamburg.de
PRIORITY:5
SEQUENCE:0
CATEGORIES:SPORT
DTSTAMP:20260423T115445
END:VEVENT
BEGIN:VEVENT
CLASS:PUBLIC
DTSTART:20260416T170000Z
DURATION:PT2H30M
STATUS:CONFIRMED
SUMMARY:Trash N' Talk vs. siQrats (NR)
DESCRIPTION:4. Liga, Gruppe D (13. Spieltag)
LOCATION:Ilohh Bar (RAUCHER), Repsoldstraße 52, 20097 Hamburg-Hammerbrook
UID:SM-B18285@stage.kickern-hamburg.de
PRIORITY:5
SEQUENCE:0
CATEGORIES:SPORT
DTSTAMP:20260423T115445
END:VEVENT
BEGIN:VEVENT
CLASS:PUBLIC
DTSTART:20260430T170000Z
DURATION:PT2H30M
STATUS:CONFIRMED
SUMMARY:siQrats (NR) vs. Dampframme St. Pauli
DESCRIPTION:4. Liga, Gruppe D (14. Spieltag)
LOCATION:siQnet Consulting GmbH, Wendenstraße 279, 20537 Hamburg
UID:SM-B18293@stage.kickern-hamburg.de
PRIORITY:5
SEQUENCE:0
CATEGORIES:SPORT
DTSTAMP:20260423T115445
END:VEVENT
END:VCALENDAR
