BEGIN:VCALENDAR
VERSION:2.0
PRODID:PHP
METHOD:REQUEST
X-ORIGINAL-URL:https://stage.kickern-hamburg.de/liga/aktuelle-partien?task=team_begegnungen_ical&id=5628
X-WR-CALNAME;VALUE=TEXT:Bordsteinkraken
BEGIN:VEVENT
CLASS:PUBLIC
DTSTART:20250910T173000Z
DURATION:PT2H30M
STATUS:CONFIRMED
SUMMARY:HSV Legenden vs. Bordsteinkraken
DESCRIPTION:4. Liga, Gruppe A (1. Spieltag)\nErgebnis: 21:11 (84:66)
LOCATION:HSV Tischfußball Sportzentrum, Ulzburger Strasse 94, 22850 Norderstedt
UID:SM-B18086@stage.kickern-hamburg.de
PRIORITY:5
SEQUENCE:1
CATEGORIES:SPORT
DTSTAMP:20260423T115419
END:VEVENT
BEGIN:VEVENT
CLASS:PUBLIC
DTSTART:20250924T180000Z
DURATION:PT2H30M
STATUS:CONFIRMED
SUMMARY:Likedeeler FC St. Pauli vs. Bordsteinkraken
DESCRIPTION:4. Liga, Gruppe A (2. Spieltag)\nErgebnis: 19:13 (74:67)
LOCATION:St. Pauli Wohnzimmer(Raucher) Ahoi, Hafenstr. 122, 20359 Hamburg-Hamburg
UID:SM-B18096@stage.kickern-hamburg.de
PRIORITY:5
SEQUENCE:1
CATEGORIES:SPORT
DTSTAMP:20260423T115419
END:VEVENT
BEGIN:VEVENT
CLASS:PUBLIC
DTSTART:20250930T180000Z
DURATION:PT2H30M
STATUS:CONFIRMED
SUMMARY:Bordsteinkraken vs. Exorbitanter Schabernack
DESCRIPTION:Landespokal (1. Runde)\nErgebnis: 10:22 (56:82)
LOCATION:Deutsche Seemannsmission Hamburg-Altona, Große Elbstraße 132, 22767 Hamburg-Altona
UID:SM-B18306@stage.kickern-hamburg.de
PRIORITY:5
SEQUENCE:1
CATEGORIES:SPORT
DTSTAMP:20260423T115419
END:VEVENT
BEGIN:VEVENT
CLASS:PUBLIC
DTSTART:20251014T180000Z
DURATION:PT2H30M
STATUS:CONFIRMED
SUMMARY:Bordsteinkraken vs. Substanz P
DESCRIPTION:4. Liga, Gruppe A (3. Spieltag)\nErgebnis: 4:28 (50:92)
LOCATION:Deutsche Seemannsmission Hamburg-Altona, Große Elbstraße 132, 22767 Hamburg-Altona
UID:SM-B18100@stage.kickern-hamburg.de
PRIORITY:5
SEQUENCE:1
CATEGORIES:SPORT
DTSTAMP:20260423T115419
END:VEVENT
BEGIN:VEVENT
CLASS:PUBLIC
DTSTART:20251105T190000Z
DURATION:PT2H30M
STATUS:CONFIRMED
SUMMARY:FC St. Pauli LMB vs. Bordsteinkraken
DESCRIPTION:4. Liga, Gruppe A (4. Spieltag)
LOCATION:FC St. Pauli Clubheim, Harald-Stender-Platz 1, 20359 Hamburg-St. Pauli
UID:SM-B18108@stage.kickern-hamburg.de
PRIORITY:5
SEQUENCE:0
CATEGORIES:SPORT
DTSTAMP:20260423T115419
END:VEVENT
BEGIN:VEVENT
CLASS:PUBLIC
DTSTART:20251111T190000Z
DURATION:PT2H30M
STATUS:CONFIRMED
SUMMARY:Bordsteinkraken vs. Rakshasa
DESCRIPTION:Ligapokal 3./4. Liga (2. Runde)
LOCATION:Deutsche Seemannsmission Hamburg-Altona, Große Elbstraße 132, 22767 Hamburg-Altona
UID:SM-B18445@stage.kickern-hamburg.de
PRIORITY:5
SEQUENCE:0
CATEGORIES:SPORT
DTSTAMP:20260423T115419
END:VEVENT
BEGIN:VEVENT
CLASS:PUBLIC
DTSTART:20251202T180000Z
DURATION:PT2H30M
STATUS:CONFIRMED
SUMMARY:WPS vs. Bordsteinkraken
DESCRIPTION:4. Liga, Gruppe A (6. Spieltag)
LOCATION:Workplace Solutions GmbH, Dorotheenstraße 60, 22301 Hamburg
UID:SM-B18116@stage.kickern-hamburg.de
PRIORITY:5
SEQUENCE:0
CATEGORIES:SPORT
DTSTAMP:20260423T115419
END:VEVENT
BEGIN:VEVENT
CLASS:PUBLIC
DTSTART:20260106T190000Z
DURATION:PT2H30M
STATUS:CONFIRMED
SUMMARY:Bordsteinkraken vs. Southside Kickers (NR)
DESCRIPTION:4. Liga, Gruppe A (7. Spieltag)
LOCATION:Deutsche Seemannsmission Hamburg-Altona, Große Elbstraße 132, 22767 Hamburg-Altona
UID:SM-B18124@stage.kickern-hamburg.de
PRIORITY:5
SEQUENCE:0
CATEGORIES:SPORT
DTSTAMP:20260423T115419
END:VEVENT
BEGIN:VEVENT
CLASS:PUBLIC
DTSTART:20260120T190000Z
DURATION:PT2H30M
STATUS:CONFIRMED
SUMMARY:Bordsteinkraken vs. HSV Legenden
DESCRIPTION:4. Liga, Gruppe A (8. Spieltag)
LOCATION:Deutsche Seemannsmission Hamburg-Altona, Große Elbstraße 132, 22767 Hamburg-Altona
UID:SM-B18087@stage.kickern-hamburg.de
PRIORITY:5
SEQUENCE:0
CATEGORIES:SPORT
DTSTAMP:20260423T115419
END:VEVENT
BEGIN:VEVENT
CLASS:PUBLIC
DTSTART:20260203T190000Z
DURATION:PT2H30M
STATUS:CONFIRMED
SUMMARY:Bordsteinkraken vs. Likedeeler FC St. Pauli
DESCRIPTION:4. Liga, Gruppe A (9. Spieltag)
LOCATION:Deutsche Seemannsmission Hamburg-Altona, Große Elbstraße 132, 22767 Hamburg-Altona
UID:SM-B18097@stage.kickern-hamburg.de
PRIORITY:5
SEQUENCE:0
CATEGORIES:SPORT
DTSTAMP:20260423T115419
END:VEVENT
BEGIN:VEVENT
CLASS:PUBLIC
DTSTART:20260218T190000Z
DURATION:PT2H30M
STATUS:CONFIRMED
SUMMARY:Substanz P vs. Bordsteinkraken
DESCRIPTION:4. Liga, Gruppe A (10. Spieltag)
LOCATION:Ilohh Bar (RAUCHER), Repsoldstraße 52, 20097 Hamburg-Hammerbrook
UID:SM-B18101@stage.kickern-hamburg.de
PRIORITY:5
SEQUENCE:0
CATEGORIES:SPORT
DTSTAMP:20260423T115419
END:VEVENT
BEGIN:VEVENT
CLASS:PUBLIC
DTSTART:20260318T190000Z
DURATION:PT2H30M
STATUS:CONFIRMED
SUMMARY:FC St. Pauli LMB vs. Bordsteinkraken
DESCRIPTION:4. Liga, Gruppe A (11. Spieltag)
LOCATION:FC St. Pauli Clubheim, Harald-Stender-Platz 1, 20359 Hamburg-St. Pauli
UID:SM-B18109@stage.kickern-hamburg.de
PRIORITY:5
SEQUENCE:0
CATEGORIES:SPORT
DTSTAMP:20260423T115419
END:VEVENT
BEGIN:VEVENT
CLASS:PUBLIC
DTSTART:20260414T180000Z
DURATION:PT2H30M
STATUS:CONFIRMED
SUMMARY:Bordsteinkraken vs. WPS
DESCRIPTION:4. Liga, Gruppe A (13. Spieltag)
LOCATION:Deutsche Seemannsmission Hamburg-Altona, Große Elbstraße 132, 22767 Hamburg-Altona
UID:SM-B18117@stage.kickern-hamburg.de
PRIORITY:5
SEQUENCE:0
CATEGORIES:SPORT
DTSTAMP:20260423T115419
END:VEVENT
BEGIN:VEVENT
CLASS:PUBLIC
DTSTART:20260428T180000Z
DURATION:PT2H30M
STATUS:CONFIRMED
SUMMARY:Southside Kickers (NR) vs. Bordsteinkraken
DESCRIPTION:4. Liga, Gruppe A (14. Spieltag)
LOCATION:Sidekick, Winsener Straße 190, 21077 Hamburg-Harburg
UID:SM-B18125@stage.kickern-hamburg.de
PRIORITY:5
SEQUENCE:0
CATEGORIES:SPORT
DTSTAMP:20260423T115419
END:VEVENT
END:VCALENDAR
