BEGIN:VCALENDAR
VERSION:2.0
PRODID:PHP
METHOD:REQUEST
X-ORIGINAL-URL:https://stage.kickern-hamburg.de/liga/aktuelle-partien?task=team_begegnungen_ical&id=5593
X-WR-CALNAME;VALUE=TEXT:FC St. Pauli Die Anfänger
BEGIN:VEVENT
CLASS:PUBLIC
DTSTART:20250910T170000Z
DURATION:PT2H30M
STATUS:CONFIRMED
SUMMARY:FC St. Pauli Die Anfänger vs. Torfabrik 2. Silpion (NR)
DESCRIPTION:4. Liga, Gruppe C (1. Spieltag)\nErgebnis: 21:11 (81:59)
LOCATION:FC St. Pauli Clubheim, Harald-Stender-Platz 1, 20359 Hamburg-St. Pauli
UID:SM-B18186@stage.kickern-hamburg.de
PRIORITY:5
SEQUENCE:1
CATEGORIES:SPORT
DTSTAMP:20260423T114819
END:VEVENT
BEGIN:VEVENT
CLASS:PUBLIC
DTSTART:20251001T170000Z
DURATION:PT2H30M
STATUS:CONFIRMED
SUMMARY:FC St. Pauli Die Anfänger vs. Exorbitanter Mumpitz
DESCRIPTION:4. Liga, Gruppe C (2. Spieltag)\nErgebnis: 11:21 (61:80)
LOCATION:FC St. Pauli Clubheim, Harald-Stender-Platz 1, 20359 Hamburg-St. Pauli
UID:SM-B18196@stage.kickern-hamburg.de
PRIORITY:5
SEQUENCE:1
CATEGORIES:SPORT
DTSTAMP:20260423T114819
END:VEVENT
BEGIN:VEVENT
CLASS:PUBLIC
DTSTART:20251008T180000Z
DURATION:PT2H30M
STATUS:CONFIRMED
SUMMARY:Wohnzimmer Kapeiken vs. FC St. Pauli Die Anfänger
DESCRIPTION:4. Liga, Gruppe C (3. Spieltag)\nErgebnis: 17:15 (74:70)
LOCATION:Hannes & Hanna Wohnzimmer (Raucher), Weidenallee 60, 20357 Hamburg-Eimsbüttel
UID:SM-B18204@stage.kickern-hamburg.de
PRIORITY:5
SEQUENCE:1
CATEGORIES:SPORT
DTSTAMP:20260423T114819
END:VEVENT
BEGIN:VEVENT
CLASS:PUBLIC
DTSTART:20251016T170000Z
DURATION:PT2H30M
STATUS:CONFIRMED
SUMMARY:FC St. Pauli Die Anfänger vs. Roter Stern Kickers 1 (NR)
DESCRIPTION:Landespokal (1. Runde)\nErgebnis: 6:26 (53:90)
LOCATION:FC St. Pauli Clubheim, Harald-Stender-Platz 1, 20359 Hamburg-St. Pauli
UID:SM-B18308@stage.kickern-hamburg.de
PRIORITY:5
SEQUENCE:1
CATEGORIES:SPORT
DTSTAMP:20260423T114819
END:VEVENT
BEGIN:VEVENT
CLASS:PUBLIC
DTSTART:20251105T180000Z
DURATION:PT2H30M
STATUS:TENTATIVE
SUMMARY:FC St. Pauli Die Anfänger vs. Verdammte Axt (wird verlegt)
DESCRIPTION:4. Liga, Gruppe C (4. Spieltag)
LOCATION:FC St. Pauli Clubheim, Harald-Stender-Platz 1, 20359 Hamburg-St. Pauli
UID:SM-B18212@stage.kickern-hamburg.de
PRIORITY:5
SEQUENCE:0
CATEGORIES:SPORT
DTSTAMP:20260423T114819
END:VEVENT
BEGIN:VEVENT
CLASS:PUBLIC
DTSTART:20251112T180000Z
DURATION:PT2H30M
STATUS:CONFIRMED
SUMMARY:FC St. Pauli Die Anfänger vs. HSV Legenden
DESCRIPTION:Ligapokal 3./4. Liga (2. Runde)
LOCATION:FC St. Pauli Clubheim, Harald-Stender-Platz 1, 20359 Hamburg-St. Pauli
UID:SM-B18433@stage.kickern-hamburg.de
PRIORITY:5
SEQUENCE:0
CATEGORIES:SPORT
DTSTAMP:20260423T114819
END:VEVENT
BEGIN:VEVENT
CLASS:PUBLIC
DTSTART:20251119T180000Z
DURATION:PT2H30M
STATUS:CONFIRMED
SUMMARY:FC St. Pauli Giganten vs. FC St. Pauli Die Anfänger
DESCRIPTION:4. Liga, Gruppe C (5. Spieltag)
LOCATION:FC St. Pauli Clubheim, Harald-Stender-Platz 1, 20359 Hamburg-St. Pauli
UID:SM-B18216@stage.kickern-hamburg.de
PRIORITY:5
SEQUENCE:0
CATEGORIES:SPORT
DTSTAMP:20260423T114819
END:VEVENT
BEGIN:VEVENT
CLASS:PUBLIC
DTSTART:20251203T180000Z
DURATION:PT2H30M
STATUS:CONFIRMED
SUMMARY:FC St. Pauli Die Anfänger vs. Old School
DESCRIPTION:4. Liga, Gruppe C (6. Spieltag)
LOCATION:FC St. Pauli Clubheim, Harald-Stender-Platz 1, 20359 Hamburg-St. Pauli
UID:SM-B18228@stage.kickern-hamburg.de
PRIORITY:5
SEQUENCE:0
CATEGORIES:SPORT
DTSTAMP:20260423T114819
END:VEVENT
BEGIN:VEVENT
CLASS:PUBLIC
DTSTART:20260107T190000Z
DURATION:PT2H30M
STATUS:CONFIRMED
SUMMARY:Kicking Me Softly vs. FC St. Pauli Die Anfänger
DESCRIPTION:4. Liga, Gruppe C (7. Spieltag)
LOCATION:ZaZú, Lutterothstraße 62, 20255 Hamburg-Eimsbüttel
UID:SM-B18236@stage.kickern-hamburg.de
PRIORITY:5
SEQUENCE:0
CATEGORIES:SPORT
DTSTAMP:20260423T114819
END:VEVENT
BEGIN:VEVENT
CLASS:PUBLIC
DTSTART:20260122T190000Z
DURATION:PT2H30M
STATUS:CONFIRMED
SUMMARY:Torfabrik 2. Silpion (NR) vs. FC St. Pauli Die Anfänger
DESCRIPTION:4. Liga, Gruppe C (8. Spieltag)
LOCATION:Die Torfabrik, Zum Sportplatz 10, 21220 Seevetal
UID:SM-B18187@stage.kickern-hamburg.de
PRIORITY:5
SEQUENCE:0
CATEGORIES:SPORT
DTSTAMP:20260423T114819
END:VEVENT
BEGIN:VEVENT
CLASS:PUBLIC
DTSTART:20260205T190000Z
DURATION:PT2H30M
STATUS:CONFIRMED
SUMMARY:Exorbitanter Mumpitz vs. FC St. Pauli Die Anfänger
DESCRIPTION:4. Liga, Gruppe C (9. Spieltag)
LOCATION:Joy, Winterhuder Weg 69, 22085 Hamburg-Uhlenhorst
UID:SM-B18197@stage.kickern-hamburg.de
PRIORITY:5
SEQUENCE:0
CATEGORIES:SPORT
DTSTAMP:20260423T114819
END:VEVENT
BEGIN:VEVENT
CLASS:PUBLIC
DTSTART:20260218T180000Z
DURATION:PT2H30M
STATUS:CONFIRMED
SUMMARY:FC St. Pauli Die Anfänger vs. Wohnzimmer Kapeiken
DESCRIPTION:4. Liga, Gruppe C (10. Spieltag)
LOCATION:FC St. Pauli Clubheim, Harald-Stender-Platz 1, 20359 Hamburg-St. Pauli
UID:SM-B18205@stage.kickern-hamburg.de
PRIORITY:5
SEQUENCE:0
CATEGORIES:SPORT
DTSTAMP:20260423T114819
END:VEVENT
BEGIN:VEVENT
CLASS:PUBLIC
DTSTART:20260320T190000Z
DURATION:PT2H30M
STATUS:CONFIRMED
SUMMARY:Verdammte Axt vs. FC St. Pauli Die Anfänger
DESCRIPTION:4. Liga, Gruppe C (11. Spieltag)
LOCATION:Hannes & Hanna Wohnzimmer (Raucher), Weidenallee 60, 20357 Hamburg-Eimsbüttel
UID:SM-B18213@stage.kickern-hamburg.de
PRIORITY:5
SEQUENCE:0
CATEGORIES:SPORT
DTSTAMP:20260423T114819
END:VEVENT
BEGIN:VEVENT
CLASS:PUBLIC
DTSTART:20260401T170000Z
DURATION:PT2H30M
STATUS:CONFIRMED
SUMMARY:FC St. Pauli Giganten vs. FC St. Pauli Die Anfänger
DESCRIPTION:4. Liga, Gruppe C (12. Spieltag)
LOCATION:FC St. Pauli Clubheim, Harald-Stender-Platz 1, 20359 Hamburg-St. Pauli
UID:SM-B18217@stage.kickern-hamburg.de
PRIORITY:5
SEQUENCE:0
CATEGORIES:SPORT
DTSTAMP:20260423T114819
END:VEVENT
BEGIN:VEVENT
CLASS:PUBLIC
DTSTART:20260414T180000Z
DURATION:PT2H30M
STATUS:CONFIRMED
SUMMARY:Old School vs. FC St. Pauli Die Anfänger
DESCRIPTION:4. Liga, Gruppe C (13. Spieltag)
LOCATION:Hannes & Hanna Wohnzimmer (Raucher), Weidenallee 60, 20357 Hamburg-Eimsbüttel
UID:SM-B18229@stage.kickern-hamburg.de
PRIORITY:5
SEQUENCE:0
CATEGORIES:SPORT
DTSTAMP:20260423T114819
END:VEVENT
BEGIN:VEVENT
CLASS:PUBLIC
DTSTART:20260429T170000Z
DURATION:PT2H30M
STATUS:CONFIRMED
SUMMARY:FC St. Pauli Die Anfänger vs. Kicking Me Softly
DESCRIPTION:4. Liga, Gruppe C (14. Spieltag)
LOCATION:FC St. Pauli Clubheim, Harald-Stender-Platz 1, 20359 Hamburg-St. Pauli
UID:SM-B18237@stage.kickern-hamburg.de
PRIORITY:5
SEQUENCE:0
CATEGORIES:SPORT
DTSTAMP:20260423T114819
END:VEVENT
END:VCALENDAR
