BEGIN:VCALENDAR
VERSION:2.0
PRODID:PHP
METHOD:REQUEST
X-ORIGINAL-URL:https://stage.kickern-hamburg.de/liga/aktuelle-partien?task=team_begegnungen_ical&id=5538
X-WR-CALNAME;VALUE=TEXT:Fuchs AG (NR)
BEGIN:VEVENT
CLASS:PUBLIC
DTSTART:20250918T180000Z
DURATION:PT2H30M
STATUS:CONFIRMED
SUMMARY:Fuchs AG (NR) vs. FC St. Pauli Kneipenstyle
DESCRIPTION:3. Liga, Gruppe A (1. Spieltag)\nErgebnis: 12:20 (64:81)
LOCATION:KIXX, Nobistor 38, 22767 Hamburg-Altona-Altstadt
UID:SM-B17822@stage.kickern-hamburg.de
PRIORITY:5
SEQUENCE:1
CATEGORIES:SPORT
DTSTAMP:20260423T114819
END:VEVENT
BEGIN:VEVENT
CLASS:PUBLIC
DTSTART:20250925T183000Z
DURATION:PT2H30M
STATUS:CONFIRMED
SUMMARY:Team St. Pauli 05 vs. Fuchs AG (NR)
DESCRIPTION:3. Liga, Gruppe A (2. Spieltag)\nErgebnis: 10:22 (69:86)
LOCATION:Roschinsky's (RAUCHER), Hamburger Berg 19, 20359 Hamburg-St. Pauli
UID:SM-B17830@stage.kickern-hamburg.de
PRIORITY:5
SEQUENCE:1
CATEGORIES:SPORT
DTSTAMP:20260423T114819
END:VEVENT
BEGIN:VEVENT
CLASS:PUBLIC
DTSTART:20251009T180000Z
DURATION:PT2H30M
STATUS:CONFIRMED
SUMMARY:Torfabrik Silpion (NR) vs. Fuchs AG (NR)
DESCRIPTION:3. Liga, Gruppe A (3. Spieltag)\nErgebnis: 16:16 (73:77)
LOCATION:Die Torfabrik, Zum Sportplatz 10, 21220 Seevetal
UID:SM-B17838@stage.kickern-hamburg.de
PRIORITY:5
SEQUENCE:1
CATEGORIES:SPORT
DTSTAMP:20260423T114819
END:VEVENT
BEGIN:VEVENT
CLASS:PUBLIC
DTSTART:20251022T170000Z
DURATION:PT2H30M
STATUS:CONFIRMED
SUMMARY:FC St. Pauli Das Imperium kickt zurück vs. Fuchs AG (NR)
DESCRIPTION:Landespokal (1. Runde)\nErgebnis: 3:21 (36:69)
LOCATION:FC St. Pauli Clubheim, Harald-Stender-Platz 1, 20359 Hamburg-St. Pauli
UID:SM-B18322@stage.kickern-hamburg.de
PRIORITY:5
SEQUENCE:1
CATEGORIES:SPORT
DTSTAMP:20260423T114819
END:VEVENT
BEGIN:VEVENT
CLASS:PUBLIC
DTSTART:20251029T183000Z
DURATION:PT2H30M
STATUS:CONFIRMED
SUMMARY:Fuchs AG (NR) vs. HSV Torschmuggler (NR)
DESCRIPTION:Ligapokal 3./4. Liga (2. Runde)
LOCATION:KIXX, Nobistor 38, 22767 Hamburg-Altona-Altstadt
UID:SM-B18431@stage.kickern-hamburg.de
PRIORITY:5
SEQUENCE:0
CATEGORIES:SPORT
DTSTAMP:20260423T114819
END:VEVENT
BEGIN:VEVENT
CLASS:PUBLIC
DTSTART:20251030T190000Z
DURATION:PT2H30M
STATUS:TENTATIVE
SUMMARY:Exorbitanter Mumpitz vs. Fuchs AG (NR) (wird verlegt)
DESCRIPTION:Landespokal (2. Runde)
LOCATION:Joy, Winterhuder Weg 69, 22085 Hamburg-Uhlenhorst
UID:SM-B18466@stage.kickern-hamburg.de
PRIORITY:5
SEQUENCE:0
CATEGORIES:SPORT
DTSTAMP:20260423T114819
END:VEVENT
BEGIN:VEVENT
CLASS:PUBLIC
DTSTART:20251106T183000Z
DURATION:PT2H30M
STATUS:CONFIRMED
SUMMARY:Fuchs AG (NR) vs. FC St. Pauli Kicker der Kokosnuss (NR)
DESCRIPTION:3. Liga, Gruppe A (4. Spieltag)
LOCATION:KIXX, Nobistor 38, 22767 Hamburg-Altona-Altstadt
UID:SM-B17848@stage.kickern-hamburg.de
PRIORITY:5
SEQUENCE:0
CATEGORIES:SPORT
DTSTAMP:20260423T114819
END:VEVENT
BEGIN:VEVENT
CLASS:PUBLIC
DTSTART:20251120T183000Z
DURATION:PT2H30M
STATUS:CONFIRMED
SUMMARY:Fuchs AG (NR) vs. 3. Herren Silpion II (NR)
DESCRIPTION:3. Liga, Gruppe A (5. Spieltag)
LOCATION:KIXX, Nobistor 38, 22767 Hamburg-Altona-Altstadt
UID:SM-B17862@stage.kickern-hamburg.de
PRIORITY:5
SEQUENCE:0
CATEGORIES:SPORT
DTSTAMP:20260423T114819
END:VEVENT
BEGIN:VEVENT
CLASS:PUBLIC
DTSTART:20251202T190000Z
DURATION:PT2H30M
STATUS:CONFIRMED
SUMMARY:Kickeronis (NR) vs. Fuchs AG (NR)
DESCRIPTION:3. Liga, Gruppe A (6. Spieltag)
LOCATION:KIXX, Nobistor 38, 22767 Hamburg-Altona-Altstadt
UID:SM-B17870@stage.kickern-hamburg.de
PRIORITY:5
SEQUENCE:0
CATEGORIES:SPORT
DTSTAMP:20260423T114819
END:VEVENT
BEGIN:VEVENT
CLASS:PUBLIC
DTSTART:20260106T190000Z
DURATION:PT2H30M
STATUS:CONFIRMED
SUMMARY:HSV Torschmuggler (NR) vs. Fuchs AG (NR)
DESCRIPTION:3. Liga, Gruppe A (7. Spieltag)
LOCATION:HSV Tischfußball Sportzentrum, Ulzburger Strasse 94, 22850 Norderstedt
UID:SM-B17884@stage.kickern-hamburg.de
PRIORITY:5
SEQUENCE:0
CATEGORIES:SPORT
DTSTAMP:20260423T114819
END:VEVENT
BEGIN:VEVENT
CLASS:PUBLIC
DTSTART:20260122T183000Z
DURATION:PT2H30M
STATUS:CONFIRMED
SUMMARY:Fuchs AG (NR) vs. FC Joy
DESCRIPTION:3. Liga, Gruppe A (8. Spieltag)
LOCATION:KIXX, Nobistor 38, 22767 Hamburg-Altona-Altstadt
UID:SM-B17894@stage.kickern-hamburg.de
PRIORITY:5
SEQUENCE:0
CATEGORIES:SPORT
DTSTAMP:20260423T114819
END:VEVENT
BEGIN:VEVENT
CLASS:PUBLIC
DTSTART:20260205T190000Z
DURATION:PT2H30M
STATUS:CONFIRMED
SUMMARY:Schorsch vs. Fuchs AG (NR)
DESCRIPTION:3. Liga, Gruppe A (9. Spieltag)
LOCATION:Ilohh Bar (RAUCHER), Repsoldstraße 52, 20097 Hamburg-Hammerbrook
UID:SM-B17902@stage.kickern-hamburg.de
PRIORITY:5
SEQUENCE:0
CATEGORIES:SPORT
DTSTAMP:20260423T114819
END:VEVENT
BEGIN:VEVENT
CLASS:PUBLIC
DTSTART:20260217T190000Z
DURATION:PT2H30M
STATUS:CONFIRMED
SUMMARY:FC St. Pauli Kneipenstyle vs. Fuchs AG (NR)
DESCRIPTION:3. Liga, Gruppe A (10. Spieltag)
LOCATION:St. Pauli Wohnzimmer(Raucher) Ahoi, Hafenstr. 122, 20359 Hamburg-Hamburg
UID:SM-B17823@stage.kickern-hamburg.de
PRIORITY:5
SEQUENCE:0
CATEGORIES:SPORT
DTSTAMP:20260423T114819
END:VEVENT
BEGIN:VEVENT
CLASS:PUBLIC
DTSTART:20260319T183000Z
DURATION:PT2H30M
STATUS:CONFIRMED
SUMMARY:Fuchs AG (NR) vs. Team St. Pauli 05
DESCRIPTION:3. Liga, Gruppe A (11. Spieltag)
LOCATION:KIXX, Nobistor 38, 22767 Hamburg-Altona-Altstadt
UID:SM-B17831@stage.kickern-hamburg.de
PRIORITY:5
SEQUENCE:0
CATEGORIES:SPORT
DTSTAMP:20260423T114819
END:VEVENT
BEGIN:VEVENT
CLASS:PUBLIC
DTSTART:20260402T173000Z
DURATION:PT2H30M
STATUS:CONFIRMED
SUMMARY:Fuchs AG (NR) vs. Torfabrik Silpion (NR)
DESCRIPTION:3. Liga, Gruppe A (12. Spieltag)
LOCATION:KIXX, Nobistor 38, 22767 Hamburg-Altona-Altstadt
UID:SM-B17839@stage.kickern-hamburg.de
PRIORITY:5
SEQUENCE:0
CATEGORIES:SPORT
DTSTAMP:20260423T114819
END:VEVENT
BEGIN:VEVENT
CLASS:PUBLIC
DTSTART:20260415T180000Z
DURATION:PT2H30M
STATUS:CONFIRMED
SUMMARY:FC St. Pauli Kicker der Kokosnuss (NR) vs. Fuchs AG (NR)
DESCRIPTION:3. Liga, Gruppe A (13. Spieltag)
LOCATION:FC St. Pauli Clubheim, Harald-Stender-Platz 1, 20359 Hamburg-St. Pauli
UID:SM-B17849@stage.kickern-hamburg.de
PRIORITY:5
SEQUENCE:0
CATEGORIES:SPORT
DTSTAMP:20260423T114819
END:VEVENT
BEGIN:VEVENT
CLASS:PUBLIC
DTSTART:20260501T180000Z
DURATION:PT2H30M
STATUS:CONFIRMED
SUMMARY:3. Herren Silpion II (NR) vs. Fuchs AG (NR)
DESCRIPTION:3. Liga, Gruppe A (14. Spieltag)
LOCATION:Silpion IT Solution GmbH, Brandshofer Deich 48, 20539 Hamburg-Rothenburgsort
UID:SM-B17863@stage.kickern-hamburg.de
PRIORITY:5
SEQUENCE:0
CATEGORIES:SPORT
DTSTAMP:20260423T114819
END:VEVENT
BEGIN:VEVENT
CLASS:PUBLIC
DTSTART:20260521T173000Z
DURATION:PT2H30M
STATUS:CONFIRMED
SUMMARY:Fuchs AG (NR) vs. Kickeronis (NR)
DESCRIPTION:3. Liga, Gruppe A (15. Spieltag)
LOCATION:KIXX, Nobistor 38, 22767 Hamburg-Altona-Altstadt
UID:SM-B17871@stage.kickern-hamburg.de
PRIORITY:5
SEQUENCE:0
CATEGORIES:SPORT
DTSTAMP:20260423T114819
END:VEVENT
BEGIN:VEVENT
CLASS:PUBLIC
DTSTART:20260604T173000Z
DURATION:PT2H30M
STATUS:CONFIRMED
SUMMARY:Fuchs AG (NR) vs. HSV Torschmuggler (NR)
DESCRIPTION:3. Liga, Gruppe A (16. Spieltag)
LOCATION:KIXX, Nobistor 38, 22767 Hamburg-Altona-Altstadt
UID:SM-B17885@stage.kickern-hamburg.de
PRIORITY:5
SEQUENCE:0
CATEGORIES:SPORT
DTSTAMP:20260423T114819
END:VEVENT
BEGIN:VEVENT
CLASS:PUBLIC
DTSTART:20260618T180000Z
DURATION:PT2H30M
STATUS:CONFIRMED
SUMMARY:FC Joy vs. Fuchs AG (NR)
DESCRIPTION:3. Liga, Gruppe A (17. Spieltag)
LOCATION:KIXX, Nobistor 38, 22767 Hamburg-Altona-Altstadt
UID:SM-B17895@stage.kickern-hamburg.de
PRIORITY:5
SEQUENCE:0
CATEGORIES:SPORT
DTSTAMP:20260423T114819
END:VEVENT
BEGIN:VEVENT
CLASS:PUBLIC
DTSTART:20260702T173000Z
DURATION:PT2H30M
STATUS:CONFIRMED
SUMMARY:Fuchs AG (NR) vs. Schorsch
DESCRIPTION:3. Liga, Gruppe A (18. Spieltag)
LOCATION:KIXX, Nobistor 38, 22767 Hamburg-Altona-Altstadt
UID:SM-B17903@stage.kickern-hamburg.de
PRIORITY:5
SEQUENCE:0
CATEGORIES:SPORT
DTSTAMP:20260423T114819
END:VEVENT
END:VCALENDAR
