BEGIN:VCALENDAR
VERSION:2.0
PRODID:PHP
METHOD:REQUEST
X-ORIGINAL-URL:https://stage.kickern-hamburg.de/liga/aktuelle-partien?task=team_begegnungen_ical&id=5515
X-WR-CALNAME;VALUE=TEXT:FC St. Pauli dreht auf
BEGIN:VEVENT
CLASS:PUBLIC
DTSTART:20250918T180000Z
DURATION:PT2H30M
STATUS:CONFIRMED
SUMMARY:Bergbarbaren vs. FC St. Pauli dreht auf
DESCRIPTION:3. Liga, Gruppe B (1. Spieltag)\nErgebnis: 16:16 (72:69)
LOCATION:KIXX, Nobistor 38, 22767 Hamburg-Altona-Altstadt
UID:SM-B17908@stage.kickern-hamburg.de
PRIORITY:5
SEQUENCE:1
CATEGORIES:SPORT
DTSTAMP:20260423T115440
END:VEVENT
BEGIN:VEVENT
CLASS:PUBLIC
DTSTART:20250924T180000Z
DURATION:PT2H30M
STATUS:CONFIRMED
SUMMARY:FC St. Pauli dreht auf vs. Nen Rudel Gurken
DESCRIPTION:3. Liga, Gruppe B (2. Spieltag)\nErgebnis: 9:23 (55:82)
LOCATION:FC St. Pauli Clubheim, Harald-Stender-Platz 1, 20359 Hamburg-St. Pauli
UID:SM-B17918@stage.kickern-hamburg.de
PRIORITY:5
SEQUENCE:1
CATEGORIES:SPORT
DTSTAMP:20260423T115440
END:VEVENT
BEGIN:VEVENT
CLASS:PUBLIC
DTSTART:20251007T170000Z
DURATION:PT2H30M
STATUS:CONFIRMED
SUMMARY:Roter Stern Kickers 2 (NR) vs. FC St. Pauli dreht auf
DESCRIPTION:3. Liga, Gruppe B (3. Spieltag)\nErgebnis: 8:24 (52:84)
LOCATION:JuKI 42, An der Reitbahn 2, 22926 Ahrensburg
UID:SM-B17930@stage.kickern-hamburg.de
PRIORITY:5
SEQUENCE:1
CATEGORIES:SPORT
DTSTAMP:20260423T115440
END:VEVENT
BEGIN:VEVENT
CLASS:PUBLIC
DTSTART:20251028T190000Z
DURATION:PT2H30M
STATUS:CONFIRMED
SUMMARY:FC St. Pauli dreht auf vs. MiDDelDinger (NR)
DESCRIPTION:Ligapokal 3./4. Liga (2. Runde)
LOCATION:FC St. Pauli Clubheim, Harald-Stender-Platz 1, 20359 Hamburg-St. Pauli
UID:SM-B18450@stage.kickern-hamburg.de
PRIORITY:5
SEQUENCE:0
CATEGORIES:SPORT
DTSTAMP:20260423T115440
END:VEVENT
BEGIN:VEVENT
CLASS:PUBLIC
DTSTART:20251031T190000Z
DURATION:PT2H30M
STATUS:CONFIRMED
SUMMARY:FC St. Pauli Shooting Stars vs. FC St. Pauli dreht auf
DESCRIPTION:Landespokal (2. Runde)
LOCATION:FC St. Pauli Clubheim, Harald-Stender-Platz 1, 20359 Hamburg-St. Pauli
UID:SM-B18478@stage.kickern-hamburg.de
PRIORITY:5
SEQUENCE:0
CATEGORIES:SPORT
DTSTAMP:20260423T115440
END:VEVENT
BEGIN:VEVENT
CLASS:PUBLIC
DTSTART:20251105T190000Z
DURATION:PT2H30M
STATUS:CONFIRMED
SUMMARY:FC St. Pauli dreht auf vs. Die Ilohhminauten FC St. Pauli
DESCRIPTION:3. Liga, Gruppe B (4. Spieltag)
LOCATION:FC St. Pauli Clubheim, Harald-Stender-Platz 1, 20359 Hamburg-St. Pauli
UID:SM-B17940@stage.kickern-hamburg.de
PRIORITY:5
SEQUENCE:0
CATEGORIES:SPORT
DTSTAMP:20260423T115440
END:VEVENT
BEGIN:VEVENT
CLASS:PUBLIC
DTSTART:20251120T190000Z
DURATION:PT2H30M
STATUS:CONFIRMED
SUMMARY:Kicker Club Lüneburg (NR) vs. FC St. Pauli dreht auf
DESCRIPTION:3. Liga, Gruppe B (5. Spieltag)
LOCATION:KIXX, Nobistor 38, 22767 Hamburg-Altona-Altstadt
UID:SM-B17946@stage.kickern-hamburg.de
PRIORITY:5
SEQUENCE:0
CATEGORIES:SPORT
DTSTAMP:20260423T115440
END:VEVENT
BEGIN:VEVENT
CLASS:PUBLIC
DTSTART:20251203T190000Z
DURATION:PT2H30M
STATUS:CONFIRMED
SUMMARY:FC St. Pauli dreht auf vs. TishING for Compliments (NR)
DESCRIPTION:3. Liga, Gruppe B (6. Spieltag)
LOCATION:FC St. Pauli Clubheim, Harald-Stender-Platz 1, 20359 Hamburg-St. Pauli
UID:SM-B17956@stage.kickern-hamburg.de
PRIORITY:5
SEQUENCE:0
CATEGORIES:SPORT
DTSTAMP:20260423T115440
END:VEVENT
BEGIN:VEVENT
CLASS:PUBLIC
DTSTART:20260107T190000Z
DURATION:PT2H30M
STATUS:CONFIRMED
SUMMARY:FC St. Pauli dreht auf vs. FC St. Pauli from dusk till dawn
DESCRIPTION:3. Liga, Gruppe B (7. Spieltag)
LOCATION:FC St. Pauli Clubheim, Harald-Stender-Platz 1, 20359 Hamburg-St. Pauli
UID:SM-B17972@stage.kickern-hamburg.de
PRIORITY:5
SEQUENCE:0
CATEGORIES:SPORT
DTSTAMP:20260423T115440
END:VEVENT
BEGIN:VEVENT
CLASS:PUBLIC
DTSTART:20260122T183000Z
DURATION:PT2H30M
STATUS:CONFIRMED
SUMMARY:MiDDelDinger (NR) vs. FC St. Pauli dreht auf
DESCRIPTION:3. Liga, Gruppe B (8. Spieltag)
LOCATION:Hannes & Hanna Wohnzimmer (Raucher), Weidenallee 60, 20357 Hamburg-Eimsbüttel
UID:SM-B17980@stage.kickern-hamburg.de
PRIORITY:5
SEQUENCE:0
CATEGORIES:SPORT
DTSTAMP:20260423T115440
END:VEVENT
BEGIN:VEVENT
CLASS:PUBLIC
DTSTART:20260204T190000Z
DURATION:PT2H30M
STATUS:CONFIRMED
SUMMARY:FC St. Pauli dreht auf vs. TkC Rrraddauuuuuh!
DESCRIPTION:3. Liga, Gruppe B (9. Spieltag)
LOCATION:FC St. Pauli Clubheim, Harald-Stender-Platz 1, 20359 Hamburg-St. Pauli
UID:SM-B17992@stage.kickern-hamburg.de
PRIORITY:5
SEQUENCE:0
CATEGORIES:SPORT
DTSTAMP:20260423T115440
END:VEVENT
BEGIN:VEVENT
CLASS:PUBLIC
DTSTART:20260218T190000Z
DURATION:PT2H30M
STATUS:CONFIRMED
SUMMARY:FC St. Pauli dreht auf vs. Bergbarbaren
DESCRIPTION:3. Liga, Gruppe B (10. Spieltag)
LOCATION:FC St. Pauli Clubheim, Harald-Stender-Platz 1, 20359 Hamburg-St. Pauli
UID:SM-B17909@stage.kickern-hamburg.de
PRIORITY:5
SEQUENCE:0
CATEGORIES:SPORT
DTSTAMP:20260423T115440
END:VEVENT
BEGIN:VEVENT
CLASS:PUBLIC
DTSTART:20260317T190000Z
DURATION:PT2H30M
STATUS:CONFIRMED
SUMMARY:Nen Rudel Gurken vs. FC St. Pauli dreht auf
DESCRIPTION:3. Liga, Gruppe B (11. Spieltag)
LOCATION:Bambi Bar, Hamburger Berg 14, 20359 Hamburg
UID:SM-B17919@stage.kickern-hamburg.de
PRIORITY:5
SEQUENCE:0
CATEGORIES:SPORT
DTSTAMP:20260423T115440
END:VEVENT
BEGIN:VEVENT
CLASS:PUBLIC
DTSTART:20260401T180000Z
DURATION:PT2H30M
STATUS:CONFIRMED
SUMMARY:FC St. Pauli dreht auf vs. Roter Stern Kickers 2 (NR)
DESCRIPTION:3. Liga, Gruppe B (12. Spieltag)
LOCATION:FC St. Pauli Clubheim, Harald-Stender-Platz 1, 20359 Hamburg-St. Pauli
UID:SM-B17931@stage.kickern-hamburg.de
PRIORITY:5
SEQUENCE:0
CATEGORIES:SPORT
DTSTAMP:20260423T115440
END:VEVENT
BEGIN:VEVENT
CLASS:PUBLIC
DTSTART:20260416T180000Z
DURATION:PT2H30M
STATUS:CONFIRMED
SUMMARY:Die Ilohhminauten FC St. Pauli vs. FC St. Pauli dreht auf
DESCRIPTION:3. Liga, Gruppe B (13. Spieltag)
LOCATION:Ilohh Bar (RAUCHER), Repsoldstraße 52, 20097 Hamburg-Hammerbrook
UID:SM-B17941@stage.kickern-hamburg.de
PRIORITY:5
SEQUENCE:0
CATEGORIES:SPORT
DTSTAMP:20260423T115440
END:VEVENT
BEGIN:VEVENT
CLASS:PUBLIC
DTSTART:20260429T180000Z
DURATION:PT2H30M
STATUS:CONFIRMED
SUMMARY:FC St. Pauli dreht auf vs. Kicker Club Lüneburg (NR)
DESCRIPTION:3. Liga, Gruppe B (14. Spieltag)
LOCATION:FC St. Pauli Clubheim, Harald-Stender-Platz 1, 20359 Hamburg-St. Pauli
UID:SM-B17947@stage.kickern-hamburg.de
PRIORITY:5
SEQUENCE:0
CATEGORIES:SPORT
DTSTAMP:20260423T115440
END:VEVENT
BEGIN:VEVENT
CLASS:PUBLIC
DTSTART:20260521T180000Z
DURATION:PT2H30M
STATUS:CONFIRMED
SUMMARY:TishING for Compliments (NR) vs. FC St. Pauli dreht auf
DESCRIPTION:3. Liga, Gruppe B (15. Spieltag)
LOCATION:KIXX, Nobistor 38, 22767 Hamburg-Altona-Altstadt
UID:SM-B17957@stage.kickern-hamburg.de
PRIORITY:5
SEQUENCE:0
CATEGORIES:SPORT
DTSTAMP:20260423T115440
END:VEVENT
BEGIN:VEVENT
CLASS:PUBLIC
DTSTART:20260602T173000Z
DURATION:PT2H30M
STATUS:CONFIRMED
SUMMARY:FC St. Pauli from dusk till dawn vs. FC St. Pauli dreht auf
DESCRIPTION:3. Liga, Gruppe B (16. Spieltag)
LOCATION:KIXX, Nobistor 38, 22767 Hamburg-Altona-Altstadt
UID:SM-B17973@stage.kickern-hamburg.de
PRIORITY:5
SEQUENCE:0
CATEGORIES:SPORT
DTSTAMP:20260423T115440
END:VEVENT
BEGIN:VEVENT
CLASS:PUBLIC
DTSTART:20260617T180000Z
DURATION:PT2H30M
STATUS:CONFIRMED
SUMMARY:FC St. Pauli dreht auf vs. MiDDelDinger (NR)
DESCRIPTION:3. Liga, Gruppe B (17. Spieltag)
LOCATION:FC St. Pauli Clubheim, Harald-Stender-Platz 1, 20359 Hamburg-St. Pauli
UID:SM-B17981@stage.kickern-hamburg.de
PRIORITY:5
SEQUENCE:0
CATEGORIES:SPORT
DTSTAMP:20260423T115440
END:VEVENT
BEGIN:VEVENT
CLASS:PUBLIC
DTSTART:20260702T180000Z
DURATION:PT2H30M
STATUS:CONFIRMED
SUMMARY:TkC Rrraddauuuuuh! vs. FC St. Pauli dreht auf
DESCRIPTION:3. Liga, Gruppe B (18. Spieltag)
LOCATION:Rrraddauuuuuh! e.V., Friedensallee 44, 22765 Hamburg-Altona
UID:SM-B17993@stage.kickern-hamburg.de
PRIORITY:5
SEQUENCE:0
CATEGORIES:SPORT
DTSTAMP:20260423T115440
END:VEVENT
END:VCALENDAR
