BEGIN:VCALENDAR
VERSION:2.0
PRODID:PHP
METHOD:REQUEST
X-ORIGINAL-URL:https://stage.kickern-hamburg.de/liga/aktuelle-partien?task=team_begegnungen_ical&id=5505
X-WR-CALNAME;VALUE=TEXT:TkC Rrraddauuuuuh!
BEGIN:VEVENT
CLASS:PUBLIC
DTSTART:20250911T180000Z
DURATION:PT2H30M
STATUS:CONFIRMED
SUMMARY:TkC Rrraddauuuuuh! vs. Die Ilohhminauten FC St. Pauli
DESCRIPTION:3. Liga, Gruppe B (1. Spieltag)\nErgebnis: 15:17 (69:79)
LOCATION:Rrraddauuuuuh! e.V., Friedensallee 44, 22765 Hamburg-Altona
UID:SM-B17912@stage.kickern-hamburg.de
PRIORITY:5
SEQUENCE:1
CATEGORIES:SPORT
DTSTAMP:20260423T115614
END:VEVENT
BEGIN:VEVENT
CLASS:PUBLIC
DTSTART:20250917T180000Z
DURATION:PT2H30M
STATUS:CONFIRMED
SUMMARY:FC St. Pauli LMB Zwo vs. TkC Rrraddauuuuuh!
DESCRIPTION:Ligapokal 3./4. Liga (1. Runde)\nErgebnis: 5:27 (48:91)
LOCATION:FC St. Pauli Clubheim, Harald-Stender-Platz 1, 20359 Hamburg-St. Pauli
UID:SM-B18337@stage.kickern-hamburg.de
PRIORITY:5
SEQUENCE:1
CATEGORIES:SPORT
DTSTAMP:20260423T115614
END:VEVENT
BEGIN:VEVENT
CLASS:PUBLIC
DTSTART:20250925T180000Z
DURATION:PT2H30M
STATUS:CONFIRMED
SUMMARY:TishING for Compliments (NR) vs. TkC Rrraddauuuuuh!
DESCRIPTION:3. Liga, Gruppe B (2. Spieltag)\nErgebnis: 22:10 (85:63)
LOCATION:KIXX, Nobistor 38, 22767 Hamburg-Altona-Altstadt
UID:SM-B17920@stage.kickern-hamburg.de
PRIORITY:5
SEQUENCE:1
CATEGORIES:SPORT
DTSTAMP:20260423T115614
END:VEVENT
BEGIN:VEVENT
CLASS:PUBLIC
DTSTART:20251014T180000Z
DURATION:PT2H30M
STATUS:CONFIRMED
SUMMARY:Nen Rudel Gurken vs. TkC Rrraddauuuuuh!
DESCRIPTION:3. Liga, Gruppe B (3. Spieltag)\nErgebnis: 15:17 (69:77)
LOCATION:Bambi Bar, Hamburger Berg 14, 20359 Hamburg
UID:SM-B17928@stage.kickern-hamburg.de
PRIORITY:5
SEQUENCE:1
CATEGORIES:SPORT
DTSTAMP:20260423T115614
END:VEVENT
BEGIN:VEVENT
CLASS:PUBLIC
DTSTART:20251028T190000Z
DURATION:PT2H30M
STATUS:TENTATIVE
SUMMARY:Von der Stange vs. TkC Rrraddauuuuuh! (wird verlegt)
DESCRIPTION:Landespokal (2. Runde)
LOCATION:ZaZú, Lutterothstraße 62, 20255 Hamburg-Eimsbüttel
UID:SM-B18480@stage.kickern-hamburg.de
PRIORITY:5
SEQUENCE:0
CATEGORIES:SPORT
DTSTAMP:20260423T115614
END:VEVENT
BEGIN:VEVENT
CLASS:PUBLIC
DTSTART:20251106T190000Z
DURATION:PT2H30M
STATUS:TENTATIVE
SUMMARY:TkC Rrraddauuuuuh! vs. Roter Stern Kickers 2 (NR) (wird verlegt)
DESCRIPTION:3. Liga, Gruppe B (4. Spieltag)
LOCATION:Rrraddauuuuuh! e.V., Friedensallee 44, 22765 Hamburg-Altona
UID:SM-B17938@stage.kickern-hamburg.de
PRIORITY:5
SEQUENCE:0
CATEGORIES:SPORT
DTSTAMP:20260423T115614
END:VEVENT
BEGIN:VEVENT
CLASS:PUBLIC
DTSTART:20251111T190000Z
DURATION:PT2H30M
STATUS:CONFIRMED
SUMMARY:Substanz P vs. TkC Rrraddauuuuuh!
DESCRIPTION:Ligapokal 3./4. Liga (2. Runde)
LOCATION:Ilohh Bar (RAUCHER), Repsoldstraße 52, 20097 Hamburg-Hammerbrook
UID:SM-B18447@stage.kickern-hamburg.de
PRIORITY:5
SEQUENCE:0
CATEGORIES:SPORT
DTSTAMP:20260423T115614
END:VEVENT
BEGIN:VEVENT
CLASS:PUBLIC
DTSTART:20251120T190000Z
DURATION:PT2H30M
STATUS:CONFIRMED
SUMMARY:TkC Rrraddauuuuuh! vs. FC St. Pauli from dusk till dawn
DESCRIPTION:3. Liga, Gruppe B (5. Spieltag)
LOCATION:Rrraddauuuuuh! e.V., Friedensallee 44, 22765 Hamburg-Altona
UID:SM-B17952@stage.kickern-hamburg.de
PRIORITY:5
SEQUENCE:0
CATEGORIES:SPORT
DTSTAMP:20260423T115614
END:VEVENT
BEGIN:VEVENT
CLASS:PUBLIC
DTSTART:20251204T183000Z
DURATION:PT2H30M
STATUS:CONFIRMED
SUMMARY:MiDDelDinger (NR) vs. TkC Rrraddauuuuuh!
DESCRIPTION:3. Liga, Gruppe B (6. Spieltag)
LOCATION:Hannes & Hanna Wohnzimmer (Raucher), Weidenallee 60, 20357 Hamburg-Eimsbüttel
UID:SM-B17960@stage.kickern-hamburg.de
PRIORITY:5
SEQUENCE:0
CATEGORIES:SPORT
DTSTAMP:20260423T115614
END:VEVENT
BEGIN:VEVENT
CLASS:PUBLIC
DTSTART:20260108T190000Z
DURATION:PT2H30M
STATUS:CONFIRMED
SUMMARY:Bergbarbaren vs. TkC Rrraddauuuuuh!
DESCRIPTION:3. Liga, Gruppe B (7. Spieltag)
LOCATION:KIXX, Nobistor 38, 22767 Hamburg-Altona-Altstadt
UID:SM-B17974@stage.kickern-hamburg.de
PRIORITY:5
SEQUENCE:0
CATEGORIES:SPORT
DTSTAMP:20260423T115614
END:VEVENT
BEGIN:VEVENT
CLASS:PUBLIC
DTSTART:20260122T190000Z
DURATION:PT2H30M
STATUS:CONFIRMED
SUMMARY:TkC Rrraddauuuuuh! vs. Kicker Club Lüneburg (NR)
DESCRIPTION:3. Liga, Gruppe B (8. Spieltag)
LOCATION:Rrraddauuuuuh! e.V., Friedensallee 44, 22765 Hamburg-Altona
UID:SM-B17984@stage.kickern-hamburg.de
PRIORITY:5
SEQUENCE:0
CATEGORIES:SPORT
DTSTAMP:20260423T115614
END:VEVENT
BEGIN:VEVENT
CLASS:PUBLIC
DTSTART:20260204T190000Z
DURATION:PT2H30M
STATUS:CONFIRMED
SUMMARY:FC St. Pauli dreht auf vs. TkC Rrraddauuuuuh!
DESCRIPTION:3. Liga, Gruppe B (9. Spieltag)
LOCATION:FC St. Pauli Clubheim, Harald-Stender-Platz 1, 20359 Hamburg-St. Pauli
UID:SM-B17992@stage.kickern-hamburg.de
PRIORITY:5
SEQUENCE:0
CATEGORIES:SPORT
DTSTAMP:20260423T115614
END:VEVENT
BEGIN:VEVENT
CLASS:PUBLIC
DTSTART:20260219T190000Z
DURATION:PT2H30M
STATUS:CONFIRMED
SUMMARY:Die Ilohhminauten FC St. Pauli vs. TkC Rrraddauuuuuh!
DESCRIPTION:3. Liga, Gruppe B (10. Spieltag)
LOCATION:Ilohh Bar (RAUCHER), Repsoldstraße 52, 20097 Hamburg-Hammerbrook
UID:SM-B17913@stage.kickern-hamburg.de
PRIORITY:5
SEQUENCE:0
CATEGORIES:SPORT
DTSTAMP:20260423T115614
END:VEVENT
BEGIN:VEVENT
CLASS:PUBLIC
DTSTART:20260319T190000Z
DURATION:PT2H30M
STATUS:CONFIRMED
SUMMARY:TkC Rrraddauuuuuh! vs. TishING for Compliments (NR)
DESCRIPTION:3. Liga, Gruppe B (11. Spieltag)
LOCATION:Rrraddauuuuuh! e.V., Friedensallee 44, 22765 Hamburg-Altona
UID:SM-B17921@stage.kickern-hamburg.de
PRIORITY:5
SEQUENCE:0
CATEGORIES:SPORT
DTSTAMP:20260423T115614
END:VEVENT
BEGIN:VEVENT
CLASS:PUBLIC
DTSTART:20260402T180000Z
DURATION:PT2H30M
STATUS:CONFIRMED
SUMMARY:TkC Rrraddauuuuuh! vs. Nen Rudel Gurken
DESCRIPTION:3. Liga, Gruppe B (12. Spieltag)
LOCATION:Rrraddauuuuuh! e.V., Friedensallee 44, 22765 Hamburg-Altona
UID:SM-B17929@stage.kickern-hamburg.de
PRIORITY:5
SEQUENCE:0
CATEGORIES:SPORT
DTSTAMP:20260423T115614
END:VEVENT
BEGIN:VEVENT
CLASS:PUBLIC
DTSTART:20260414T170000Z
DURATION:PT2H30M
STATUS:CONFIRMED
SUMMARY:Roter Stern Kickers 2 (NR) vs. TkC Rrraddauuuuuh!
DESCRIPTION:3. Liga, Gruppe B (13. Spieltag)
LOCATION:JuKI 42, An der Reitbahn 2, 22926 Ahrensburg
UID:SM-B17939@stage.kickern-hamburg.de
PRIORITY:5
SEQUENCE:0
CATEGORIES:SPORT
DTSTAMP:20260423T115614
END:VEVENT
BEGIN:VEVENT
CLASS:PUBLIC
DTSTART:20260428T173000Z
DURATION:PT2H30M
STATUS:CONFIRMED
SUMMARY:FC St. Pauli from dusk till dawn vs. TkC Rrraddauuuuuh!
DESCRIPTION:3. Liga, Gruppe B (14. Spieltag)
LOCATION:KIXX, Nobistor 38, 22767 Hamburg-Altona-Altstadt
UID:SM-B17953@stage.kickern-hamburg.de
PRIORITY:5
SEQUENCE:0
CATEGORIES:SPORT
DTSTAMP:20260423T115614
END:VEVENT
BEGIN:VEVENT
CLASS:PUBLIC
DTSTART:20260521T180000Z
DURATION:PT2H30M
STATUS:CONFIRMED
SUMMARY:TkC Rrraddauuuuuh! vs. MiDDelDinger (NR)
DESCRIPTION:3. Liga, Gruppe B (15. Spieltag)
LOCATION:Rrraddauuuuuh! e.V., Friedensallee 44, 22765 Hamburg-Altona
UID:SM-B17961@stage.kickern-hamburg.de
PRIORITY:5
SEQUENCE:0
CATEGORIES:SPORT
DTSTAMP:20260423T115614
END:VEVENT
BEGIN:VEVENT
CLASS:PUBLIC
DTSTART:20260604T180000Z
DURATION:PT2H30M
STATUS:CONFIRMED
SUMMARY:TkC Rrraddauuuuuh! vs. Bergbarbaren
DESCRIPTION:3. Liga, Gruppe B (16. Spieltag)
LOCATION:Rrraddauuuuuh! e.V., Friedensallee 44, 22765 Hamburg-Altona
UID:SM-B17975@stage.kickern-hamburg.de
PRIORITY:5
SEQUENCE:0
CATEGORIES:SPORT
DTSTAMP:20260423T115614
END:VEVENT
BEGIN:VEVENT
CLASS:PUBLIC
DTSTART:20260618T180000Z
DURATION:PT2H30M
STATUS:CONFIRMED
SUMMARY:Kicker Club Lüneburg (NR) vs. TkC Rrraddauuuuuh!
DESCRIPTION:3. Liga, Gruppe B (17. Spieltag)
LOCATION:KIXX, Nobistor 38, 22767 Hamburg-Altona-Altstadt
UID:SM-B17985@stage.kickern-hamburg.de
PRIORITY:5
SEQUENCE:0
CATEGORIES:SPORT
DTSTAMP:20260423T115614
END:VEVENT
BEGIN:VEVENT
CLASS:PUBLIC
DTSTART:20260702T180000Z
DURATION:PT2H30M
STATUS:CONFIRMED
SUMMARY:TkC Rrraddauuuuuh! vs. FC St. Pauli dreht auf
DESCRIPTION:3. Liga, Gruppe B (18. Spieltag)
LOCATION:Rrraddauuuuuh! e.V., Friedensallee 44, 22765 Hamburg-Altona
UID:SM-B17993@stage.kickern-hamburg.de
PRIORITY:5
SEQUENCE:0
CATEGORIES:SPORT
DTSTAMP:20260423T115614
END:VEVENT
END:VCALENDAR
