BEGIN:VCALENDAR
VERSION:2.0
PRODID:PHP
METHOD:REQUEST
X-ORIGINAL-URL:https://stage.kickern-hamburg.de/liga/aktuelle-partien?task=team_begegnungen_ical&id=5433
X-WR-CALNAME;VALUE=TEXT:Von der Stange
BEGIN:VEVENT
CLASS:PUBLIC
DTSTART:20250916T180000Z
DURATION:PT2H30M
STATUS:CONFIRMED
SUMMARY:HSV Schießbude (NR) vs. Von der Stange
DESCRIPTION:3. Liga, Gruppe C (1. Spieltag)\nErgebnis: 7:25 (59:88)
LOCATION:HSV Tischfußball Sportzentrum, Ulzburger Strasse 94, 22850 Norderstedt
UID:SM-B17996@stage.kickern-hamburg.de
PRIORITY:5
SEQUENCE:1
CATEGORIES:SPORT
DTSTAMP:20260423T114819
END:VEVENT
BEGIN:VEVENT
CLASS:PUBLIC
DTSTART:20251002T180000Z
DURATION:PT2H30M
STATUS:CONFIRMED
SUMMARY:Boltens vs. Von der Stange
DESCRIPTION:3. Liga, Gruppe C (2. Spieltag)\nErgebnis: 13:19 (64:81)
LOCATION:Spielhaus Eimsbüttel, Eimsbütteler Marktplatz 1c, 20257 Hamburg-Eimsbüttel
UID:SM-B18010@stage.kickern-hamburg.de
PRIORITY:5
SEQUENCE:1
CATEGORIES:SPORT
DTSTAMP:20260423T114819
END:VEVENT
BEGIN:VEVENT
CLASS:PUBLIC
DTSTART:20251007T180000Z
DURATION:PT2H30M
STATUS:CONFIRMED
SUMMARY:HSV Torschmuggler (NR) vs. Von der Stange
DESCRIPTION:Landespokal (1. Runde)\nErgebnis: 18:20 (90:87)
LOCATION:HSV Tischfußball Sportzentrum, Ulzburger Strasse 94, 22850 Norderstedt
UID:SM-B18309@stage.kickern-hamburg.de
PRIORITY:5
SEQUENCE:1
CATEGORIES:SPORT
DTSTAMP:20260423T114819
END:VEVENT
BEGIN:VEVENT
CLASS:PUBLIC
DTSTART:20251016T170000Z
DURATION:PT2H30M
STATUS:CONFIRMED
SUMMARY:Von der Stange vs. Exorbitanter Schabernack
DESCRIPTION:3. Liga, Gruppe C (3. Spieltag)\nErgebnis: 20:12 (82:62)
LOCATION:ZaZú, Lutterothstraße 62, 20255 Hamburg-Eimsbüttel
UID:SM-B18018@stage.kickern-hamburg.de
PRIORITY:5
SEQUENCE:1
CATEGORIES:SPORT
DTSTAMP:20260423T114819
END:VEVENT
BEGIN:VEVENT
CLASS:PUBLIC
DTSTART:20251028T190000Z
DURATION:PT2H30M
STATUS:TENTATIVE
SUMMARY:Von der Stange vs. TkC Rrraddauuuuuh! (wird verlegt)
DESCRIPTION:Landespokal (2. Runde)
LOCATION:ZaZú, Lutterothstraße 62, 20255 Hamburg-Eimsbüttel
UID:SM-B18480@stage.kickern-hamburg.de
PRIORITY:5
SEQUENCE:0
CATEGORIES:SPORT
DTSTAMP:20260423T114819
END:VEVENT
BEGIN:VEVENT
CLASS:PUBLIC
DTSTART:20251029T190000Z
DURATION:PT2H30M
STATUS:CONFIRMED
SUMMARY:Deine Mudda (NR) vs. Von der Stange
DESCRIPTION:Ligapokal 3./4. Liga (2. Runde)
LOCATION:Phatikan, Nobistor 10, 22767 Hamburg-Altona-Altstadt
UID:SM-B18428@stage.kickern-hamburg.de
PRIORITY:5
SEQUENCE:0
CATEGORIES:SPORT
DTSTAMP:20260423T114819
END:VEVENT
BEGIN:VEVENT
CLASS:PUBLIC
DTSTART:20251106T180000Z
DURATION:PT2H30M
STATUS:TENTATIVE
SUMMARY:VFT Reflektorschirm Hamburg vs. Von der Stange (wird verlegt)
DESCRIPTION:3. Liga, Gruppe C (4. Spieltag)
LOCATION:KIXX, Nobistor 38, 22767 Hamburg-Altona-Altstadt
UID:SM-B18028@stage.kickern-hamburg.de
PRIORITY:5
SEQUENCE:0
CATEGORIES:SPORT
DTSTAMP:20260423T114819
END:VEVENT
BEGIN:VEVENT
CLASS:PUBLIC
DTSTART:20251120T180000Z
DURATION:PT2H30M
STATUS:CONFIRMED
SUMMARY:Von der Stange vs. Fellow Unicorns
DESCRIPTION:3. Liga, Gruppe C (5. Spieltag)
LOCATION:ZaZú, Lutterothstraße 62, 20255 Hamburg-Eimsbüttel
UID:SM-B18038@stage.kickern-hamburg.de
PRIORITY:5
SEQUENCE:0
CATEGORIES:SPORT
DTSTAMP:20260423T114819
END:VEVENT
BEGIN:VEVENT
CLASS:PUBLIC
DTSTART:20251205T180000Z
DURATION:PT2H30M
STATUS:CONFIRMED
SUMMARY:Kellerkicker Bergedorf vs. Von der Stange
DESCRIPTION:3. Liga, Gruppe C (6. Spieltag)
LOCATION:„Kickerkeller“ Stadtteilschule Richard-L, Richard-Linde-Weg 49, 21033 Hamburg-Lohbrügge
UID:SM-B18050@stage.kickern-hamburg.de
PRIORITY:5
SEQUENCE:0
CATEGORIES:SPORT
DTSTAMP:20260423T114819
END:VEVENT
BEGIN:VEVENT
CLASS:PUBLIC
DTSTART:20260108T180000Z
DURATION:PT2H30M
STATUS:CONFIRMED
SUMMARY:Von der Stange vs. Roter Stern Kickers 1 (NR)
DESCRIPTION:3. Liga, Gruppe C (7. Spieltag)
LOCATION:ZaZú, Lutterothstraße 62, 20255 Hamburg-Eimsbüttel
UID:SM-B18058@stage.kickern-hamburg.de
PRIORITY:5
SEQUENCE:0
CATEGORIES:SPORT
DTSTAMP:20260423T114819
END:VEVENT
BEGIN:VEVENT
CLASS:PUBLIC
DTSTART:20260123T190000Z
DURATION:PT2H30M
STATUS:CONFIRMED
SUMMARY:FC St. Pauli Shooting Stars vs. Von der Stange
DESCRIPTION:3. Liga, Gruppe C (8. Spieltag)
LOCATION:FC St. Pauli Clubheim, Harald-Stender-Platz 1, 20359 Hamburg-St. Pauli
UID:SM-B18074@stage.kickern-hamburg.de
PRIORITY:5
SEQUENCE:0
CATEGORIES:SPORT
DTSTAMP:20260423T114819
END:VEVENT
BEGIN:VEVENT
CLASS:PUBLIC
DTSTART:20260205T180000Z
DURATION:PT2H30M
STATUS:CONFIRMED
SUMMARY:Von der Stange vs. Partisan Pinshot (NR)
DESCRIPTION:3. Liga, Gruppe C (9. Spieltag)
LOCATION:ZaZú, Lutterothstraße 62, 20255 Hamburg-Eimsbüttel
UID:SM-B18076@stage.kickern-hamburg.de
PRIORITY:5
SEQUENCE:0
CATEGORIES:SPORT
DTSTAMP:20260423T114819
END:VEVENT
BEGIN:VEVENT
CLASS:PUBLIC
DTSTART:20260219T180000Z
DURATION:PT2H30M
STATUS:CONFIRMED
SUMMARY:Von der Stange vs. HSV Schießbude (NR)
DESCRIPTION:3. Liga, Gruppe C (10. Spieltag)
LOCATION:ZaZú, Lutterothstraße 62, 20255 Hamburg-Eimsbüttel
UID:SM-B17997@stage.kickern-hamburg.de
PRIORITY:5
SEQUENCE:0
CATEGORIES:SPORT
DTSTAMP:20260423T114819
END:VEVENT
BEGIN:VEVENT
CLASS:PUBLIC
DTSTART:20260319T180000Z
DURATION:PT2H30M
STATUS:CONFIRMED
SUMMARY:Von der Stange vs. Boltens
DESCRIPTION:3. Liga, Gruppe C (11. Spieltag)
LOCATION:ZaZú, Lutterothstraße 62, 20255 Hamburg-Eimsbüttel
UID:SM-B18011@stage.kickern-hamburg.de
PRIORITY:5
SEQUENCE:0
CATEGORIES:SPORT
DTSTAMP:20260423T114819
END:VEVENT
BEGIN:VEVENT
CLASS:PUBLIC
DTSTART:20260401T180000Z
DURATION:PT2H30M
STATUS:CONFIRMED
SUMMARY:Exorbitanter Schabernack vs. Von der Stange
DESCRIPTION:3. Liga, Gruppe C (12. Spieltag)
LOCATION:Joy, Winterhuder Weg 69, 22085 Hamburg-Uhlenhorst
UID:SM-B18019@stage.kickern-hamburg.de
PRIORITY:5
SEQUENCE:0
CATEGORIES:SPORT
DTSTAMP:20260423T114819
END:VEVENT
BEGIN:VEVENT
CLASS:PUBLIC
DTSTART:20260416T170000Z
DURATION:PT2H30M
STATUS:CONFIRMED
SUMMARY:Von der Stange vs. VFT Reflektorschirm Hamburg
DESCRIPTION:3. Liga, Gruppe C (13. Spieltag)
LOCATION:ZaZú, Lutterothstraße 62, 20255 Hamburg-Eimsbüttel
UID:SM-B18029@stage.kickern-hamburg.de
PRIORITY:5
SEQUENCE:0
CATEGORIES:SPORT
DTSTAMP:20260423T114819
END:VEVENT
BEGIN:VEVENT
CLASS:PUBLIC
DTSTART:20260428T170000Z
DURATION:PT2H30M
STATUS:CONFIRMED
SUMMARY:Fellow Unicorns vs. Von der Stange
DESCRIPTION:3. Liga, Gruppe C (14. Spieltag)
LOCATION:KIXX, Nobistor 38, 22767 Hamburg-Altona-Altstadt
UID:SM-B18039@stage.kickern-hamburg.de
PRIORITY:5
SEQUENCE:0
CATEGORIES:SPORT
DTSTAMP:20260423T114819
END:VEVENT
BEGIN:VEVENT
CLASS:PUBLIC
DTSTART:20260521T170000Z
DURATION:PT2H30M
STATUS:CONFIRMED
SUMMARY:Von der Stange vs. Kellerkicker Bergedorf
DESCRIPTION:3. Liga, Gruppe C (15. Spieltag)
LOCATION:ZaZú, Lutterothstraße 62, 20255 Hamburg-Eimsbüttel
UID:SM-B18051@stage.kickern-hamburg.de
PRIORITY:5
SEQUENCE:0
CATEGORIES:SPORT
DTSTAMP:20260423T114819
END:VEVENT
BEGIN:VEVENT
CLASS:PUBLIC
DTSTART:20260602T170000Z
DURATION:PT2H30M
STATUS:CONFIRMED
SUMMARY:Roter Stern Kickers 1 (NR) vs. Von der Stange
DESCRIPTION:3. Liga, Gruppe C (16. Spieltag)
LOCATION:JuKI 42, An der Reitbahn 2, 22926 Ahrensburg
UID:SM-B18059@stage.kickern-hamburg.de
PRIORITY:5
SEQUENCE:0
CATEGORIES:SPORT
DTSTAMP:20260423T114819
END:VEVENT
BEGIN:VEVENT
CLASS:PUBLIC
DTSTART:20260618T170000Z
DURATION:PT2H30M
STATUS:CONFIRMED
SUMMARY:Von der Stange vs. FC St. Pauli Shooting Stars
DESCRIPTION:3. Liga, Gruppe C (17. Spieltag)
LOCATION:ZaZú, Lutterothstraße 62, 20255 Hamburg-Eimsbüttel
UID:SM-B18075@stage.kickern-hamburg.de
PRIORITY:5
SEQUENCE:0
CATEGORIES:SPORT
DTSTAMP:20260423T114819
END:VEVENT
BEGIN:VEVENT
CLASS:PUBLIC
DTSTART:20260630T180000Z
DURATION:PT2H30M
STATUS:CONFIRMED
SUMMARY:Partisan Pinshot (NR) vs. Von der Stange
DESCRIPTION:3. Liga, Gruppe C (18. Spieltag)
LOCATION:KIXX, Nobistor 38, 22767 Hamburg-Altona-Altstadt
UID:SM-B18077@stage.kickern-hamburg.de
PRIORITY:5
SEQUENCE:0
CATEGORIES:SPORT
DTSTAMP:20260423T114819
END:VEVENT
END:VCALENDAR
