BEGIN:VCALENDAR
VERSION:2.0
PRODID:PHP
METHOD:REQUEST
X-ORIGINAL-URL:https://stage.kickern-hamburg.de/liga/aktuelle-partien?task=team_begegnungen_ical&id=5424
X-WR-CALNAME;VALUE=TEXT:Goalzillas (NR)
BEGIN:VEVENT
CLASS:PUBLIC
DTSTART:20250909T173000Z
DURATION:PT2H30M
STATUS:CONFIRMED
SUMMARY:Goalzillas (NR) vs. Boltens
DESCRIPTION:Landespokal (1. Runde)\nErgebnis: 15:17 (77:78)
LOCATION:KIXX, Nobistor 38, 22767 Hamburg-Altona-Altstadt
UID:SM-B18304@stage.kickern-hamburg.de
PRIORITY:5
SEQUENCE:1
CATEGORIES:SPORT
DTSTAMP:20260423T115425
END:VEVENT
BEGIN:VEVENT
CLASS:PUBLIC
DTSTART:20250916T173000Z
DURATION:PT2H30M
STATUS:CONFIRMED
SUMMARY:Goalzillas (NR) vs. Bolzen Edel (NR)
DESCRIPTION:3. Liga, Gruppe D (1. Spieltag)\nErgebnis: 16:16 (69:76)
LOCATION:KIXX, Nobistor 38, 22767 Hamburg-Altona-Altstadt
UID:SM-B17726@stage.kickern-hamburg.de
PRIORITY:5
SEQUENCE:1
CATEGORIES:SPORT
DTSTAMP:20260423T115425
END:VEVENT
BEGIN:VEVENT
CLASS:PUBLIC
DTSTART:20250930T173000Z
DURATION:PT2H30M
STATUS:CONFIRMED
SUMMARY:Hermanns treue Riege vs. Goalzillas (NR)
DESCRIPTION:3. Liga, Gruppe D (2. Spieltag)\nErgebnis: 12:20 (64:79)
LOCATION:Hermann (RAUCHER), Friedrichstraße 7b, 20359 Hamburg-St. Pauli
UID:SM-B17736@stage.kickern-hamburg.de
PRIORITY:5
SEQUENCE:1
CATEGORIES:SPORT
DTSTAMP:20260423T115425
END:VEVENT
BEGIN:VEVENT
CLASS:PUBLIC
DTSTART:20251007T173000Z
DURATION:PT2H30M
STATUS:CONFIRMED
SUMMARY:Goalzillas (NR) vs. Gästeblock
DESCRIPTION:3. Liga, Gruppe D (3. Spieltag)\nErgebnis: 12:20 (65:78)
LOCATION:KIXX, Nobistor 38, 22767 Hamburg-Altona-Altstadt
UID:SM-B17746@stage.kickern-hamburg.de
PRIORITY:5
SEQUENCE:1
CATEGORIES:SPORT
DTSTAMP:20260423T115425
END:VEVENT
BEGIN:VEVENT
CLASS:PUBLIC
DTSTART:20251111T183000Z
DURATION:PT2H30M
STATUS:CONFIRMED
SUMMARY:Ex Orbit Ants (NR) vs. Goalzillas (NR)
DESCRIPTION:3. Liga, Gruppe D (4. Spieltag)
LOCATION:Joy, Winterhuder Weg 69, 22085 Hamburg-Uhlenhorst
UID:SM-B17764@stage.kickern-hamburg.de
PRIORITY:5
SEQUENCE:0
CATEGORIES:SPORT
DTSTAMP:20260423T115425
END:VEVENT
BEGIN:VEVENT
CLASS:PUBLIC
DTSTART:20251118T183000Z
DURATION:PT2H30M
STATUS:CONFIRMED
SUMMARY:Goalzillas (NR) vs. Buffplatzmafia TF
DESCRIPTION:3. Liga, Gruppe D (5. Spieltag)
LOCATION:KIXX, Nobistor 38, 22767 Hamburg-Altona-Altstadt
UID:SM-B17766@stage.kickern-hamburg.de
PRIORITY:5
SEQUENCE:0
CATEGORIES:SPORT
DTSTAMP:20260423T115425
END:VEVENT
BEGIN:VEVENT
CLASS:PUBLIC
DTSTART:20251118T190000Z
DURATION:PT2H30M
STATUS:CONFIRMED
SUMMARY:Goalzillas (NR) vs. Beginners (NR)
DESCRIPTION:Ligapokal 3./4. Liga (2. Runde)
LOCATION:KIXX, Nobistor 38, 22767 Hamburg-Altona-Altstadt
UID:SM-B18452@stage.kickern-hamburg.de
PRIORITY:5
SEQUENCE:0
CATEGORIES:SPORT
DTSTAMP:20260423T115425
END:VEVENT
BEGIN:VEVENT
CLASS:PUBLIC
DTSTART:20251204T190000Z
DURATION:PT2H30M
STATUS:CONFIRMED
SUMMARY:Kickericki vs. Goalzillas (NR)
DESCRIPTION:3. Liga, Gruppe D (6. Spieltag)
LOCATION:Hannes & Hanna Wohnzimmer (Raucher), Weidenallee 60, 20357 Hamburg-Eimsbüttel
UID:SM-B17782@stage.kickern-hamburg.de
PRIORITY:5
SEQUENCE:0
CATEGORIES:SPORT
DTSTAMP:20260423T115425
END:VEVENT
BEGIN:VEVENT
CLASS:PUBLIC
DTSTART:20260106T183000Z
DURATION:PT2H30M
STATUS:CONFIRMED
SUMMARY:Goalzillas (NR) vs. Rakshasa
DESCRIPTION:3. Liga, Gruppe D (7. Spieltag)
LOCATION:KIXX, Nobistor 38, 22767 Hamburg-Altona-Altstadt
UID:SM-B17786@stage.kickern-hamburg.de
PRIORITY:5
SEQUENCE:0
CATEGORIES:SPORT
DTSTAMP:20260423T115425
END:VEVENT
BEGIN:VEVENT
CLASS:PUBLIC
DTSTART:20260122T190000Z
DURATION:PT2H30M
STATUS:CONFIRMED
SUMMARY:Deine Mudda (NR) vs. Goalzillas (NR)
DESCRIPTION:3. Liga, Gruppe D (8. Spieltag)
LOCATION:Phatikan, Nobistor 10, 22767 Hamburg-Altona-Altstadt
UID:SM-B17796@stage.kickern-hamburg.de
PRIORITY:5
SEQUENCE:0
CATEGORIES:SPORT
DTSTAMP:20260423T115425
END:VEVENT
BEGIN:VEVENT
CLASS:PUBLIC
DTSTART:20260203T183000Z
DURATION:PT2H30M
STATUS:CONFIRMED
SUMMARY:Goalzillas (NR) vs. Beginners (NR)
DESCRIPTION:3. Liga, Gruppe D (9. Spieltag)
LOCATION:KIXX, Nobistor 38, 22767 Hamburg-Altona-Altstadt
UID:SM-B17808@stage.kickern-hamburg.de
PRIORITY:5
SEQUENCE:0
CATEGORIES:SPORT
DTSTAMP:20260423T115425
END:VEVENT
BEGIN:VEVENT
CLASS:PUBLIC
DTSTART:20260219T183000Z
DURATION:PT2H30M
STATUS:CONFIRMED
SUMMARY:Bolzen Edel (NR) vs. Goalzillas (NR)
DESCRIPTION:3. Liga, Gruppe D (10. Spieltag)
LOCATION:Sidekick, Winsener Straße 190, 21077 Hamburg-Harburg
UID:SM-B17727@stage.kickern-hamburg.de
PRIORITY:5
SEQUENCE:0
CATEGORIES:SPORT
DTSTAMP:20260423T115425
END:VEVENT
BEGIN:VEVENT
CLASS:PUBLIC
DTSTART:20260317T183000Z
DURATION:PT2H30M
STATUS:CONFIRMED
SUMMARY:Goalzillas (NR) vs. Hermanns treue Riege
DESCRIPTION:3. Liga, Gruppe D (11. Spieltag)
LOCATION:KIXX, Nobistor 38, 22767 Hamburg-Altona-Altstadt
UID:SM-B17737@stage.kickern-hamburg.de
PRIORITY:5
SEQUENCE:0
CATEGORIES:SPORT
DTSTAMP:20260423T115425
END:VEVENT
BEGIN:VEVENT
CLASS:PUBLIC
DTSTART:20260331T173000Z
DURATION:PT2H30M
STATUS:CONFIRMED
SUMMARY:Gästeblock vs. Goalzillas (NR)
DESCRIPTION:3. Liga, Gruppe D (12. Spieltag)
LOCATION:Hannes & Hanna Wohnzimmer (Raucher), Weidenallee 60, 20357 Hamburg-Eimsbüttel
UID:SM-B17747@stage.kickern-hamburg.de
PRIORITY:5
SEQUENCE:0
CATEGORIES:SPORT
DTSTAMP:20260423T115425
END:VEVENT
BEGIN:VEVENT
CLASS:PUBLIC
DTSTART:20260414T173000Z
DURATION:PT2H30M
STATUS:CONFIRMED
SUMMARY:Goalzillas (NR) vs. Ex Orbit Ants (NR)
DESCRIPTION:3. Liga, Gruppe D (13. Spieltag)
LOCATION:KIXX, Nobistor 38, 22767 Hamburg-Altona-Altstadt
UID:SM-B17765@stage.kickern-hamburg.de
PRIORITY:5
SEQUENCE:0
CATEGORIES:SPORT
DTSTAMP:20260423T115425
END:VEVENT
BEGIN:VEVENT
CLASS:PUBLIC
DTSTART:20260430T180000Z
DURATION:PT2H30M
STATUS:CONFIRMED
SUMMARY:Buffplatzmafia TF vs. Goalzillas (NR)
DESCRIPTION:3. Liga, Gruppe D (14. Spieltag)
LOCATION:Inline-Zentrale (RAUCHER), Sachsenstraße 7, 20097 Hamburg-Hammerbrook
UID:SM-B17767@stage.kickern-hamburg.de
PRIORITY:5
SEQUENCE:0
CATEGORIES:SPORT
DTSTAMP:20260423T115425
END:VEVENT
BEGIN:VEVENT
CLASS:PUBLIC
DTSTART:20260519T173000Z
DURATION:PT2H30M
STATUS:CONFIRMED
SUMMARY:Goalzillas (NR) vs. Kickericki
DESCRIPTION:3. Liga, Gruppe D (15. Spieltag)
LOCATION:KIXX, Nobistor 38, 22767 Hamburg-Altona-Altstadt
UID:SM-B17783@stage.kickern-hamburg.de
PRIORITY:5
SEQUENCE:0
CATEGORIES:SPORT
DTSTAMP:20260423T115425
END:VEVENT
BEGIN:VEVENT
CLASS:PUBLIC
DTSTART:20260603T180000Z
DURATION:PT2H30M
STATUS:CONFIRMED
SUMMARY:Rakshasa vs. Goalzillas (NR)
DESCRIPTION:3. Liga, Gruppe D (16. Spieltag)
LOCATION:Zur gemütlichen Ecke (RAUCHER), Eichholz 62, 20459 Hamburg
UID:SM-B17787@stage.kickern-hamburg.de
PRIORITY:5
SEQUENCE:0
CATEGORIES:SPORT
DTSTAMP:20260423T115425
END:VEVENT
BEGIN:VEVENT
CLASS:PUBLIC
DTSTART:20260616T173000Z
DURATION:PT2H30M
STATUS:CONFIRMED
SUMMARY:Goalzillas (NR) vs. Deine Mudda (NR)
DESCRIPTION:3. Liga, Gruppe D (17. Spieltag)
LOCATION:KIXX, Nobistor 38, 22767 Hamburg-Altona-Altstadt
UID:SM-B17797@stage.kickern-hamburg.de
PRIORITY:5
SEQUENCE:0
CATEGORIES:SPORT
DTSTAMP:20260423T115425
END:VEVENT
BEGIN:VEVENT
CLASS:PUBLIC
DTSTART:20260630T180000Z
DURATION:PT2H30M
STATUS:CONFIRMED
SUMMARY:Beginners (NR) vs. Goalzillas (NR)
DESCRIPTION:3. Liga, Gruppe D (18. Spieltag)
LOCATION:KIXX, Nobistor 38, 22767 Hamburg-Altona-Altstadt
UID:SM-B17809@stage.kickern-hamburg.de
PRIORITY:5
SEQUENCE:0
CATEGORIES:SPORT
DTSTAMP:20260423T115425
END:VEVENT
END:VCALENDAR
