BEGIN:VCALENDAR
VERSION:2.0
PRODID:PHP
METHOD:REQUEST
X-ORIGINAL-URL:https://stage.kickern-hamburg.de/liga/aktuelle-partien?task=team_begegnungen_ical&id=5367
X-WR-CALNAME;VALUE=TEXT:Sidekickers (NR)
BEGIN:VEVENT
CLASS:PUBLIC
DTSTART:20250911T170000Z
DURATION:PT2H30M
STATUS:CONFIRMED
SUMMARY:Sidekickers (NR) vs. Kickerholixx (NR)
DESCRIPTION:2. Liga, Gruppe B (1. Spieltag)\nErgebnis: 11:21 (68:83)
LOCATION:Sidekick, Winsener Straße 190, 21077 Hamburg-Harburg
UID:SM-B17642@stage.kickern-hamburg.de
PRIORITY:5
SEQUENCE:1
CATEGORIES:SPORT
DTSTAMP:20260423T115342
END:VEVENT
BEGIN:VEVENT
CLASS:PUBLIC
DTSTART:20250930T180000Z
DURATION:PT2H30M
STATUS:CONFIRMED
SUMMARY:Flying Circus vs. Sidekickers (NR)
DESCRIPTION:2. Liga, Gruppe B (2. Spieltag)\nErgebnis: 15:17 (69:77)
LOCATION:KIXX, Nobistor 38, 22767 Hamburg-Altona-Altstadt
UID:SM-B17654@stage.kickern-hamburg.de
PRIORITY:5
SEQUENCE:1
CATEGORIES:SPORT
DTSTAMP:20260423T115342
END:VEVENT
BEGIN:VEVENT
CLASS:PUBLIC
DTSTART:20251016T170000Z
DURATION:PT2H30M
STATUS:CONFIRMED
SUMMARY:Sidekickers (NR) vs. Fightclub FC St. Pauli II
DESCRIPTION:2. Liga, Gruppe B (3. Spieltag)\nErgebnis: 13:19 (69:80)
LOCATION:Sidekick, Winsener Straße 190, 21077 Hamburg-Harburg
UID:SM-B17662@stage.kickern-hamburg.de
PRIORITY:5
SEQUENCE:1
CATEGORIES:SPORT
DTSTAMP:20260423T115342
END:VEVENT
BEGIN:VEVENT
CLASS:PUBLIC
DTSTART:20251023T170000Z
DURATION:PT2H30M
STATUS:CONFIRMED
SUMMARY:Sidekickers (NR) vs. HSV BAMbole (NR)
DESCRIPTION:Landespokal (1. Runde)\nErgebnis: 18:6 (64:49)
LOCATION:Sidekick, Winsener Straße 190, 21077 Hamburg-Harburg
UID:SM-B18331@stage.kickern-hamburg.de
PRIORITY:5
SEQUENCE:1
CATEGORIES:SPORT
DTSTAMP:20260423T115342
END:VEVENT
BEGIN:VEVENT
CLASS:PUBLIC
DTSTART:20251030T183000Z
DURATION:PT2H30M
STATUS:CONFIRMED
SUMMARY:Sidekickers (NR) vs. Lotterie AKK II (NR)
DESCRIPTION:Landespokal (2. Runde)\nErgebnis: 2:0 (2:0)
LOCATION:Sidekick, Winsener Straße 190, 21077 Hamburg-Harburg
UID:SM-B18460@stage.kickern-hamburg.de
PRIORITY:5
SEQUENCE:1
CATEGORIES:SPORT
DTSTAMP:20260423T115342
END:VEVENT
BEGIN:VEVENT
CLASS:PUBLIC
DTSTART:20251111T190000Z
DURATION:PT2H30M
STATUS:CONFIRMED
SUMMARY:Phoenix (NR) vs. Sidekickers (NR)
DESCRIPTION:2. Liga, Gruppe B (4. Spieltag)
LOCATION:KIXX, Nobistor 38, 22767 Hamburg-Altona-Altstadt
UID:SM-B17670@stage.kickern-hamburg.de
PRIORITY:5
SEQUENCE:0
CATEGORIES:SPORT
DTSTAMP:20260423T115342
END:VEVENT
BEGIN:VEVENT
CLASS:PUBLIC
DTSTART:20251120T180000Z
DURATION:PT2H30M
STATUS:CONFIRMED
SUMMARY:Sidekickers (NR) vs. Hamburg Privateers 08 (NR)
DESCRIPTION:2. Liga, Gruppe B (5. Spieltag)
LOCATION:Sidekick, Winsener Straße 190, 21077 Hamburg-Harburg
UID:SM-B17682@stage.kickern-hamburg.de
PRIORITY:5
SEQUENCE:0
CATEGORIES:SPORT
DTSTAMP:20260423T115342
END:VEVENT
BEGIN:VEVENT
CLASS:PUBLIC
DTSTART:20251204T180000Z
DURATION:PT2H30M
STATUS:CONFIRMED
SUMMARY:Sidekickers (NR) vs. Exorbitanter HäkMäk (NR)
DESCRIPTION:2. Liga, Gruppe B (6. Spieltag)
LOCATION:Sidekick, Winsener Straße 190, 21077 Hamburg-Harburg
UID:SM-B17686@stage.kickern-hamburg.de
PRIORITY:5
SEQUENCE:0
CATEGORIES:SPORT
DTSTAMP:20260423T115342
END:VEVENT
BEGIN:VEVENT
CLASS:PUBLIC
DTSTART:20260108T190000Z
DURATION:PT2H30M
STATUS:CONFIRMED
SUMMARY:Overtime vs. Sidekickers (NR)
DESCRIPTION:2. Liga, Gruppe B (7. Spieltag)
LOCATION:KIXX, Nobistor 38, 22767 Hamburg-Altona-Altstadt
UID:SM-B17698@stage.kickern-hamburg.de
PRIORITY:5
SEQUENCE:0
CATEGORIES:SPORT
DTSTAMP:20260423T115342
END:VEVENT
BEGIN:VEVENT
CLASS:PUBLIC
DTSTART:20260122T180000Z
DURATION:PT2H30M
STATUS:CONFIRMED
SUMMARY:Sidekickers (NR) vs. Kickerbande (NR)
DESCRIPTION:2. Liga, Gruppe B (8. Spieltag)
LOCATION:Sidekick, Winsener Straße 190, 21077 Hamburg-Harburg
UID:SM-B17706@stage.kickern-hamburg.de
PRIORITY:5
SEQUENCE:0
CATEGORIES:SPORT
DTSTAMP:20260423T115342
END:VEVENT
BEGIN:VEVENT
CLASS:PUBLIC
DTSTART:20260206T190000Z
DURATION:PT2H30M
STATUS:CONFIRMED
SUMMARY:Hamburg Likedeelers vs. Sidekickers (NR)
DESCRIPTION:2. Liga, Gruppe B (9. Spieltag)
LOCATION:KIXX, Nobistor 38, 22767 Hamburg-Altona-Altstadt
UID:SM-B17720@stage.kickern-hamburg.de
PRIORITY:5
SEQUENCE:0
CATEGORIES:SPORT
DTSTAMP:20260423T115342
END:VEVENT
BEGIN:VEVENT
CLASS:PUBLIC
DTSTART:20260219T190000Z
DURATION:PT2H30M
STATUS:CONFIRMED
SUMMARY:Kickerholixx (NR) vs. Sidekickers (NR)
DESCRIPTION:2. Liga, Gruppe B (10. Spieltag)
LOCATION:KIXX, Nobistor 38, 22767 Hamburg-Altona-Altstadt
UID:SM-B17643@stage.kickern-hamburg.de
PRIORITY:5
SEQUENCE:0
CATEGORIES:SPORT
DTSTAMP:20260423T115342
END:VEVENT
BEGIN:VEVENT
CLASS:PUBLIC
DTSTART:20260319T180000Z
DURATION:PT2H30M
STATUS:CONFIRMED
SUMMARY:Sidekickers (NR) vs. Flying Circus
DESCRIPTION:2. Liga, Gruppe B (11. Spieltag)
LOCATION:Sidekick, Winsener Straße 190, 21077 Hamburg-Harburg
UID:SM-B17655@stage.kickern-hamburg.de
PRIORITY:5
SEQUENCE:0
CATEGORIES:SPORT
DTSTAMP:20260423T115342
END:VEVENT
BEGIN:VEVENT
CLASS:PUBLIC
DTSTART:20260403T180000Z
DURATION:PT2H30M
STATUS:CONFIRMED
SUMMARY:Fightclub FC St. Pauli II vs. Sidekickers (NR)
DESCRIPTION:2. Liga, Gruppe B (12. Spieltag)
LOCATION:FC St. Pauli Clubheim, Harald-Stender-Platz 1, 20359 Hamburg-St. Pauli
UID:SM-B17663@stage.kickern-hamburg.de
PRIORITY:5
SEQUENCE:0
CATEGORIES:SPORT
DTSTAMP:20260423T115342
END:VEVENT
BEGIN:VEVENT
CLASS:PUBLIC
DTSTART:20260416T170000Z
DURATION:PT2H30M
STATUS:CONFIRMED
SUMMARY:Sidekickers (NR) vs. Phoenix (NR)
DESCRIPTION:2. Liga, Gruppe B (13. Spieltag)
LOCATION:Sidekick, Winsener Straße 190, 21077 Hamburg-Harburg
UID:SM-B17671@stage.kickern-hamburg.de
PRIORITY:5
SEQUENCE:0
CATEGORIES:SPORT
DTSTAMP:20260423T115342
END:VEVENT
BEGIN:VEVENT
CLASS:PUBLIC
DTSTART:20260430T180000Z
DURATION:PT2H30M
STATUS:CONFIRMED
SUMMARY:Hamburg Privateers 08 (NR) vs. Sidekickers (NR)
DESCRIPTION:2. Liga, Gruppe B (14. Spieltag)
LOCATION:KIXX, Nobistor 38, 22767 Hamburg-Altona-Altstadt
UID:SM-B17683@stage.kickern-hamburg.de
PRIORITY:5
SEQUENCE:0
CATEGORIES:SPORT
DTSTAMP:20260423T115342
END:VEVENT
BEGIN:VEVENT
CLASS:PUBLIC
DTSTART:20260519T180000Z
DURATION:PT2H30M
STATUS:CONFIRMED
SUMMARY:Exorbitanter HäkMäk (NR) vs. Sidekickers (NR)
DESCRIPTION:2. Liga, Gruppe B (15. Spieltag)
LOCATION:Joy, Winterhuder Weg 69, 22085 Hamburg-Uhlenhorst
UID:SM-B17687@stage.kickern-hamburg.de
PRIORITY:5
SEQUENCE:0
CATEGORIES:SPORT
DTSTAMP:20260423T115342
END:VEVENT
BEGIN:VEVENT
CLASS:PUBLIC
DTSTART:20260604T170000Z
DURATION:PT2H30M
STATUS:CONFIRMED
SUMMARY:Sidekickers (NR) vs. Overtime
DESCRIPTION:2. Liga, Gruppe B (16. Spieltag)
LOCATION:Sidekick, Winsener Straße 190, 21077 Hamburg-Harburg
UID:SM-B17699@stage.kickern-hamburg.de
PRIORITY:5
SEQUENCE:0
CATEGORIES:SPORT
DTSTAMP:20260423T115342
END:VEVENT
BEGIN:VEVENT
CLASS:PUBLIC
DTSTART:20260616T173000Z
DURATION:PT2H30M
STATUS:CONFIRMED
SUMMARY:Kickerbande (NR) vs. Sidekickers (NR)
DESCRIPTION:2. Liga, Gruppe B (17. Spieltag)
LOCATION:HBT Hamburger Berater Team, Stadthausbrücke 3, 20355 Hamburg-Neustadt
UID:SM-B17707@stage.kickern-hamburg.de
PRIORITY:5
SEQUENCE:0
CATEGORIES:SPORT
DTSTAMP:20260423T115342
END:VEVENT
BEGIN:VEVENT
CLASS:PUBLIC
DTSTART:20260702T170000Z
DURATION:PT2H30M
STATUS:CONFIRMED
SUMMARY:Sidekickers (NR) vs. Hamburg Likedeelers
DESCRIPTION:2. Liga, Gruppe B (18. Spieltag)
LOCATION:Sidekick, Winsener Straße 190, 21077 Hamburg-Harburg
UID:SM-B17721@stage.kickern-hamburg.de
PRIORITY:5
SEQUENCE:0
CATEGORIES:SPORT
DTSTAMP:20260423T115342
END:VEVENT
END:VCALENDAR
