BEGIN:VCALENDAR
VERSION:2.0
PRODID:PHP
METHOD:REQUEST
X-ORIGINAL-URL:https://stage.kickern-hamburg.de/liga/aktuelle-partien?task=team_begegnungen_ical&id=5360
X-WR-CALNAME;VALUE=TEXT:Altonaer Kickerkraken
BEGIN:VEVENT
CLASS:PUBLIC
DTSTART:20250909T180000Z
DURATION:PT2H30M
STATUS:CONFIRMED
SUMMARY:Altonaer Kickerkraken vs. Solaris
DESCRIPTION:2. Liga, Gruppe A (1. Spieltag)\nErgebnis: 23:9 (84:59)
LOCATION:Deutsche Seemannsmission Hamburg-Altona, Große Elbstraße 132, 22767 Hamburg-Altona
UID:SM-B17554@stage.kickern-hamburg.de
PRIORITY:5
SEQUENCE:1
CATEGORIES:SPORT
DTSTAMP:20260423T115425
END:VEVENT
BEGIN:VEVENT
CLASS:PUBLIC
DTSTART:20250930T180000Z
DURATION:PT2H30M
STATUS:CONFIRMED
SUMMARY:253 (NR) vs. Altonaer Kickerkraken
DESCRIPTION:2. Liga, Gruppe A (2. Spieltag)\nErgebnis: 9:23 (47:85)
LOCATION:KIXX, Nobistor 38, 22767 Hamburg-Altona-Altstadt
UID:SM-B17562@stage.kickern-hamburg.de
PRIORITY:5
SEQUENCE:1
CATEGORIES:SPORT
DTSTAMP:20260423T115425
END:VEVENT
BEGIN:VEVENT
CLASS:PUBLIC
DTSTART:20251014T180000Z
DURATION:PT2H30M
STATUS:CONFIRMED
SUMMARY:Altonaer Kickerkraken vs. Anboard
DESCRIPTION:2. Liga, Gruppe A (3. Spieltag)\nErgebnis: 22:10 (83:66)
LOCATION:Deutsche Seemannsmission Hamburg-Altona, Große Elbstraße 132, 22767 Hamburg-Altona
UID:SM-B17574@stage.kickern-hamburg.de
PRIORITY:5
SEQUENCE:1
CATEGORIES:SPORT
DTSTAMP:20260423T115425
END:VEVENT
BEGIN:VEVENT
CLASS:PUBLIC
DTSTART:20251030T183000Z
DURATION:PT2H30M
STATUS:TENTATIVE
SUMMARY:Dampframme Aalstars vs. Altonaer Kickerkraken (wird verlegt)
DESCRIPTION:Landespokal (2. Runde)
LOCATION:KIXX, Nobistor 38, 22767 Hamburg-Altona-Altstadt
UID:SM-B18462@stage.kickern-hamburg.de
PRIORITY:5
SEQUENCE:0
CATEGORIES:SPORT
DTSTAMP:20260423T115425
END:VEVENT
BEGIN:VEVENT
CLASS:PUBLIC
DTSTART:20251105T190000Z
DURATION:PT2H30M
STATUS:TENTATIVE
SUMMARY:Foosball Club FC St. Pauli vs. Altonaer Kickerkraken (wird verlegt)
DESCRIPTION:2. Liga, Gruppe A (4. Spieltag)
LOCATION:Hannes & Hanna Wohnzimmer (Raucher), Weidenallee 60, 20357 Hamburg-Eimsbüttel
UID:SM-B17576@stage.kickern-hamburg.de
PRIORITY:5
SEQUENCE:0
CATEGORIES:SPORT
DTSTAMP:20260423T115425
END:VEVENT
BEGIN:VEVENT
CLASS:PUBLIC
DTSTART:20251118T190000Z
DURATION:PT2H30M
STATUS:CONFIRMED
SUMMARY:Altonaer Kickerkraken vs. Kickertruppe (NR)
DESCRIPTION:2. Liga, Gruppe A (5. Spieltag)
LOCATION:Deutsche Seemannsmission Hamburg-Altona, Große Elbstraße 132, 22767 Hamburg-Altona
UID:SM-B17594@stage.kickern-hamburg.de
PRIORITY:5
SEQUENCE:0
CATEGORIES:SPORT
DTSTAMP:20260423T115425
END:VEVENT
BEGIN:VEVENT
CLASS:PUBLIC
DTSTART:20251205T193000Z
DURATION:PT2H30M
STATUS:CONFIRMED
SUMMARY:Tingeltangel FC St. Pauli vs. Altonaer Kickerkraken
DESCRIPTION:2. Liga, Gruppe A (6. Spieltag)
LOCATION:FC St. Pauli Clubheim, Harald-Stender-Platz 1, 20359 Hamburg-St. Pauli
UID:SM-B17596@stage.kickern-hamburg.de
PRIORITY:5
SEQUENCE:0
CATEGORIES:SPORT
DTSTAMP:20260423T115425
END:VEVENT
BEGIN:VEVENT
CLASS:PUBLIC
DTSTART:20260106T190000Z
DURATION:PT2H30M
STATUS:CONFIRMED
SUMMARY:Altonaer Kickerkraken vs. WunderBars (NR)
DESCRIPTION:2. Liga, Gruppe A (7. Spieltag)
LOCATION:Deutsche Seemannsmission Hamburg-Altona, Große Elbstraße 132, 22767 Hamburg-Altona
UID:SM-B17614@stage.kickern-hamburg.de
PRIORITY:5
SEQUENCE:0
CATEGORIES:SPORT
DTSTAMP:20260423T115425
END:VEVENT
BEGIN:VEVENT
CLASS:PUBLIC
DTSTART:20260120T190000Z
DURATION:PT2H30M
STATUS:CONFIRMED
SUMMARY:Altonaer Kickerkraken vs. Kicksiders (NR)
DESCRIPTION:2. Liga, Gruppe A (8. Spieltag)
LOCATION:Deutsche Seemannsmission Hamburg-Altona, Große Elbstraße 132, 22767 Hamburg-Altona
UID:SM-B17624@stage.kickern-hamburg.de
PRIORITY:5
SEQUENCE:0
CATEGORIES:SPORT
DTSTAMP:20260423T115425
END:VEVENT
BEGIN:VEVENT
CLASS:PUBLIC
DTSTART:20260120T190000Z
DURATION:PT2H30M
STATUS:CONFIRMED
SUMMARY:Solaris vs. Altonaer Kickerkraken
DESCRIPTION:Ligapokal 2. Liga (1. Runde)
LOCATION:KIXX, Nobistor 38, 22767 Hamburg-Altona-Altstadt
UID:SM-B18561@stage.kickern-hamburg.de
PRIORITY:5
SEQUENCE:0
CATEGORIES:SPORT
DTSTAMP:20260423T115425
END:VEVENT
BEGIN:VEVENT
CLASS:PUBLIC
DTSTART:20260205T190000Z
DURATION:PT2H30M
STATUS:CONFIRMED
SUMMARY:1800 Sauna Club vs. Altonaer Kickerkraken
DESCRIPTION:2. Liga, Gruppe A (9. Spieltag)
LOCATION:KIXX, Nobistor 38, 22767 Hamburg-Altona-Altstadt
UID:SM-B17628@stage.kickern-hamburg.de
PRIORITY:5
SEQUENCE:0
CATEGORIES:SPORT
DTSTAMP:20260423T115425
END:VEVENT
BEGIN:VEVENT
CLASS:PUBLIC
DTSTART:20260217T190000Z
DURATION:PT2H30M
STATUS:CONFIRMED
SUMMARY:Solaris vs. Altonaer Kickerkraken
DESCRIPTION:2. Liga, Gruppe A (10. Spieltag)
LOCATION:KIXX, Nobistor 38, 22767 Hamburg-Altona-Altstadt
UID:SM-B17555@stage.kickern-hamburg.de
PRIORITY:5
SEQUENCE:0
CATEGORIES:SPORT
DTSTAMP:20260423T115425
END:VEVENT
BEGIN:VEVENT
CLASS:PUBLIC
DTSTART:20260317T190000Z
DURATION:PT2H30M
STATUS:CONFIRMED
SUMMARY:Altonaer Kickerkraken vs. 253 (NR)
DESCRIPTION:2. Liga, Gruppe A (11. Spieltag)
LOCATION:Deutsche Seemannsmission Hamburg-Altona, Große Elbstraße 132, 22767 Hamburg-Altona
UID:SM-B17563@stage.kickern-hamburg.de
PRIORITY:5
SEQUENCE:0
CATEGORIES:SPORT
DTSTAMP:20260423T115425
END:VEVENT
BEGIN:VEVENT
CLASS:PUBLIC
DTSTART:20260401T180000Z
DURATION:PT2H30M
STATUS:CONFIRMED
SUMMARY:Anboard vs. Altonaer Kickerkraken
DESCRIPTION:2. Liga, Gruppe A (12. Spieltag)
LOCATION:Deutsche Seemannsmission Hamburg-Altona, Große Elbstraße 132, 22767 Hamburg-Altona
UID:SM-B17575@stage.kickern-hamburg.de
PRIORITY:5
SEQUENCE:0
CATEGORIES:SPORT
DTSTAMP:20260423T115425
END:VEVENT
BEGIN:VEVENT
CLASS:PUBLIC
DTSTART:20260414T180000Z
DURATION:PT2H30M
STATUS:CONFIRMED
SUMMARY:Altonaer Kickerkraken vs. Foosball Club FC St. Pauli
DESCRIPTION:2. Liga, Gruppe A (13. Spieltag)
LOCATION:Deutsche Seemannsmission Hamburg-Altona, Große Elbstraße 132, 22767 Hamburg-Altona
UID:SM-B17577@stage.kickern-hamburg.de
PRIORITY:5
SEQUENCE:0
CATEGORIES:SPORT
DTSTAMP:20260423T115425
END:VEVENT
BEGIN:VEVENT
CLASS:PUBLIC
DTSTART:20260428T180000Z
DURATION:PT2H30M
STATUS:CONFIRMED
SUMMARY:Kickertruppe (NR) vs. Altonaer Kickerkraken
DESCRIPTION:2. Liga, Gruppe A (14. Spieltag)
LOCATION:CloudSeeds GmbH, Wendenstraße 377, 20537 Hamburg
UID:SM-B17595@stage.kickern-hamburg.de
PRIORITY:5
SEQUENCE:0
CATEGORIES:SPORT
DTSTAMP:20260423T115425
END:VEVENT
BEGIN:VEVENT
CLASS:PUBLIC
DTSTART:20260519T180000Z
DURATION:PT2H30M
STATUS:CONFIRMED
SUMMARY:Altonaer Kickerkraken vs. Tingeltangel FC St. Pauli
DESCRIPTION:2. Liga, Gruppe A (15. Spieltag)
LOCATION:Deutsche Seemannsmission Hamburg-Altona, Große Elbstraße 132, 22767 Hamburg-Altona
UID:SM-B17597@stage.kickern-hamburg.de
PRIORITY:5
SEQUENCE:0
CATEGORIES:SPORT
DTSTAMP:20260423T115425
END:VEVENT
BEGIN:VEVENT
CLASS:PUBLIC
DTSTART:20260604T173000Z
DURATION:PT2H30M
STATUS:CONFIRMED
SUMMARY:WunderBars (NR) vs. Altonaer Kickerkraken
DESCRIPTION:2. Liga, Gruppe A (16. Spieltag)
LOCATION:KIXX, Nobistor 38, 22767 Hamburg-Altona-Altstadt
UID:SM-B17615@stage.kickern-hamburg.de
PRIORITY:5
SEQUENCE:0
CATEGORIES:SPORT
DTSTAMP:20260423T115425
END:VEVENT
BEGIN:VEVENT
CLASS:PUBLIC
DTSTART:20260616T180000Z
DURATION:PT2H30M
STATUS:CONFIRMED
SUMMARY:Kicksiders (NR) vs. Altonaer Kickerkraken
DESCRIPTION:2. Liga, Gruppe A (17. Spieltag)
LOCATION:Sidekick, Winsener Straße 190, 21077 Hamburg-Harburg
UID:SM-B17625@stage.kickern-hamburg.de
PRIORITY:5
SEQUENCE:0
CATEGORIES:SPORT
DTSTAMP:20260423T115425
END:VEVENT
BEGIN:VEVENT
CLASS:PUBLIC
DTSTART:20260630T180000Z
DURATION:PT2H30M
STATUS:CONFIRMED
SUMMARY:Altonaer Kickerkraken vs. 1800 Sauna Club
DESCRIPTION:2. Liga, Gruppe A (18. Spieltag)
LOCATION:Deutsche Seemannsmission Hamburg-Altona, Große Elbstraße 132, 22767 Hamburg-Altona
UID:SM-B17629@stage.kickern-hamburg.de
PRIORITY:5
SEQUENCE:0
CATEGORIES:SPORT
DTSTAMP:20260423T115425
END:VEVENT
END:VCALENDAR
