BEGIN:VCALENDAR
VERSION:2.0
PRODID:PHP
METHOD:REQUEST
X-ORIGINAL-URL:https://stage.kickern-hamburg.de/liga/aktuelle-partien?task=team_begegnungen_ical&id=5662
X-WR-CALNAME;VALUE=TEXT:Likedeeler FC St. Pauli
BEGIN:VEVENT
CLASS:PUBLIC
DTSTART:20251106T180000Z
DURATION:PT2H30M
STATUS:CONFIRMED
SUMMARY:Ballverlust Bergedorf vs. Likedeeler FC St. Pauli
DESCRIPTION:Rookie-Liga (1. Spieltag)\nErgebnis: 2:2 (7:8)
LOCATION:„Kickerkeller“ Stadtteilschule Richard-L, Richard-Linde-Weg 49, 21033 Hamburg-Lohbrügge
UID:SM-B18524@stage.kickern-hamburg.de
PRIORITY:5
SEQUENCE:1
CATEGORIES:SPORT
DTSTAMP:20260423T115025
BEGIN:VALARM
ACTION:DISPLAY
TRIGGER:-PT2H
END:VALARM
END:VEVENT
BEGIN:VEVENT
CLASS:PUBLIC
DTSTART:20251120T180000Z
DURATION:PT2H30M
STATUS:CONFIRMED
SUMMARY:siQrats vs. Likedeeler FC St. Pauli
DESCRIPTION:Rookie-Liga (2. Spieltag)
LOCATION:siQnet Consulting GmbH, Wendenstraße 279, 20537 Hamburg
UID:SM-B18530@stage.kickern-hamburg.de
PRIORITY:5
SEQUENCE:0
CATEGORIES:SPORT
DTSTAMP:20260423T115025
BEGIN:VALARM
ACTION:DISPLAY
TRIGGER:-PT2H
END:VALARM
END:VEVENT
BEGIN:VEVENT
CLASS:PUBLIC
DTSTART:20251203T190000Z
DURATION:PT2H30M
STATUS:CONFIRMED
SUMMARY:Likedeeler FC St. Pauli vs. The Nippies
DESCRIPTION:Rookie-Liga (3. Spieltag)
LOCATION:St. Pauli Wohnzimmer(Raucher) Ahoi, Hafenstr. 122, 20359 Hamburg-Hamburg
UID:SM-B18533@stage.kickern-hamburg.de
PRIORITY:5
SEQUENCE:0
CATEGORIES:SPORT
DTSTAMP:20260423T115025
BEGIN:VALARM
ACTION:DISPLAY
TRIGGER:-PT2H
END:VALARM
END:VEVENT
BEGIN:VEVENT
CLASS:PUBLIC
DTSTART:20260106T190000Z
DURATION:PT2H30M
STATUS:CONFIRMED
SUMMARY:Fast sichere Zufallstreffer vs. Likedeeler FC St. Pauli
DESCRIPTION:Rookie-Liga (4. Spieltag)
LOCATION:KIXX, Nobistor 38, 22767 Hamburg-Altona-Altstadt
UID:SM-B18537@stage.kickern-hamburg.de
PRIORITY:5
SEQUENCE:0
CATEGORIES:SPORT
DTSTAMP:20260423T115025
BEGIN:VALARM
ACTION:DISPLAY
TRIGGER:-PT2H
END:VALARM
END:VEVENT
BEGIN:VEVENT
CLASS:PUBLIC
DTSTART:20260206T190000Z
DURATION:PT2H30M
STATUS:CONFIRMED
SUMMARY:Kick happens vs. Likedeeler FC St. Pauli
DESCRIPTION:Rookie-Liga (6. Spieltag)
LOCATION:Hannes & Hanna Wohnzimmer (Raucher), Weidenallee 60, 20357 Hamburg-Eimsbüttel
UID:SM-B18546@stage.kickern-hamburg.de
PRIORITY:5
SEQUENCE:0
CATEGORIES:SPORT
DTSTAMP:20260423T115025
BEGIN:VALARM
ACTION:DISPLAY
TRIGGER:-PT2H
END:VALARM
END:VEVENT
BEGIN:VEVENT
CLASS:PUBLIC
DTSTART:20260218T190000Z
DURATION:PT2H30M
STATUS:CONFIRMED
SUMMARY:Likedeeler FC St. Pauli vs. Tentakel Spektakel
DESCRIPTION:Rookie-Liga (7. Spieltag)
LOCATION:St. Pauli Wohnzimmer(Raucher) Ahoi, Hafenstr. 122, 20359 Hamburg-Hamburg
UID:SM-B18549@stage.kickern-hamburg.de
PRIORITY:5
SEQUENCE:0
CATEGORIES:SPORT
DTSTAMP:20260423T115025
BEGIN:VALARM
ACTION:DISPLAY
TRIGGER:-PT2H
END:VALARM
END:VEVENT
BEGIN:VEVENT
CLASS:PUBLIC
DTSTART:20260316T190000Z
DURATION:PT2H30M
STATUS:CONFIRMED
SUMMARY:TishING for Complications vs. Likedeeler FC St. Pauli
DESCRIPTION:Rookie-Liga (8. Spieltag)
LOCATION:TUHH Hauptgebäude A, Am Schwarzenberg-Campus 1, 21073 Hamburg
UID:SM-B18555@stage.kickern-hamburg.de
PRIORITY:5
SEQUENCE:0
CATEGORIES:SPORT
DTSTAMP:20260423T115025
BEGIN:VALARM
ACTION:DISPLAY
TRIGGER:-PT2H
END:VALARM
END:VEVENT
BEGIN:VEVENT
CLASS:PUBLIC
DTSTART:20260401T180000Z
DURATION:PT2H30M
STATUS:CONFIRMED
SUMMARY:Likedeeler FC St. Pauli vs. Prontosaurier
DESCRIPTION:Rookie-Liga (9. Spieltag)
LOCATION:St. Pauli Wohnzimmer(Raucher) Ahoi, Hafenstr. 122, 20359 Hamburg-Hamburg
UID:SM-B18556@stage.kickern-hamburg.de
PRIORITY:5
SEQUENCE:0
CATEGORIES:SPORT
DTSTAMP:20260423T115025
BEGIN:VALARM
ACTION:DISPLAY
TRIGGER:-PT2H
END:VALARM
END:VEVENT
END:VCALENDAR
