BEGIN:VCALENDAR
VERSION:2.0
PRODID:PHP
METHOD:REQUEST
X-ORIGINAL-URL:https://stage.kickern-hamburg.de/liga/aktuelle-partien?task=team_begegnungen_ical&id=5642
X-WR-CALNAME;VALUE=TEXT:Verdammte Axt
BEGIN:VEVENT
CLASS:PUBLIC
DTSTART:20250917T170000Z
DURATION:PT2H30M
STATUS:CONFIRMED
SUMMARY:FC St. Pauli Giganten vs. Verdammte Axt
DESCRIPTION:4. Liga, Gruppe C (1. Spieltag)\nErgebnis: 20:12 (81:59)
LOCATION:FC St. Pauli Clubheim, Harald-Stender-Platz 1, 20359 Hamburg-St. Pauli
UID:SM-B18184@stage.kickern-hamburg.de
PRIORITY:5
SEQUENCE:1
CATEGORIES:SPORT
DTSTAMP:20260423T115809
BEGIN:VALARM
ACTION:DISPLAY
TRIGGER:-PT2H
END:VALARM
END:VEVENT
BEGIN:VEVENT
CLASS:PUBLIC
DTSTART:20250924T180000Z
DURATION:PT2H30M
STATUS:CONFIRMED
SUMMARY:Kicking Me Softly vs. Verdammte Axt
DESCRIPTION:4. Liga, Gruppe C (2. Spieltag)\nErgebnis: 19:13 (80:68)
LOCATION:ZaZú, Lutterothstraße 62, 20255 Hamburg-Eimsbüttel
UID:SM-B18198@stage.kickern-hamburg.de
PRIORITY:5
SEQUENCE:1
CATEGORIES:SPORT
DTSTAMP:20260423T115809
BEGIN:VALARM
ACTION:DISPLAY
TRIGGER:-PT2H
END:VALARM
END:VEVENT
BEGIN:VEVENT
CLASS:PUBLIC
DTSTART:20251014T180000Z
DURATION:PT2H30M
STATUS:CONFIRMED
SUMMARY:Verdammte Axt vs. Torfabrik 2. Silpion (NR)
DESCRIPTION:4. Liga, Gruppe C (3. Spieltag)\nErgebnis: 24:8 (87:57)
LOCATION:Hannes & Hanna Wohnzimmer (Raucher), Weidenallee 60, 20357 Hamburg-Eimsbüttel
UID:SM-B18202@stage.kickern-hamburg.de
PRIORITY:5
SEQUENCE:1
CATEGORIES:SPORT
DTSTAMP:20260423T115809
BEGIN:VALARM
ACTION:DISPLAY
TRIGGER:-PT2H
END:VALARM
END:VEVENT
BEGIN:VEVENT
CLASS:PUBLIC
DTSTART:20251030T190000Z
DURATION:PT2H30M
STATUS:CONFIRMED
SUMMARY:Dampframme St. Pauli vs. Verdammte Axt
DESCRIPTION:Landespokal (2. Runde)
LOCATION:KIXX, Nobistor 38, 22767 Hamburg-Altona-Altstadt
UID:SM-B18457@stage.kickern-hamburg.de
PRIORITY:5
SEQUENCE:0
CATEGORIES:SPORT
DTSTAMP:20260423T115809
BEGIN:VALARM
ACTION:DISPLAY
TRIGGER:-PT2H
END:VALARM
END:VEVENT
BEGIN:VEVENT
CLASS:PUBLIC
DTSTART:20251030T190000Z
DURATION:PT2H30M
STATUS:TENTATIVE
SUMMARY:Verdammte Axt vs. Trash N' Talk (wird verlegt)
DESCRIPTION:Ligapokal 3./4. Liga (2. Runde)
LOCATION:Hannes & Hanna Wohnzimmer (Raucher), Weidenallee 60, 20357 Hamburg-Eimsbüttel
UID:SM-B18451@stage.kickern-hamburg.de
PRIORITY:5
SEQUENCE:0
CATEGORIES:SPORT
DTSTAMP:20260423T115809
BEGIN:VALARM
ACTION:DISPLAY
TRIGGER:-PT2H
END:VALARM
END:VEVENT
BEGIN:VEVENT
CLASS:PUBLIC
DTSTART:20251105T180000Z
DURATION:PT2H30M
STATUS:TENTATIVE
SUMMARY:FC St. Pauli Die Anfänger vs. Verdammte Axt (wird verlegt)
DESCRIPTION:4. Liga, Gruppe C (4. Spieltag)
LOCATION:FC St. Pauli Clubheim, Harald-Stender-Platz 1, 20359 Hamburg-St. Pauli
UID:SM-B18212@stage.kickern-hamburg.de
PRIORITY:5
SEQUENCE:0
CATEGORIES:SPORT
DTSTAMP:20260423T115809
BEGIN:VALARM
ACTION:DISPLAY
TRIGGER:-PT2H
END:VALARM
END:VEVENT
BEGIN:VEVENT
CLASS:PUBLIC
DTSTART:20251121T190000Z
DURATION:PT2H30M
STATUS:CONFIRMED
SUMMARY:Verdammte Axt vs. Old School
DESCRIPTION:4. Liga, Gruppe C (5. Spieltag)
LOCATION:Hannes & Hanna Wohnzimmer (Raucher), Weidenallee 60, 20357 Hamburg-Eimsbüttel
UID:SM-B18218@stage.kickern-hamburg.de
PRIORITY:5
SEQUENCE:0
CATEGORIES:SPORT
DTSTAMP:20260423T115809
BEGIN:VALARM
ACTION:DISPLAY
TRIGGER:-PT2H
END:VALARM
END:VEVENT
BEGIN:VEVENT
CLASS:PUBLIC
DTSTART:20251204T190000Z
DURATION:PT2H30M
STATUS:CONFIRMED
SUMMARY:Exorbitanter Mumpitz vs. Verdammte Axt
DESCRIPTION:4. Liga, Gruppe C (6. Spieltag)
LOCATION:Joy, Winterhuder Weg 69, 22085 Hamburg-Uhlenhorst
UID:SM-B18224@stage.kickern-hamburg.de
PRIORITY:5
SEQUENCE:0
CATEGORIES:SPORT
DTSTAMP:20260423T115809
BEGIN:VALARM
ACTION:DISPLAY
TRIGGER:-PT2H
END:VALARM
END:VEVENT
BEGIN:VEVENT
CLASS:PUBLIC
DTSTART:20260109T190000Z
DURATION:PT2H30M
STATUS:CONFIRMED
SUMMARY:Verdammte Axt vs. Wohnzimmer Kapeiken
DESCRIPTION:4. Liga, Gruppe C (7. Spieltag)
LOCATION:Hannes & Hanna Wohnzimmer (Raucher), Weidenallee 60, 20357 Hamburg-Eimsbüttel
UID:SM-B18234@stage.kickern-hamburg.de
PRIORITY:5
SEQUENCE:0
CATEGORIES:SPORT
DTSTAMP:20260423T115809
BEGIN:VALARM
ACTION:DISPLAY
TRIGGER:-PT2H
END:VALARM
END:VEVENT
BEGIN:VEVENT
CLASS:PUBLIC
DTSTART:20260121T180000Z
DURATION:PT2H30M
STATUS:CONFIRMED
SUMMARY:FC St. Pauli Giganten vs. Verdammte Axt
DESCRIPTION:4. Liga, Gruppe C (8. Spieltag)
LOCATION:FC St. Pauli Clubheim, Harald-Stender-Platz 1, 20359 Hamburg-St. Pauli
UID:SM-B18185@stage.kickern-hamburg.de
PRIORITY:5
SEQUENCE:0
CATEGORIES:SPORT
DTSTAMP:20260423T115809
BEGIN:VALARM
ACTION:DISPLAY
TRIGGER:-PT2H
END:VALARM
END:VEVENT
BEGIN:VEVENT
CLASS:PUBLIC
DTSTART:20260206T190000Z
DURATION:PT2H30M
STATUS:CONFIRMED
SUMMARY:Verdammte Axt vs. Kicking Me Softly
DESCRIPTION:4. Liga, Gruppe C (9. Spieltag)
LOCATION:Hannes & Hanna Wohnzimmer (Raucher), Weidenallee 60, 20357 Hamburg-Eimsbüttel
UID:SM-B18199@stage.kickern-hamburg.de
PRIORITY:5
SEQUENCE:0
CATEGORIES:SPORT
DTSTAMP:20260423T115809
BEGIN:VALARM
ACTION:DISPLAY
TRIGGER:-PT2H
END:VALARM
END:VEVENT
BEGIN:VEVENT
CLASS:PUBLIC
DTSTART:20260219T190000Z
DURATION:PT2H30M
STATUS:CONFIRMED
SUMMARY:Torfabrik 2. Silpion (NR) vs. Verdammte Axt
DESCRIPTION:4. Liga, Gruppe C (10. Spieltag)
LOCATION:Die Torfabrik, Zum Sportplatz 10, 21220 Seevetal
UID:SM-B18203@stage.kickern-hamburg.de
PRIORITY:5
SEQUENCE:0
CATEGORIES:SPORT
DTSTAMP:20260423T115809
BEGIN:VALARM
ACTION:DISPLAY
TRIGGER:-PT2H
END:VALARM
END:VEVENT
BEGIN:VEVENT
CLASS:PUBLIC
DTSTART:20260320T190000Z
DURATION:PT2H30M
STATUS:CONFIRMED
SUMMARY:Verdammte Axt vs. FC St. Pauli Die Anfänger
DESCRIPTION:4. Liga, Gruppe C (11. Spieltag)
LOCATION:Hannes & Hanna Wohnzimmer (Raucher), Weidenallee 60, 20357 Hamburg-Eimsbüttel
UID:SM-B18213@stage.kickern-hamburg.de
PRIORITY:5
SEQUENCE:0
CATEGORIES:SPORT
DTSTAMP:20260423T115809
BEGIN:VALARM
ACTION:DISPLAY
TRIGGER:-PT2H
END:VALARM
END:VEVENT
BEGIN:VEVENT
CLASS:PUBLIC
DTSTART:20260331T180000Z
DURATION:PT2H30M
STATUS:CONFIRMED
SUMMARY:Old School vs. Verdammte Axt
DESCRIPTION:4. Liga, Gruppe C (12. Spieltag)
LOCATION:Hannes & Hanna Wohnzimmer (Raucher), Weidenallee 60, 20357 Hamburg-Eimsbüttel
UID:SM-B18219@stage.kickern-hamburg.de
PRIORITY:5
SEQUENCE:0
CATEGORIES:SPORT
DTSTAMP:20260423T115809
BEGIN:VALARM
ACTION:DISPLAY
TRIGGER:-PT2H
END:VALARM
END:VEVENT
BEGIN:VEVENT
CLASS:PUBLIC
DTSTART:20260417T180000Z
DURATION:PT2H30M
STATUS:CONFIRMED
SUMMARY:Verdammte Axt vs. Exorbitanter Mumpitz
DESCRIPTION:4. Liga, Gruppe C (13. Spieltag)
LOCATION:Hannes & Hanna Wohnzimmer (Raucher), Weidenallee 60, 20357 Hamburg-Eimsbüttel
UID:SM-B18225@stage.kickern-hamburg.de
PRIORITY:5
SEQUENCE:0
CATEGORIES:SPORT
DTSTAMP:20260423T115809
BEGIN:VALARM
ACTION:DISPLAY
TRIGGER:-PT2H
END:VALARM
END:VEVENT
BEGIN:VEVENT
CLASS:PUBLIC
DTSTART:20260429T180000Z
DURATION:PT2H30M
STATUS:CONFIRMED
SUMMARY:Wohnzimmer Kapeiken vs. Verdammte Axt
DESCRIPTION:4. Liga, Gruppe C (14. Spieltag)
LOCATION:Hannes & Hanna Wohnzimmer (Raucher), Weidenallee 60, 20357 Hamburg-Eimsbüttel
UID:SM-B18235@stage.kickern-hamburg.de
PRIORITY:5
SEQUENCE:0
CATEGORIES:SPORT
DTSTAMP:20260423T115809
BEGIN:VALARM
ACTION:DISPLAY
TRIGGER:-PT2H
END:VALARM
END:VEVENT
END:VCALENDAR
