BEGIN:VCALENDAR
VERSION:2.0
PRODID:PHP
METHOD:REQUEST
X-ORIGINAL-URL:https://stage.kickern-hamburg.de/liga/aktuelle-partien?task=team_begegnungen_ical&id=5475
X-WR-CALNAME;VALUE=TEXT:Beginners (NR)
BEGIN:VEVENT
CLASS:PUBLIC
DTSTART:20250909T180000Z
DURATION:PT2H30M
STATUS:CONFIRMED
SUMMARY:Beginners (NR) vs. Gästeblock
DESCRIPTION:3. Liga, Gruppe D (1. Spieltag)\nErgebnis: 14:18 (74:81)
LOCATION:KIXX, Nobistor 38, 22767 Hamburg-Altona-Altstadt
UID:SM-B17734@stage.kickern-hamburg.de
PRIORITY:5
SEQUENCE:1
CATEGORIES:SPORT
DTSTAMP:20260423T115819
BEGIN:VALARM
ACTION:DISPLAY
TRIGGER:-PT2H
END:VALARM
END:VEVENT
BEGIN:VEVENT
CLASS:PUBLIC
DTSTART:20250925T180000Z
DURATION:PT2H30M
STATUS:CONFIRMED
SUMMARY:Buffplatzmafia TF vs. Beginners (NR)
DESCRIPTION:3. Liga, Gruppe D (2. Spieltag)\nErgebnis: 15:17 (75:72)
LOCATION:Inline-Zentrale (RAUCHER), Sachsenstraße 7, 20097 Hamburg-Hammerbrook
UID:SM-B17742@stage.kickern-hamburg.de
PRIORITY:5
SEQUENCE:1
CATEGORIES:SPORT
DTSTAMP:20260423T115819
BEGIN:VALARM
ACTION:DISPLAY
TRIGGER:-PT2H
END:VALARM
END:VEVENT
BEGIN:VEVENT
CLASS:PUBLIC
DTSTART:20251014T180000Z
DURATION:PT2H30M
STATUS:CONFIRMED
SUMMARY:Beginners (NR) vs. Ex Orbit Ants (NR)
DESCRIPTION:3. Liga, Gruppe D (3. Spieltag)\nErgebnis: 17:15 (77:67)
LOCATION:KIXX, Nobistor 38, 22767 Hamburg-Altona-Altstadt
UID:SM-B17754@stage.kickern-hamburg.de
PRIORITY:5
SEQUENCE:1
CATEGORIES:SPORT
DTSTAMP:20260423T115819
BEGIN:VALARM
ACTION:DISPLAY
TRIGGER:-PT2H
END:VALARM
END:VEVENT
BEGIN:VEVENT
CLASS:PUBLIC
DTSTART:20251106T190000Z
DURATION:PT2H30M
STATUS:CONFIRMED
SUMMARY:Kickericki vs. Beginners (NR)
DESCRIPTION:3. Liga, Gruppe D (4. Spieltag)
LOCATION:Hannes & Hanna Wohnzimmer (Raucher), Weidenallee 60, 20357 Hamburg-Eimsbüttel
UID:SM-B17756@stage.kickern-hamburg.de
PRIORITY:5
SEQUENCE:0
CATEGORIES:SPORT
DTSTAMP:20260423T115819
BEGIN:VALARM
ACTION:DISPLAY
TRIGGER:-PT2H
END:VALARM
END:VEVENT
BEGIN:VEVENT
CLASS:PUBLIC
DTSTART:20251111T190000Z
DURATION:PT2H30M
STATUS:CONFIRMED
SUMMARY:Beginners (NR) vs. Fightclub FC St. Pauli II
DESCRIPTION:Landespokal (2. Runde)
LOCATION:KIXX, Nobistor 38, 22767 Hamburg-Altona-Altstadt
UID:SM-B18464@stage.kickern-hamburg.de
PRIORITY:5
SEQUENCE:0
CATEGORIES:SPORT
DTSTAMP:20260423T115819
BEGIN:VALARM
ACTION:DISPLAY
TRIGGER:-PT2H
END:VALARM
END:VEVENT
BEGIN:VEVENT
CLASS:PUBLIC
DTSTART:20251118T190000Z
DURATION:PT2H30M
STATUS:CONFIRMED
SUMMARY:Beginners (NR) vs. Rakshasa
DESCRIPTION:3. Liga, Gruppe D (5. Spieltag)
LOCATION:KIXX, Nobistor 38, 22767 Hamburg-Altona-Altstadt
UID:SM-B17774@stage.kickern-hamburg.de
PRIORITY:5
SEQUENCE:0
CATEGORIES:SPORT
DTSTAMP:20260423T115819
BEGIN:VALARM
ACTION:DISPLAY
TRIGGER:-PT2H
END:VALARM
END:VEVENT
BEGIN:VEVENT
CLASS:PUBLIC
DTSTART:20251118T190000Z
DURATION:PT2H30M
STATUS:CONFIRMED
SUMMARY:Goalzillas (NR) vs. Beginners (NR)
DESCRIPTION:Ligapokal 3./4. Liga (2. Runde)
LOCATION:KIXX, Nobistor 38, 22767 Hamburg-Altona-Altstadt
UID:SM-B18452@stage.kickern-hamburg.de
PRIORITY:5
SEQUENCE:0
CATEGORIES:SPORT
DTSTAMP:20260423T115819
BEGIN:VALARM
ACTION:DISPLAY
TRIGGER:-PT2H
END:VALARM
END:VEVENT
BEGIN:VEVENT
CLASS:PUBLIC
DTSTART:20251204T190000Z
DURATION:PT2H30M
STATUS:CONFIRMED
SUMMARY:Deine Mudda (NR) vs. Beginners (NR)
DESCRIPTION:3. Liga, Gruppe D (6. Spieltag)
LOCATION:Phatikan, Nobistor 10, 22767 Hamburg-Altona-Altstadt
UID:SM-B17776@stage.kickern-hamburg.de
PRIORITY:5
SEQUENCE:0
CATEGORIES:SPORT
DTSTAMP:20260423T115819
BEGIN:VALARM
ACTION:DISPLAY
TRIGGER:-PT2H
END:VALARM
END:VEVENT
BEGIN:VEVENT
CLASS:PUBLIC
DTSTART:20260106T190000Z
DURATION:PT2H30M
STATUS:CONFIRMED
SUMMARY:Beginners (NR) vs. Hermanns treue Riege
DESCRIPTION:3. Liga, Gruppe D (7. Spieltag)
LOCATION:KIXX, Nobistor 38, 22767 Hamburg-Altona-Altstadt
UID:SM-B17794@stage.kickern-hamburg.de
PRIORITY:5
SEQUENCE:0
CATEGORIES:SPORT
DTSTAMP:20260423T115819
BEGIN:VALARM
ACTION:DISPLAY
TRIGGER:-PT2H
END:VALARM
END:VEVENT
BEGIN:VEVENT
CLASS:PUBLIC
DTSTART:20260120T190000Z
DURATION:PT2H30M
STATUS:CONFIRMED
SUMMARY:Beginners (NR) vs. Bolzen Edel (NR)
DESCRIPTION:3. Liga, Gruppe D (8. Spieltag)
LOCATION:KIXX, Nobistor 38, 22767 Hamburg-Altona-Altstadt
UID:SM-B17804@stage.kickern-hamburg.de
PRIORITY:5
SEQUENCE:0
CATEGORIES:SPORT
DTSTAMP:20260423T115819
BEGIN:VALARM
ACTION:DISPLAY
TRIGGER:-PT2H
END:VALARM
END:VEVENT
BEGIN:VEVENT
CLASS:PUBLIC
DTSTART:20260203T183000Z
DURATION:PT2H30M
STATUS:CONFIRMED
SUMMARY:Goalzillas (NR) vs. Beginners (NR)
DESCRIPTION:3. Liga, Gruppe D (9. Spieltag)
LOCATION:KIXX, Nobistor 38, 22767 Hamburg-Altona-Altstadt
UID:SM-B17808@stage.kickern-hamburg.de
PRIORITY:5
SEQUENCE:0
CATEGORIES:SPORT
DTSTAMP:20260423T115819
BEGIN:VALARM
ACTION:DISPLAY
TRIGGER:-PT2H
END:VALARM
END:VEVENT
BEGIN:VEVENT
CLASS:PUBLIC
DTSTART:20260217T183000Z
DURATION:PT2H30M
STATUS:CONFIRMED
SUMMARY:Gästeblock vs. Beginners (NR)
DESCRIPTION:3. Liga, Gruppe D (10. Spieltag)
LOCATION:Hannes & Hanna Wohnzimmer (Raucher), Weidenallee 60, 20357 Hamburg-Eimsbüttel
UID:SM-B17735@stage.kickern-hamburg.de
PRIORITY:5
SEQUENCE:0
CATEGORIES:SPORT
DTSTAMP:20260423T115819
BEGIN:VALARM
ACTION:DISPLAY
TRIGGER:-PT2H
END:VALARM
END:VEVENT
BEGIN:VEVENT
CLASS:PUBLIC
DTSTART:20260317T190000Z
DURATION:PT2H30M
STATUS:CONFIRMED
SUMMARY:Beginners (NR) vs. Buffplatzmafia TF
DESCRIPTION:3. Liga, Gruppe D (11. Spieltag)
LOCATION:KIXX, Nobistor 38, 22767 Hamburg-Altona-Altstadt
UID:SM-B17743@stage.kickern-hamburg.de
PRIORITY:5
SEQUENCE:0
CATEGORIES:SPORT
DTSTAMP:20260423T115819
BEGIN:VALARM
ACTION:DISPLAY
TRIGGER:-PT2H
END:VALARM
END:VEVENT
BEGIN:VEVENT
CLASS:PUBLIC
DTSTART:20260331T173000Z
DURATION:PT2H30M
STATUS:CONFIRMED
SUMMARY:Ex Orbit Ants (NR) vs. Beginners (NR)
DESCRIPTION:3. Liga, Gruppe D (12. Spieltag)
LOCATION:Joy, Winterhuder Weg 69, 22085 Hamburg-Uhlenhorst
UID:SM-B17755@stage.kickern-hamburg.de
PRIORITY:5
SEQUENCE:0
CATEGORIES:SPORT
DTSTAMP:20260423T115819
BEGIN:VALARM
ACTION:DISPLAY
TRIGGER:-PT2H
END:VALARM
END:VEVENT
BEGIN:VEVENT
CLASS:PUBLIC
DTSTART:20260414T180000Z
DURATION:PT2H30M
STATUS:CONFIRMED
SUMMARY:Beginners (NR) vs. Kickericki
DESCRIPTION:3. Liga, Gruppe D (13. Spieltag)
LOCATION:KIXX, Nobistor 38, 22767 Hamburg-Altona-Altstadt
UID:SM-B17757@stage.kickern-hamburg.de
PRIORITY:5
SEQUENCE:0
CATEGORIES:SPORT
DTSTAMP:20260423T115819
BEGIN:VALARM
ACTION:DISPLAY
TRIGGER:-PT2H
END:VALARM
END:VEVENT
BEGIN:VEVENT
CLASS:PUBLIC
DTSTART:20260429T180000Z
DURATION:PT2H30M
STATUS:CONFIRMED
SUMMARY:Rakshasa vs. Beginners (NR)
DESCRIPTION:3. Liga, Gruppe D (14. Spieltag)
LOCATION:Zur gemütlichen Ecke (RAUCHER), Eichholz 62, 20459 Hamburg
UID:SM-B17775@stage.kickern-hamburg.de
PRIORITY:5
SEQUENCE:0
CATEGORIES:SPORT
DTSTAMP:20260423T115819
BEGIN:VALARM
ACTION:DISPLAY
TRIGGER:-PT2H
END:VALARM
END:VEVENT
BEGIN:VEVENT
CLASS:PUBLIC
DTSTART:20260519T180000Z
DURATION:PT2H30M
STATUS:CONFIRMED
SUMMARY:Beginners (NR) vs. Deine Mudda (NR)
DESCRIPTION:3. Liga, Gruppe D (15. Spieltag)
LOCATION:KIXX, Nobistor 38, 22767 Hamburg-Altona-Altstadt
UID:SM-B17777@stage.kickern-hamburg.de
PRIORITY:5
SEQUENCE:0
CATEGORIES:SPORT
DTSTAMP:20260423T115819
BEGIN:VALARM
ACTION:DISPLAY
TRIGGER:-PT2H
END:VALARM
END:VEVENT
BEGIN:VEVENT
CLASS:PUBLIC
DTSTART:20260604T173000Z
DURATION:PT2H30M
STATUS:CONFIRMED
SUMMARY:Hermanns treue Riege vs. Beginners (NR)
DESCRIPTION:3. Liga, Gruppe D (16. Spieltag)
LOCATION:Hermann (RAUCHER), Friedrichstraße 7b, 20359 Hamburg-St. Pauli
UID:SM-B17795@stage.kickern-hamburg.de
PRIORITY:5
SEQUENCE:0
CATEGORIES:SPORT
DTSTAMP:20260423T115819
BEGIN:VALARM
ACTION:DISPLAY
TRIGGER:-PT2H
END:VALARM
END:VEVENT
BEGIN:VEVENT
CLASS:PUBLIC
DTSTART:20260618T173000Z
DURATION:PT2H30M
STATUS:CONFIRMED
SUMMARY:Bolzen Edel (NR) vs. Beginners (NR)
DESCRIPTION:3. Liga, Gruppe D (17. Spieltag)
LOCATION:Sidekick, Winsener Straße 190, 21077 Hamburg-Harburg
UID:SM-B17805@stage.kickern-hamburg.de
PRIORITY:5
SEQUENCE:0
CATEGORIES:SPORT
DTSTAMP:20260423T115819
BEGIN:VALARM
ACTION:DISPLAY
TRIGGER:-PT2H
END:VALARM
END:VEVENT
BEGIN:VEVENT
CLASS:PUBLIC
DTSTART:20260630T180000Z
DURATION:PT2H30M
STATUS:CONFIRMED
SUMMARY:Beginners (NR) vs. Goalzillas (NR)
DESCRIPTION:3. Liga, Gruppe D (18. Spieltag)
LOCATION:KIXX, Nobistor 38, 22767 Hamburg-Altona-Altstadt
UID:SM-B17809@stage.kickern-hamburg.de
PRIORITY:5
SEQUENCE:0
CATEGORIES:SPORT
DTSTAMP:20260423T115819
BEGIN:VALARM
ACTION:DISPLAY
TRIGGER:-PT2H
END:VALARM
END:VEVENT
END:VCALENDAR
