BEGIN:VCALENDAR
VERSION:2.0
PRODID:PHP
METHOD:REQUEST
X-ORIGINAL-URL:https://stage.kickern-hamburg.de/liga/aktuelle-partien?task=team_begegnungen_ical&id=5430
X-WR-CALNAME;VALUE=TEXT:Bergbarbaren
BEGIN:VEVENT
CLASS:PUBLIC
DTSTART:20250918T180000Z
DURATION:PT2H30M
STATUS:CONFIRMED
SUMMARY:Bergbarbaren vs. FC St. Pauli dreht auf
DESCRIPTION:3. Liga, Gruppe B (1. Spieltag)\nErgebnis: 16:16 (72:69)
LOCATION:KIXX, Nobistor 38, 22767 Hamburg-Altona-Altstadt
UID:SM-B17908@stage.kickern-hamburg.de
PRIORITY:5
SEQUENCE:1
CATEGORIES:SPORT
DTSTAMP:20260423T115818
BEGIN:VALARM
ACTION:DISPLAY
TRIGGER:-PT2H
END:VALARM
END:VEVENT
BEGIN:VEVENT
CLASS:PUBLIC
DTSTART:20250923T170000Z
DURATION:PT2H30M
STATUS:CONFIRMED
SUMMARY:Roter Stern Kickers 2 (NR) vs. Bergbarbaren
DESCRIPTION:3. Liga, Gruppe B (2. Spieltag)\nErgebnis: 14:18 (65:75)
LOCATION:JuKI 42, An der Reitbahn 2, 22926 Ahrensburg
UID:SM-B17916@stage.kickern-hamburg.de
PRIORITY:5
SEQUENCE:1
CATEGORIES:SPORT
DTSTAMP:20260423T115818
BEGIN:VALARM
ACTION:DISPLAY
TRIGGER:-PT2H
END:VALARM
END:VEVENT
BEGIN:VEVENT
CLASS:PUBLIC
DTSTART:20250930T180000Z
DURATION:PT2H30M
STATUS:CONFIRMED
SUMMARY:Bergbarbaren vs. Kickericki
DESCRIPTION:Landespokal (1. Runde)\nErgebnis: 19:13 (76:65)
LOCATION:KIXX, Nobistor 38, 22767 Hamburg-Altona-Altstadt
UID:SM-B18329@stage.kickern-hamburg.de
PRIORITY:5
SEQUENCE:1
CATEGORIES:SPORT
DTSTAMP:20260423T115818
BEGIN:VALARM
ACTION:DISPLAY
TRIGGER:-PT2H
END:VALARM
END:VEVENT
BEGIN:VEVENT
CLASS:PUBLIC
DTSTART:20251009T180000Z
DURATION:PT2H30M
STATUS:CONFIRMED
SUMMARY:Kicker Club Lüneburg (NR) vs. Bergbarbaren
DESCRIPTION:3. Liga, Gruppe B (3. Spieltag)\nErgebnis: 18:14 (79:74)
LOCATION:KIXX, Nobistor 38, 22767 Hamburg-Altona-Altstadt
UID:SM-B17926@stage.kickern-hamburg.de
PRIORITY:5
SEQUENCE:1
CATEGORIES:SPORT
DTSTAMP:20260423T115818
BEGIN:VALARM
ACTION:DISPLAY
TRIGGER:-PT2H
END:VALARM
END:VEVENT
BEGIN:VEVENT
CLASS:PUBLIC
DTSTART:20251030T190000Z
DURATION:PT2H30M
STATUS:TENTATIVE
SUMMARY:Bergbarbaren vs. Partisan Pinshot (NR) (wird verlegt)
DESCRIPTION:Landespokal (2. Runde)
LOCATION:KIXX, Nobistor 38, 22767 Hamburg-Altona-Altstadt
UID:SM-B18482@stage.kickern-hamburg.de
PRIORITY:5
SEQUENCE:0
CATEGORIES:SPORT
DTSTAMP:20260423T115818
BEGIN:VALARM
ACTION:DISPLAY
TRIGGER:-PT2H
END:VALARM
END:VEVENT
BEGIN:VEVENT
CLASS:PUBLIC
DTSTART:20251113T190000Z
DURATION:PT2H30M
STATUS:CONFIRMED
SUMMARY:Bergbarbaren vs. Nen Rudel Gurken
DESCRIPTION:3. Liga, Gruppe B (4. Spieltag)
LOCATION:KIXX, Nobistor 38, 22767 Hamburg-Altona-Altstadt
UID:SM-B17936@stage.kickern-hamburg.de
PRIORITY:5
SEQUENCE:0
CATEGORIES:SPORT
DTSTAMP:20260423T115818
BEGIN:VALARM
ACTION:DISPLAY
TRIGGER:-PT2H
END:VALARM
END:VEVENT
BEGIN:VEVENT
CLASS:PUBLIC
DTSTART:20251120T190000Z
DURATION:PT2H30M
STATUS:CONFIRMED
SUMMARY:Bergbarbaren vs. MiDDelDinger (NR)
DESCRIPTION:3. Liga, Gruppe B (5. Spieltag)
LOCATION:KIXX, Nobistor 38, 22767 Hamburg-Altona-Altstadt
UID:SM-B17950@stage.kickern-hamburg.de
PRIORITY:5
SEQUENCE:0
CATEGORIES:SPORT
DTSTAMP:20260423T115818
BEGIN:VALARM
ACTION:DISPLAY
TRIGGER:-PT2H
END:VALARM
END:VEVENT
BEGIN:VEVENT
CLASS:PUBLIC
DTSTART:20251127T190000Z
DURATION:PT2H30M
STATUS:CONFIRMED
SUMMARY:Exorbitanter Mumpitz vs. Bergbarbaren
DESCRIPTION:Ligapokal 3./4. Liga (2. Runde)
LOCATION:Joy, Winterhuder Weg 69, 22085 Hamburg-Uhlenhorst
UID:SM-B18449@stage.kickern-hamburg.de
PRIORITY:5
SEQUENCE:0
CATEGORIES:SPORT
DTSTAMP:20260423T115818
BEGIN:VALARM
ACTION:DISPLAY
TRIGGER:-PT2H
END:VALARM
END:VEVENT
BEGIN:VEVENT
CLASS:PUBLIC
DTSTART:20251204T190000Z
DURATION:PT2H30M
STATUS:CONFIRMED
SUMMARY:Die Ilohhminauten FC St. Pauli vs. Bergbarbaren
DESCRIPTION:3. Liga, Gruppe B (6. Spieltag)
LOCATION:Ilohh Bar (RAUCHER), Repsoldstraße 52, 20097 Hamburg-Hammerbrook
UID:SM-B17958@stage.kickern-hamburg.de
PRIORITY:5
SEQUENCE:0
CATEGORIES:SPORT
DTSTAMP:20260423T115818
BEGIN:VALARM
ACTION:DISPLAY
TRIGGER:-PT2H
END:VALARM
END:VEVENT
BEGIN:VEVENT
CLASS:PUBLIC
DTSTART:20260108T190000Z
DURATION:PT2H30M
STATUS:CONFIRMED
SUMMARY:Bergbarbaren vs. TkC Rrraddauuuuuh!
DESCRIPTION:3. Liga, Gruppe B (7. Spieltag)
LOCATION:KIXX, Nobistor 38, 22767 Hamburg-Altona-Altstadt
UID:SM-B17974@stage.kickern-hamburg.de
PRIORITY:5
SEQUENCE:0
CATEGORIES:SPORT
DTSTAMP:20260423T115818
BEGIN:VALARM
ACTION:DISPLAY
TRIGGER:-PT2H
END:VALARM
END:VEVENT
BEGIN:VEVENT
CLASS:PUBLIC
DTSTART:20260120T183000Z
DURATION:PT2H30M
STATUS:CONFIRMED
SUMMARY:FC St. Pauli from dusk till dawn vs. Bergbarbaren
DESCRIPTION:3. Liga, Gruppe B (8. Spieltag)
LOCATION:KIXX, Nobistor 38, 22767 Hamburg-Altona-Altstadt
UID:SM-B17982@stage.kickern-hamburg.de
PRIORITY:5
SEQUENCE:0
CATEGORIES:SPORT
DTSTAMP:20260423T115818
BEGIN:VALARM
ACTION:DISPLAY
TRIGGER:-PT2H
END:VALARM
END:VEVENT
BEGIN:VEVENT
CLASS:PUBLIC
DTSTART:20260205T190000Z
DURATION:PT2H30M
STATUS:CONFIRMED
SUMMARY:Bergbarbaren vs. TishING for Compliments (NR)
DESCRIPTION:3. Liga, Gruppe B (9. Spieltag)
LOCATION:KIXX, Nobistor 38, 22767 Hamburg-Altona-Altstadt
UID:SM-B17990@stage.kickern-hamburg.de
PRIORITY:5
SEQUENCE:0
CATEGORIES:SPORT
DTSTAMP:20260423T115818
BEGIN:VALARM
ACTION:DISPLAY
TRIGGER:-PT2H
END:VALARM
END:VEVENT
BEGIN:VEVENT
CLASS:PUBLIC
DTSTART:20260218T190000Z
DURATION:PT2H30M
STATUS:CONFIRMED
SUMMARY:FC St. Pauli dreht auf vs. Bergbarbaren
DESCRIPTION:3. Liga, Gruppe B (10. Spieltag)
LOCATION:FC St. Pauli Clubheim, Harald-Stender-Platz 1, 20359 Hamburg-St. Pauli
UID:SM-B17909@stage.kickern-hamburg.de
PRIORITY:5
SEQUENCE:0
CATEGORIES:SPORT
DTSTAMP:20260423T115818
BEGIN:VALARM
ACTION:DISPLAY
TRIGGER:-PT2H
END:VALARM
END:VEVENT
BEGIN:VEVENT
CLASS:PUBLIC
DTSTART:20260319T190000Z
DURATION:PT2H30M
STATUS:CONFIRMED
SUMMARY:Bergbarbaren vs. Roter Stern Kickers 2 (NR)
DESCRIPTION:3. Liga, Gruppe B (11. Spieltag)
LOCATION:KIXX, Nobistor 38, 22767 Hamburg-Altona-Altstadt
UID:SM-B17917@stage.kickern-hamburg.de
PRIORITY:5
SEQUENCE:0
CATEGORIES:SPORT
DTSTAMP:20260423T115818
BEGIN:VALARM
ACTION:DISPLAY
TRIGGER:-PT2H
END:VALARM
END:VEVENT
BEGIN:VEVENT
CLASS:PUBLIC
DTSTART:20260402T180000Z
DURATION:PT2H30M
STATUS:CONFIRMED
SUMMARY:Bergbarbaren vs. Kicker Club Lüneburg (NR)
DESCRIPTION:3. Liga, Gruppe B (12. Spieltag)
LOCATION:KIXX, Nobistor 38, 22767 Hamburg-Altona-Altstadt
UID:SM-B17927@stage.kickern-hamburg.de
PRIORITY:5
SEQUENCE:0
CATEGORIES:SPORT
DTSTAMP:20260423T115818
BEGIN:VALARM
ACTION:DISPLAY
TRIGGER:-PT2H
END:VALARM
END:VEVENT
BEGIN:VEVENT
CLASS:PUBLIC
DTSTART:20260414T180000Z
DURATION:PT2H30M
STATUS:CONFIRMED
SUMMARY:Nen Rudel Gurken vs. Bergbarbaren
DESCRIPTION:3. Liga, Gruppe B (13. Spieltag)
LOCATION:Bambi Bar, Hamburger Berg 14, 20359 Hamburg
UID:SM-B17937@stage.kickern-hamburg.de
PRIORITY:5
SEQUENCE:0
CATEGORIES:SPORT
DTSTAMP:20260423T115818
BEGIN:VALARM
ACTION:DISPLAY
TRIGGER:-PT2H
END:VALARM
END:VEVENT
BEGIN:VEVENT
CLASS:PUBLIC
DTSTART:20260430T173000Z
DURATION:PT2H30M
STATUS:CONFIRMED
SUMMARY:MiDDelDinger (NR) vs. Bergbarbaren
DESCRIPTION:3. Liga, Gruppe B (14. Spieltag)
LOCATION:Hannes & Hanna Wohnzimmer (Raucher), Weidenallee 60, 20357 Hamburg-Eimsbüttel
UID:SM-B17951@stage.kickern-hamburg.de
PRIORITY:5
SEQUENCE:0
CATEGORIES:SPORT
DTSTAMP:20260423T115818
BEGIN:VALARM
ACTION:DISPLAY
TRIGGER:-PT2H
END:VALARM
END:VEVENT
BEGIN:VEVENT
CLASS:PUBLIC
DTSTART:20260521T180000Z
DURATION:PT2H30M
STATUS:CONFIRMED
SUMMARY:Bergbarbaren vs. Die Ilohhminauten FC St. Pauli
DESCRIPTION:3. Liga, Gruppe B (15. Spieltag)
LOCATION:KIXX, Nobistor 38, 22767 Hamburg-Altona-Altstadt
UID:SM-B17959@stage.kickern-hamburg.de
PRIORITY:5
SEQUENCE:0
CATEGORIES:SPORT
DTSTAMP:20260423T115818
BEGIN:VALARM
ACTION:DISPLAY
TRIGGER:-PT2H
END:VALARM
END:VEVENT
BEGIN:VEVENT
CLASS:PUBLIC
DTSTART:20260604T180000Z
DURATION:PT2H30M
STATUS:CONFIRMED
SUMMARY:TkC Rrraddauuuuuh! vs. Bergbarbaren
DESCRIPTION:3. Liga, Gruppe B (16. Spieltag)
LOCATION:Rrraddauuuuuh! e.V., Friedensallee 44, 22765 Hamburg-Altona
UID:SM-B17975@stage.kickern-hamburg.de
PRIORITY:5
SEQUENCE:0
CATEGORIES:SPORT
DTSTAMP:20260423T115818
BEGIN:VALARM
ACTION:DISPLAY
TRIGGER:-PT2H
END:VALARM
END:VEVENT
BEGIN:VEVENT
CLASS:PUBLIC
DTSTART:20260618T180000Z
DURATION:PT2H30M
STATUS:CONFIRMED
SUMMARY:Bergbarbaren vs. FC St. Pauli from dusk till dawn
DESCRIPTION:3. Liga, Gruppe B (17. Spieltag)
LOCATION:KIXX, Nobistor 38, 22767 Hamburg-Altona-Altstadt
UID:SM-B17983@stage.kickern-hamburg.de
PRIORITY:5
SEQUENCE:0
CATEGORIES:SPORT
DTSTAMP:20260423T115818
BEGIN:VALARM
ACTION:DISPLAY
TRIGGER:-PT2H
END:VALARM
END:VEVENT
BEGIN:VEVENT
CLASS:PUBLIC
DTSTART:20260702T180000Z
DURATION:PT2H30M
STATUS:CONFIRMED
SUMMARY:TishING for Compliments (NR) vs. Bergbarbaren
DESCRIPTION:3. Liga, Gruppe B (18. Spieltag)
LOCATION:KIXX, Nobistor 38, 22767 Hamburg-Altona-Altstadt
UID:SM-B17991@stage.kickern-hamburg.de
PRIORITY:5
SEQUENCE:0
CATEGORIES:SPORT
DTSTAMP:20260423T115818
BEGIN:VALARM
ACTION:DISPLAY
TRIGGER:-PT2H
END:VALARM
END:VEVENT
END:VCALENDAR
