BEGIN:VCALENDAR
VERSION:2.0
PRODID:PHP
METHOD:REQUEST
X-ORIGINAL-URL:https://stage.kickern-hamburg.de/liga/aktuelle-partien?task=team_begegnungen_ical&id=5376
X-WR-CALNAME;VALUE=TEXT:Kickertruppe (NR)
BEGIN:VEVENT
CLASS:PUBLIC
DTSTART:20250918T173000Z
DURATION:PT2H30M
STATUS:CONFIRMED
SUMMARY:WunderBars (NR) vs. Kickertruppe (NR)
DESCRIPTION:2. Liga, Gruppe A (1. Spieltag)\nErgebnis: 20:12 (83:66)
LOCATION:KIXX, Nobistor 38, 22767 Hamburg-Altona-Altstadt
UID:SM-B17548@stage.kickern-hamburg.de
PRIORITY:5
SEQUENCE:1
CATEGORIES:SPORT
DTSTAMP:20260423T115908
BEGIN:VALARM
ACTION:DISPLAY
TRIGGER:-PT2H
END:VALARM
END:VEVENT
BEGIN:VEVENT
CLASS:PUBLIC
DTSTART:20250930T180000Z
DURATION:PT2H30M
STATUS:CONFIRMED
SUMMARY:Kickertruppe (NR) vs. Foosball Club FC St. Pauli
DESCRIPTION:2. Liga, Gruppe A (2. Spieltag)\nErgebnis: 12:20 (72:80)
LOCATION:CloudSeeds GmbH, Wendenstraße 377, 20537 Hamburg
UID:SM-B17558@stage.kickern-hamburg.de
PRIORITY:5
SEQUENCE:1
CATEGORIES:SPORT
DTSTAMP:20260423T115908
BEGIN:VALARM
ACTION:DISPLAY
TRIGGER:-PT2H
END:VALARM
END:VEVENT
BEGIN:VEVENT
CLASS:PUBLIC
DTSTART:20251010T181500Z
DURATION:PT2H30M
STATUS:CONFIRMED
SUMMARY:Tingeltangel FC St. Pauli vs. Kickertruppe (NR)
DESCRIPTION:2. Liga, Gruppe A (3. Spieltag)\nErgebnis: 12:20 (68:83)
LOCATION:FC St. Pauli Clubheim, Harald-Stender-Platz 1, 20359 Hamburg-St. Pauli
UID:SM-B17572@stage.kickern-hamburg.de
PRIORITY:5
SEQUENCE:1
CATEGORIES:SPORT
DTSTAMP:20260423T115908
BEGIN:VALARM
ACTION:DISPLAY
TRIGGER:-PT2H
END:VALARM
END:VEVENT
BEGIN:VEVENT
CLASS:PUBLIC
DTSTART:20251028T190000Z
DURATION:PT2H30M
STATUS:CONFIRMED
SUMMARY:Nen Rudel Gurken vs. Kickertruppe (NR)
DESCRIPTION:Landespokal (2. Runde)
LOCATION:Bambi Bar, Hamburger Berg 14, 20359 Hamburg
UID:SM-B18484@stage.kickern-hamburg.de
PRIORITY:5
SEQUENCE:0
CATEGORIES:SPORT
DTSTAMP:20260423T115908
BEGIN:VALARM
ACTION:DISPLAY
TRIGGER:-PT2H
END:VALARM
END:VEVENT
BEGIN:VEVENT
CLASS:PUBLIC
DTSTART:20251104T190000Z
DURATION:PT2H30M
STATUS:CONFIRMED
SUMMARY:Kickertruppe (NR) vs. Kicksiders (NR)
DESCRIPTION:2. Liga, Gruppe A (4. Spieltag)
LOCATION:CloudSeeds GmbH, Wendenstraße 377, 20537 Hamburg
UID:SM-B17578@stage.kickern-hamburg.de
PRIORITY:5
SEQUENCE:0
CATEGORIES:SPORT
DTSTAMP:20260423T115908
BEGIN:VALARM
ACTION:DISPLAY
TRIGGER:-PT2H
END:VALARM
END:VEVENT
BEGIN:VEVENT
CLASS:PUBLIC
DTSTART:20251118T190000Z
DURATION:PT2H30M
STATUS:CONFIRMED
SUMMARY:Altonaer Kickerkraken vs. Kickertruppe (NR)
DESCRIPTION:2. Liga, Gruppe A (5. Spieltag)
LOCATION:Deutsche Seemannsmission Hamburg-Altona, Große Elbstraße 132, 22767 Hamburg-Altona
UID:SM-B17594@stage.kickern-hamburg.de
PRIORITY:5
SEQUENCE:0
CATEGORIES:SPORT
DTSTAMP:20260423T115908
BEGIN:VALARM
ACTION:DISPLAY
TRIGGER:-PT2H
END:VALARM
END:VEVENT
BEGIN:VEVENT
CLASS:PUBLIC
DTSTART:20251202T190000Z
DURATION:PT2H30M
STATUS:CONFIRMED
SUMMARY:Kickertruppe (NR) vs. Solaris
DESCRIPTION:2. Liga, Gruppe A (6. Spieltag)
LOCATION:CloudSeeds GmbH, Wendenstraße 377, 20537 Hamburg
UID:SM-B17598@stage.kickern-hamburg.de
PRIORITY:5
SEQUENCE:0
CATEGORIES:SPORT
DTSTAMP:20260423T115908
BEGIN:VALARM
ACTION:DISPLAY
TRIGGER:-PT2H
END:VALARM
END:VEVENT
BEGIN:VEVENT
CLASS:PUBLIC
DTSTART:20260108T190000Z
DURATION:PT2H30M
STATUS:CONFIRMED
SUMMARY:1800 Sauna Club vs. Kickertruppe (NR)
DESCRIPTION:2. Liga, Gruppe A (7. Spieltag)
LOCATION:KIXX, Nobistor 38, 22767 Hamburg-Altona-Altstadt
UID:SM-B17606@stage.kickern-hamburg.de
PRIORITY:5
SEQUENCE:0
CATEGORIES:SPORT
DTSTAMP:20260423T115908
BEGIN:VALARM
ACTION:DISPLAY
TRIGGER:-PT2H
END:VALARM
END:VEVENT
BEGIN:VEVENT
CLASS:PUBLIC
DTSTART:20260120T190000Z
DURATION:PT2H30M
STATUS:CONFIRMED
SUMMARY:Kickertruppe (NR) vs. 253 (NR)
DESCRIPTION:2. Liga, Gruppe A (8. Spieltag)
LOCATION:CloudSeeds GmbH, Wendenstraße 377, 20537 Hamburg
UID:SM-B17618@stage.kickern-hamburg.de
PRIORITY:5
SEQUENCE:0
CATEGORIES:SPORT
DTSTAMP:20260423T115908
BEGIN:VALARM
ACTION:DISPLAY
TRIGGER:-PT2H
END:VALARM
END:VEVENT
BEGIN:VEVENT
CLASS:PUBLIC
DTSTART:20260204T190000Z
DURATION:PT2H30M
STATUS:CONFIRMED
SUMMARY:Anboard vs. Kickertruppe (NR)
DESCRIPTION:2. Liga, Gruppe A (9. Spieltag)
LOCATION:Deutsche Seemannsmission Hamburg-Altona, Große Elbstraße 132, 22767 Hamburg-Altona
UID:SM-B17634@stage.kickern-hamburg.de
PRIORITY:5
SEQUENCE:0
CATEGORIES:SPORT
DTSTAMP:20260423T115908
BEGIN:VALARM
ACTION:DISPLAY
TRIGGER:-PT2H
END:VALARM
END:VEVENT
BEGIN:VEVENT
CLASS:PUBLIC
DTSTART:20260217T190000Z
DURATION:PT2H30M
STATUS:CONFIRMED
SUMMARY:Kickertruppe (NR) vs. WunderBars (NR)
DESCRIPTION:2. Liga, Gruppe A (10. Spieltag)
LOCATION:CloudSeeds GmbH, Wendenstraße 377, 20537 Hamburg
UID:SM-B17549@stage.kickern-hamburg.de
PRIORITY:5
SEQUENCE:0
CATEGORIES:SPORT
DTSTAMP:20260423T115908
BEGIN:VALARM
ACTION:DISPLAY
TRIGGER:-PT2H
END:VALARM
END:VEVENT
BEGIN:VEVENT
CLASS:PUBLIC
DTSTART:20260318T190000Z
DURATION:PT2H30M
STATUS:CONFIRMED
SUMMARY:Foosball Club FC St. Pauli vs. Kickertruppe (NR)
DESCRIPTION:2. Liga, Gruppe A (11. Spieltag)
LOCATION:Hannes & Hanna Wohnzimmer (Raucher), Weidenallee 60, 20357 Hamburg-Eimsbüttel
UID:SM-B17559@stage.kickern-hamburg.de
PRIORITY:5
SEQUENCE:0
CATEGORIES:SPORT
DTSTAMP:20260423T115908
BEGIN:VALARM
ACTION:DISPLAY
TRIGGER:-PT2H
END:VALARM
END:VEVENT
BEGIN:VEVENT
CLASS:PUBLIC
DTSTART:20260331T180000Z
DURATION:PT2H30M
STATUS:CONFIRMED
SUMMARY:Kickertruppe (NR) vs. Tingeltangel FC St. Pauli
DESCRIPTION:2. Liga, Gruppe A (12. Spieltag)
LOCATION:CloudSeeds GmbH, Wendenstraße 377, 20537 Hamburg
UID:SM-B17573@stage.kickern-hamburg.de
PRIORITY:5
SEQUENCE:0
CATEGORIES:SPORT
DTSTAMP:20260423T115908
BEGIN:VALARM
ACTION:DISPLAY
TRIGGER:-PT2H
END:VALARM
END:VEVENT
BEGIN:VEVENT
CLASS:PUBLIC
DTSTART:20260414T180000Z
DURATION:PT2H30M
STATUS:CONFIRMED
SUMMARY:Kicksiders (NR) vs. Kickertruppe (NR)
DESCRIPTION:2. Liga, Gruppe A (13. Spieltag)
LOCATION:Sidekick, Winsener Straße 190, 21077 Hamburg-Harburg
UID:SM-B17579@stage.kickern-hamburg.de
PRIORITY:5
SEQUENCE:0
CATEGORIES:SPORT
DTSTAMP:20260423T115908
BEGIN:VALARM
ACTION:DISPLAY
TRIGGER:-PT2H
END:VALARM
END:VEVENT
BEGIN:VEVENT
CLASS:PUBLIC
DTSTART:20260428T180000Z
DURATION:PT2H30M
STATUS:CONFIRMED
SUMMARY:Kickertruppe (NR) vs. Altonaer Kickerkraken
DESCRIPTION:2. Liga, Gruppe A (14. Spieltag)
LOCATION:CloudSeeds GmbH, Wendenstraße 377, 20537 Hamburg
UID:SM-B17595@stage.kickern-hamburg.de
PRIORITY:5
SEQUENCE:0
CATEGORIES:SPORT
DTSTAMP:20260423T115908
BEGIN:VALARM
ACTION:DISPLAY
TRIGGER:-PT2H
END:VALARM
END:VEVENT
BEGIN:VEVENT
CLASS:PUBLIC
DTSTART:20260519T180000Z
DURATION:PT2H30M
STATUS:CONFIRMED
SUMMARY:Solaris vs. Kickertruppe (NR)
DESCRIPTION:2. Liga, Gruppe A (15. Spieltag)
LOCATION:KIXX, Nobistor 38, 22767 Hamburg-Altona-Altstadt
UID:SM-B17599@stage.kickern-hamburg.de
PRIORITY:5
SEQUENCE:0
CATEGORIES:SPORT
DTSTAMP:20260423T115908
BEGIN:VALARM
ACTION:DISPLAY
TRIGGER:-PT2H
END:VALARM
END:VEVENT
BEGIN:VEVENT
CLASS:PUBLIC
DTSTART:20260602T180000Z
DURATION:PT2H30M
STATUS:CONFIRMED
SUMMARY:Kickertruppe (NR) vs. 1800 Sauna Club
DESCRIPTION:2. Liga, Gruppe A (16. Spieltag)
LOCATION:CloudSeeds GmbH, Wendenstraße 377, 20537 Hamburg
UID:SM-B17607@stage.kickern-hamburg.de
PRIORITY:5
SEQUENCE:0
CATEGORIES:SPORT
DTSTAMP:20260423T115908
BEGIN:VALARM
ACTION:DISPLAY
TRIGGER:-PT2H
END:VALARM
END:VEVENT
BEGIN:VEVENT
CLASS:PUBLIC
DTSTART:20260616T180000Z
DURATION:PT2H30M
STATUS:CONFIRMED
SUMMARY:253 (NR) vs. Kickertruppe (NR)
DESCRIPTION:2. Liga, Gruppe A (17. Spieltag)
LOCATION:KIXX, Nobistor 38, 22767 Hamburg-Altona-Altstadt
UID:SM-B17619@stage.kickern-hamburg.de
PRIORITY:5
SEQUENCE:0
CATEGORIES:SPORT
DTSTAMP:20260423T115908
BEGIN:VALARM
ACTION:DISPLAY
TRIGGER:-PT2H
END:VALARM
END:VEVENT
BEGIN:VEVENT
CLASS:PUBLIC
DTSTART:20260630T180000Z
DURATION:PT2H30M
STATUS:CONFIRMED
SUMMARY:Kickertruppe (NR) vs. Anboard
DESCRIPTION:2. Liga, Gruppe A (18. Spieltag)
LOCATION:CloudSeeds GmbH, Wendenstraße 377, 20537 Hamburg
UID:SM-B17635@stage.kickern-hamburg.de
PRIORITY:5
SEQUENCE:0
CATEGORIES:SPORT
DTSTAMP:20260423T115908
BEGIN:VALARM
ACTION:DISPLAY
TRIGGER:-PT2H
END:VALARM
END:VEVENT
END:VCALENDAR
